BEGIN:VCALENDAR
VERSION:2.0
PRODID:-//NH Audubon - ECPv6.15.11//NONSGML v1.0//EN
CALSCALE:GREGORIAN
METHOD:PUBLISH
X-WR-CALNAME:NH Audubon
X-ORIGINAL-URL:https://nhaudubon.org
X-WR-CALDESC:Events for NH Audubon
REFRESH-INTERVAL;VALUE=DURATION:PT1H
X-Robots-Tag:noindex
X-PUBLISHED-TTL:PT1H
BEGIN:VTIMEZONE
TZID:America/New_York
BEGIN:DAYLIGHT
TZOFFSETFROM:-0500
TZOFFSETTO:-0400
TZNAME:EDT
DTSTART:20230312T070000
END:DAYLIGHT
BEGIN:STANDARD
TZOFFSETFROM:-0400
TZOFFSETTO:-0500
TZNAME:EST
DTSTART:20231105T060000
END:STANDARD
BEGIN:DAYLIGHT
TZOFFSETFROM:-0500
TZOFFSETTO:-0400
TZNAME:EDT
DTSTART:20240310T070000
END:DAYLIGHT
BEGIN:STANDARD
TZOFFSETFROM:-0400
TZOFFSETTO:-0500
TZNAME:EST
DTSTART:20241103T060000
END:STANDARD
BEGIN:DAYLIGHT
TZOFFSETFROM:-0500
TZOFFSETTO:-0400
TZNAME:EDT
DTSTART:20250309T070000
END:DAYLIGHT
BEGIN:STANDARD
TZOFFSETFROM:-0400
TZOFFSETTO:-0500
TZNAME:EST
DTSTART:20251102T060000
END:STANDARD
BEGIN:DAYLIGHT
TZOFFSETFROM:-0500
TZOFFSETTO:-0400
TZNAME:EDT
DTSTART:20260308T070000
END:DAYLIGHT
BEGIN:STANDARD
TZOFFSETFROM:-0400
TZOFFSETTO:-0500
TZNAME:EST
DTSTART:20261101T060000
END:STANDARD
END:VTIMEZONE
BEGIN:VEVENT
DTSTART;TZID=America/New_York:20250125T090000
DTEND;TZID=America/New_York:20250125T113000
DTSTAMP:20260421T175603
CREATED:20241216T201730Z
LAST-MODIFIED:20241216T204140Z
UID:10002939-1737795600-1737804600@nhaudubon.org
SUMMARY:Forestry for the Birds & Climate Resilience Tour at Willard Pond Wildlife Sanctuary
DESCRIPTION:This winter\, NH Audubon is partnering with forestry & wildlife professionals to conduct a timber harvest at the Willard Pond Sanctuary to enhance habitat diversity for birds and other wildlife as well as the forest’s resilience to climate change. Join us for a walking tour of the active timber harvest to learn about this project and see timber harvesting equipment in action. During our walk we will discuss why this timber harvest is happening\, the process used to plan and implement the timber harvest\, and how birds and other wildlife are expected to respond. This walk is ideal for anyone interested in learning more about any aspect of timber harvesting and it will be particularly helpful for folks interested in learning how timber harvesting can be used to benefit a variety of bird species. This is an active timber harvest so the route for the tour will be on uneven ground and will be hilly and slippery in some areas. This tour will be lead by Jeremy Turner (Meadowsend Consulting Co.)\, Matt Tarr (State Wildlife Habitat Specialist\, UNH Cooperative Extension)\, Mike Gagnon (Hillsborough Co. Extension Forester)\, Marc Nutter (NH Audubon Conservation Program Director). NH Licensed Forester and SAF CEUs will be provided. \n  \nBios:\nJeremy Turner: Jeremy has been working with NH Audubon for over a decade\, helping to manage our forests with birds and climate resilience in mind. You can see his great work on the Kensan-Devan Wildlife Sanctuary. More about Jeremy can be found on the Meadowsend website. \nMatt Tarr: Matt is a professional wildlife biologist and NH Licensed forester. As State Wildlife Habitat Specialist for UNH Cooperative Extension he works throughout NH in close partnership with the NH Fish & Game Department to assist private landowners and communities improve habitat for wildlife. His specialties include planning commercial timber harvesting to improve forested wildlife habitat\, shrubland and young forest ecology & management\, field management to benefit vertebrate & invertebrate wildlife\, wetlands wildlife ecology\, the role of native and invasive plants as habitat for wildlife\, and bird ecology & identification. \nMike Gagnon: Mike is an Extension Forester and Field Specialist in Natural Resources for the University of New Hampshire Cooperative Extension in Hillsborough County. Mike works primarily with communities and private landowners to help assist and educate them on forest resource issues to help them better meet their stewardship goals. Mike’s work also focuses on management of invasive nuisance vegetation within the Natural Resources team at Extension. Mike is a NH Licensed Forester and NH Licensed Pesticide Applicator and works as part of the Extension Pesticide Safety Education Program team. Mike has an associate degree in forest technology from the Thompson School of Applied Sciences at UNH\, and a bachelor’s and a master’s degree in natural resources & forestry from the University of New Hampshire. \n  \nCover photo: Walking through the seed cut of the Kensan-Devan Wildlife Sanctuary in 2021\, Phil Brown and Jeremy Turner appreciate the early successional habitat that was created in this patch cut. Wildlife snags were also left to encourage insects and cavity nesters.
URL:https://nhaudubon.org/event/forestry-tour-at-willard-pond-wildlife-sanctuary/
LOCATION:Willard Pond Wildlife Sanctuary\, Willard Pond Road\, Antrim\, NH\, 03440\, United States
ATTACH;FMTTYPE=image/jpeg:https://nhaudubon.org/wp-content/uploads/Walking-through-the-seed-cut-rotated-scaled.jpg
ORGANIZER;CN="Marc Nutter":MAILTO:mnutter@nhaudubon.org
END:VEVENT
BEGIN:VEVENT
DTSTART;TZID=America/New_York:20240629T100000
DTEND;TZID=America/New_York:20240629T140000
DTSTAMP:20260421T175603
CREATED:20240520T173121Z
LAST-MODIFIED:20240520T173122Z
UID:10002638-1719655200-1719669600@nhaudubon.org
SUMMARY:Membership Pop-up Table
DESCRIPTION:Plan a hike\, bird walk\, kayak or swim\, and stop by and say hello to Jen Thomas\, Membership & Development Coordinator at the dePierrefeu-Willard Pond Wildlife Sanctuary. Not a member yet? You can sign up that day and get more information about discounts and other benefits. Already a member? Stop by to grab an appreciation item that will come in handy during whatever outdoor adventure you have planned! \nPhoto: Willard Pond from Bald Mountain by Phil Brown.
URL:https://nhaudubon.org/event/membership-pop-up-table-june/
LOCATION:Willard Pond Wildlife Sanctuary\, Willard Pond Road\, Antrim\, NH\, 03440\, United States
ATTACH;FMTTYPE=image/jpeg:https://nhaudubon.org/wp-content/uploads/Willard-Pond-from-Bald-Mountain-by-Phil-Brown.jpg
ORGANIZER;CN="Jen Thomas":MAILTO:jthomas@nhaudubon.org
END:VEVENT
END:VCALENDAR