BEGIN:VCALENDAR
VERSION:2.0
PRODID:-//NH Audubon - ECPv6.15.11//NONSGML v1.0//EN
CALSCALE:GREGORIAN
METHOD:PUBLISH
X-WR-CALNAME:NH Audubon
X-ORIGINAL-URL:https://nhaudubon.org
X-WR-CALDESC:Events for NH Audubon
REFRESH-INTERVAL;VALUE=DURATION:PT1H
X-Robots-Tag:noindex
X-PUBLISHED-TTL:PT1H
BEGIN:VTIMEZONE
TZID:America/New_York
BEGIN:DAYLIGHT
TZOFFSETFROM:-0500
TZOFFSETTO:-0400
TZNAME:EDT
DTSTART:20210314T070000
END:DAYLIGHT
BEGIN:STANDARD
TZOFFSETFROM:-0400
TZOFFSETTO:-0500
TZNAME:EST
DTSTART:20211107T060000
END:STANDARD
BEGIN:DAYLIGHT
TZOFFSETFROM:-0500
TZOFFSETTO:-0400
TZNAME:EDT
DTSTART:20220313T070000
END:DAYLIGHT
BEGIN:STANDARD
TZOFFSETFROM:-0400
TZOFFSETTO:-0500
TZNAME:EST
DTSTART:20221106T060000
END:STANDARD
BEGIN:DAYLIGHT
TZOFFSETFROM:-0500
TZOFFSETTO:-0400
TZNAME:EDT
DTSTART:20230312T070000
END:DAYLIGHT
BEGIN:STANDARD
TZOFFSETFROM:-0400
TZOFFSETTO:-0500
TZNAME:EST
DTSTART:20231105T060000
END:STANDARD
END:VTIMEZONE
BEGIN:VEVENT
DTSTART;TZID=America/New_York:20220611T080000
DTEND;TZID=America/New_York:20220611T100000
DTSTAMP:20260422T003542
CREATED:20220526T180221Z
LAST-MODIFIED:20220526T181944Z
UID:10000875-1654934400-1654941600@nhaudubon.org
SUMMARY:Concord Area Beginner Bird Walks - June 11
DESCRIPTION:Beginner Bird Walks: Concord Area \n8am West Locke Road (dirt)\, Concord. Park along Locke Road (paved road) and do not block gate on dirt road. \nJoin NH Audubon for a birding walk along trails in the Concord area. \nThis is a 1-2 hour-long\, informal birding walk that explores trails in the Concord area with Mark Suomala\, experienced birder and weekly Rare Bird Alert compiler. All ages and skill levels of birders are welcome. If you are new to birding\, come and learn the basics! If you are an avid birder\, come to learn new techniques\, network with other birders\, or share your expertise with the group. \nCost: $8 Members/$10 Non-members. Registration is required; please purchase your tickets (below)\, although there are no actual hard-copy tickets. \nWear sturdy shoes\, and bring binoculars\, sunscreen (or rain gear)\, and bug repellent. Please leave pets at home. Several pairs of binoculars will be available for you to use on the walk at no extra cost. \nCapacity: 20 people \n\nGoogle Maps Pin: https://goo.gl/maps/Ytt2rjJ52mN8e4MU8\n\nPhoto: White-throated Sparrow (Mark Suomala).
URL:https://nhaudubon.org/event/concord-area-beginner-bird-walks-june-11/
LOCATION:West Locke Road\, 27 Locke Road\, Concord\, NH\, 03301\, United States
CATEGORIES:Field Trip,Nature Walk
ATTACH;FMTTYPE=image/jpeg:https://nhaudubon.org/wp-content/uploads/White-throated-Sparrow_Mark-Suomala-e1651255659327.jpg
ORGANIZER;CN="Marc Nutter":MAILTO:mnutter@nhaudubon.org
END:VEVENT
BEGIN:VEVENT
DTSTART;TZID=America/New_York:20220522T080000
DTEND;TZID=America/New_York:20220522T100000
DTSTAMP:20260422T003542
CREATED:20220429T175800Z
LAST-MODIFIED:20220429T175941Z
UID:10001048-1653206400-1653213600@nhaudubon.org
SUMMARY:Concord Area Beginner Bird Walks - May 22
DESCRIPTION:Beginner Bird Walks: Concord Area \n8am West Locke Road (dirt)\, Concord. Park along Locke Road (paved road) and do not block gate on dirt road. \nJoin NH Audubon for a birding walk along trails in the Concord area. \nThis is a 1-2 hour-long\, informal birding walk that explores trails in the Concord area with Mark Suomala\, experienced birder and weekly Rare Bird Alert compiler. All ages and skill levels of birders are welcome. If you are new to birding\, come and learn the basics! If you are an avid birder\, come to learn new techniques\, network with other birders\, or share your expertise with the group. \nCost: $8 Members/$10 Non-members. Registration is required; please purchase your tickets (below)\, although there are no actual hard-copy tickets. \nWear sturdy shoes\, and bring binoculars\, sunscreen (or rain gear)\, and bug repellent. Please leave pets at home. Several pairs of binoculars will be available for you to use on the walk at no extra cost. \nCapacity: 20 people \n\nGoogle Maps Pin: https://goo.gl/maps/Ytt2rjJ52mN8e4MU8\n\nPhoto: White-throated Sparrow (Mark Suomala).
URL:https://nhaudubon.org/event/concord-area-beginner-bird-walks-may-22/
LOCATION:West Locke Road\, 27 Locke Road\, Concord\, NH\, 03301\, United States
CATEGORIES:Field Trip,Nature Walk
ATTACH;FMTTYPE=image/jpeg:https://nhaudubon.org/wp-content/uploads/White-throated-Sparrow_Mark-Suomala-e1651255659327.jpg
ORGANIZER;CN="Marc Nutter":MAILTO:mnutter@nhaudubon.org
END:VEVENT
END:VCALENDAR