BEGIN:VCALENDAR
VERSION:2.0
PRODID:-//NH Audubon - ECPv6.15.11//NONSGML v1.0//EN
CALSCALE:GREGORIAN
METHOD:PUBLISH
X-WR-CALNAME:NH Audubon
X-ORIGINAL-URL:https://nhaudubon.org
X-WR-CALDESC:Events for NH Audubon
REFRESH-INTERVAL;VALUE=DURATION:PT1H
X-Robots-Tag:noindex
X-PUBLISHED-TTL:PT1H
BEGIN:VTIMEZONE
TZID:America/New_York
BEGIN:DAYLIGHT
TZOFFSETFROM:-0500
TZOFFSETTO:-0400
TZNAME:EDT
DTSTART:20220313T070000
END:DAYLIGHT
BEGIN:STANDARD
TZOFFSETFROM:-0400
TZOFFSETTO:-0500
TZNAME:EST
DTSTART:20221106T060000
END:STANDARD
BEGIN:DAYLIGHT
TZOFFSETFROM:-0500
TZOFFSETTO:-0400
TZNAME:EDT
DTSTART:20230312T070000
END:DAYLIGHT
BEGIN:STANDARD
TZOFFSETFROM:-0400
TZOFFSETTO:-0500
TZNAME:EST
DTSTART:20231105T060000
END:STANDARD
BEGIN:DAYLIGHT
TZOFFSETFROM:-0500
TZOFFSETTO:-0400
TZNAME:EDT
DTSTART:20240310T070000
END:DAYLIGHT
BEGIN:STANDARD
TZOFFSETFROM:-0400
TZOFFSETTO:-0500
TZNAME:EST
DTSTART:20241103T060000
END:STANDARD
END:VTIMEZONE
BEGIN:VEVENT
DTSTART;TZID=America/New_York:20231015T080000
DTEND;TZID=America/New_York:20231015T090000
DTSTAMP:20260421T111418
CREATED:20230919T142907Z
LAST-MODIFIED:20230919T190655Z
UID:10002179-1697356800-1697360400@nhaudubon.org
SUMMARY:Fall Bird Walk at the Wentworth-Coolidge Mansion
DESCRIPTION:Join NH Audubon President Doug Bechtel for an exploration of the Harbor Trail at Wentworth-Coolidge Mansion in Portsmouth\, NH on Sunday\, October 15 at 8am. There should be much to find during the fall migration. This walk is free; please use the RSVP button below to sign up. \nWe will meet at the entrance to the trail in the parking lot.
URL:https://nhaudubon.org/event/fall-bird-walk-at-the-wentworth-coolidge-mansion/
LOCATION:Wentworth-Coolidge Mansion\, 375 Little Harbor Road\, Portsmouth\, NH\, 03801
CATEGORIES:Bird Walk
ATTACH;FMTTYPE=image/jpeg:https://nhaudubon.org/wp-content/uploads/Wentworth-Coolidge-Mansion-Spetmber-2023.jpg
ORGANIZER;CN="Dyanna Smith":MAILTO:dsmith@nhaudubon.org
END:VEVENT
END:VCALENDAR