BEGIN:VCALENDAR
VERSION:2.0
PRODID:-//NH Audubon - ECPv6.15.11//NONSGML v1.0//EN
CALSCALE:GREGORIAN
METHOD:PUBLISH
X-ORIGINAL-URL:https://nhaudubon.org
X-WR-CALDESC:Events for NH Audubon
REFRESH-INTERVAL;VALUE=DURATION:PT1H
X-Robots-Tag:noindex
X-PUBLISHED-TTL:PT1H
BEGIN:VTIMEZONE
TZID:America/New_York
BEGIN:DAYLIGHT
TZOFFSETFROM:-0500
TZOFFSETTO:-0400
TZNAME:EDT
DTSTART:20230312T070000
END:DAYLIGHT
BEGIN:STANDARD
TZOFFSETFROM:-0400
TZOFFSETTO:-0500
TZNAME:EST
DTSTART:20231105T060000
END:STANDARD
BEGIN:DAYLIGHT
TZOFFSETFROM:-0500
TZOFFSETTO:-0400
TZNAME:EDT
DTSTART:20240310T070000
END:DAYLIGHT
BEGIN:STANDARD
TZOFFSETFROM:-0400
TZOFFSETTO:-0500
TZNAME:EST
DTSTART:20241103T060000
END:STANDARD
BEGIN:DAYLIGHT
TZOFFSETFROM:-0500
TZOFFSETTO:-0400
TZNAME:EDT
DTSTART:20250309T070000
END:DAYLIGHT
BEGIN:STANDARD
TZOFFSETFROM:-0400
TZOFFSETTO:-0500
TZNAME:EST
DTSTART:20251102T060000
END:STANDARD
END:VTIMEZONE
BEGIN:VEVENT
DTSTART;TZID=America/New_York:20240516T070000
DTEND;TZID=America/New_York:20240516T110000
DTSTAMP:20260421T074537
CREATED:20240411T211527Z
LAST-MODIFIED:20240411T211528Z
UID:10002530-1715842800-1715857200@nhaudubon.org
SUMMARY:Weeks State Park Migratory Bird Day Walk
DESCRIPTION:The Weeks State Park Migratory Bird Day Walk is Thursday\, May 16\, 2024. The walk starts at 7 am at the Parking Lot at the start of the Weeks State Park Summit Road\, just off of US Route 3 in Lancaster. We will then take a leisurely 3-mile round trip walk along the Auto Road to the summit of Mt Prospect\, gaining 800 feet of elevation. Along the way\, we should see various warblers\, vireos\, and flycatchers\, as well as a variety of spring wildflowers. \nWe typically finish at 11 am and then offer an optional side trip to Martin Meadow Pond\, where we will look for loons\, osprey\, and bald eagles. The birding walk is sponsored by the Weeks State Park Association and is free and open to the public. \nThe theme of World Migratory Bird Day 2024 is “Protect Insects\, Protect Birds.” Free educational posters featuring this theme will be available. \nThe Weeks State Park Association website. \nIf you have any questions\, contact the organizer David Govatski at David.Govatski@gmail.com. \n 
URL:https://nhaudubon.org/event/weeks-state-park-migratory-bird-day-walk/
LOCATION:Weeks State Park\, Summit Road\, Route 3\, Lancaster\, NH\, 03584\, United States
CATEGORIES:Bird Walk
ATTACH;FMTTYPE=image/jpeg:https://nhaudubon.org/wp-content/uploads/wmbd-2024.jpg
ORGANIZER;CN="David Govatski":MAILTO:David.Govatski@gmail.com
END:VEVENT
END:VCALENDAR