BEGIN:VCALENDAR
VERSION:2.0
PRODID:-//NH Audubon - ECPv6.15.11//NONSGML v1.0//EN
CALSCALE:GREGORIAN
METHOD:PUBLISH
X-WR-CALNAME:NH Audubon
X-ORIGINAL-URL:https://nhaudubon.org
X-WR-CALDESC:Events for NH Audubon
REFRESH-INTERVAL;VALUE=DURATION:PT1H
X-Robots-Tag:noindex
X-PUBLISHED-TTL:PT1H
BEGIN:VTIMEZONE
TZID:America/New_York
BEGIN:DAYLIGHT
TZOFFSETFROM:-0500
TZOFFSETTO:-0400
TZNAME:EDT
DTSTART:20210314T070000
END:DAYLIGHT
BEGIN:STANDARD
TZOFFSETFROM:-0400
TZOFFSETTO:-0500
TZNAME:EST
DTSTART:20211107T060000
END:STANDARD
BEGIN:DAYLIGHT
TZOFFSETFROM:-0500
TZOFFSETTO:-0400
TZNAME:EDT
DTSTART:20220313T070000
END:DAYLIGHT
BEGIN:STANDARD
TZOFFSETFROM:-0400
TZOFFSETTO:-0500
TZNAME:EST
DTSTART:20221106T060000
END:STANDARD
BEGIN:DAYLIGHT
TZOFFSETFROM:-0500
TZOFFSETTO:-0400
TZNAME:EDT
DTSTART:20230312T070000
END:DAYLIGHT
BEGIN:STANDARD
TZOFFSETFROM:-0400
TZOFFSETTO:-0500
TZNAME:EST
DTSTART:20231105T060000
END:STANDARD
BEGIN:DAYLIGHT
TZOFFSETFROM:-0500
TZOFFSETTO:-0400
TZNAME:EDT
DTSTART:20240310T070000
END:DAYLIGHT
BEGIN:STANDARD
TZOFFSETFROM:-0400
TZOFFSETTO:-0500
TZNAME:EST
DTSTART:20241103T060000
END:STANDARD
END:VTIMEZONE
BEGIN:VEVENT
DTSTART;TZID=America/New_York:20230211T080000
DTEND;TZID=America/New_York:20230212T170000
DTSTAMP:20260421T173317
CREATED:20230103T204958Z
LAST-MODIFIED:20230103T204958Z
UID:10001250-1676102400-1676221200@nhaudubon.org
SUMMARY:Backyard Winter Bird Survey 2023
DESCRIPTION:Join in the annual Backyard Winter Bird Survey this weekend\, where participants report any bird species visiting their yard and/or feeders in New Hampshire. Watch and count the birds in your yard at any time during the weekend. Report your findings online or by mail. \nFor full details\, visit the New Hampshire Bird Records website. \nIf you cannot do the survey but would like to support it\, make a donation here. \n 
URL:https://nhaudubon.org/event/backyard-winter-bird-survey-2023/
LOCATION:Statewide\, NH
CATEGORIES:Bird Count
ATTACH;FMTTYPE=image/jpeg:https://nhaudubon.org/wp-content/uploads/bluebirds-at-feeder-Len-Medlock.jpg
ORGANIZER;CN="Becky Suomala":MAILTO:mnutter@nhaudubon.org
END:VEVENT
BEGIN:VEVENT
DTSTART;VALUE=DATE:20220514
DTEND;VALUE=DATE:20220515
DTSTAMP:20260421T173317
CREATED:20220427T194924Z
LAST-MODIFIED:20220511T114737Z
UID:10001023-1652486400-1652572799@nhaudubon.org
SUMMARY:Big Day in May 2022
DESCRIPTION:Register to participate in Big Day on May 14\, 2022. \nUse this link to report on your findings at any time on Saturday and Sunday. \nFind out more\, here. \n 
URL:https://nhaudubon.org/event/big-day-in-may-2022/
LOCATION:Statewide\, NH
CATEGORIES:Bird Count
ATTACH;FMTTYPE=image/jpeg:https://nhaudubon.org/wp-content/uploads/Black-and-White-Warbler-Mark-Suomala.jpg
ORGANIZER;CN="Dyanna Smith":MAILTO:dsmith@nhaudubon.org
END:VEVENT
BEGIN:VEVENT
DTSTART;TZID=America/New_York:20220213T080000
DTEND;TZID=America/New_York:20220213T170000
DTSTAMP:20260421T173317
CREATED:20220124T194659Z
LAST-MODIFIED:20220124T194659Z
UID:10000951-1644739200-1644771600@nhaudubon.org
SUMMARY:Backyard Winter Bird Survey 2022
DESCRIPTION:Join in the annual Backyard Winter Bird Survey this weekend\, where participants report any bird species visiting their yard and/or feeders in New Hampshire. Watch and count the birds in your yard at any time during the weekend. Report your findings online or by mail. \nFor full details\, visit the New Hampshire Bird Records website. \nIf you cannot do the survey but would like to support it\, make a donation here. \n 
URL:https://nhaudubon.org/event/backyard-winter-bird-survey-2022-2/
LOCATION:Statewide\, NH
CATEGORIES:Bird Count
ATTACH;FMTTYPE=image/jpeg:https://nhaudubon.org/wp-content/uploads/bluebirds-at-feeder-Len-Medlock.jpg
ORGANIZER;CN="Becky Suomala":MAILTO:mnutter@nhaudubon.org
END:VEVENT
BEGIN:VEVENT
DTSTART;TZID=America/New_York:20220212T080000
DTEND;TZID=America/New_York:20220212T170000
DTSTAMP:20260421T173317
CREATED:20220105T192904Z
LAST-MODIFIED:20220124T194610Z
UID:10000948-1644652800-1644685200@nhaudubon.org
SUMMARY:Backyard Winter Bird Survey 2022
DESCRIPTION:Join in the annual Backyard Winter Bird Survey this weekend\, where participants report any bird species visiting their yard and/or feeders in New Hampshire. Watch and count the birds in your yard at any time during the weekend. Report your findings online or by mail. \nFor full details\, visit the New Hampshire Bird Records website. \nIf you cannot do the survey but would like to support it\, make a donation here. \n 
URL:https://nhaudubon.org/event/backyard-winter-bird-survey-2022/
LOCATION:Statewide\, NH
CATEGORIES:Bird Count
ATTACH;FMTTYPE=image/jpeg:https://nhaudubon.org/wp-content/uploads/bluebirds-at-feeder-Len-Medlock.jpg
ORGANIZER;CN="Becky Suomala":MAILTO:mnutter@nhaudubon.org
END:VEVENT
END:VCALENDAR