BEGIN:VCALENDAR
VERSION:2.0
PRODID:-//NH Audubon - ECPv6.15.11//NONSGML v1.0//EN
CALSCALE:GREGORIAN
METHOD:PUBLISH
X-WR-CALNAME:NH Audubon
X-ORIGINAL-URL:https://nhaudubon.org
X-WR-CALDESC:Events for NH Audubon
REFRESH-INTERVAL;VALUE=DURATION:PT1H
X-Robots-Tag:noindex
X-PUBLISHED-TTL:PT1H
BEGIN:VTIMEZONE
TZID:America/New_York
BEGIN:DAYLIGHT
TZOFFSETFROM:-0500
TZOFFSETTO:-0400
TZNAME:EDT
DTSTART:20250309T070000
END:DAYLIGHT
BEGIN:STANDARD
TZOFFSETFROM:-0400
TZOFFSETTO:-0500
TZNAME:EST
DTSTART:20251102T060000
END:STANDARD
BEGIN:DAYLIGHT
TZOFFSETFROM:-0500
TZOFFSETTO:-0400
TZNAME:EDT
DTSTART:20260308T070000
END:DAYLIGHT
BEGIN:STANDARD
TZOFFSETFROM:-0400
TZOFFSETTO:-0500
TZNAME:EST
DTSTART:20261101T060000
END:STANDARD
BEGIN:DAYLIGHT
TZOFFSETFROM:-0500
TZOFFSETTO:-0400
TZNAME:EDT
DTSTART:20270314T070000
END:DAYLIGHT
BEGIN:STANDARD
TZOFFSETFROM:-0400
TZOFFSETTO:-0500
TZNAME:EST
DTSTART:20271107T060000
END:STANDARD
END:VTIMEZONE
BEGIN:VEVENT
DTSTART;TZID=America/New_York:20260525T080000
DTEND;TZID=America/New_York:20260525T170000
DTSTAMP:20260423T090450
CREATED:20260406T174719Z
LAST-MODIFIED:20260415T142039Z
UID:10003798-1779696000-1779728400@nhaudubon.org
SUMMARY:Jeffrey's Ledge Pelagic Birding Trip
DESCRIPTION:Join NH Audubon aboard MV Granite State as we explore Jeffreys Ledge\, 20 miles off the New Hampshire coast. This is an all-day expedition (between 8-10 hours at sea)\, departing from Rye Harbor\, to look for pelagic (ocean-going) seabirds on Jeffreys Ledge\, although we’ll also keep an eye out for whales and other marine life. Jeffreys Ledge is an undersea ridge running northeast from near Rockport\, Massachusetts to near Cape Elizabeth\, Maine. Its steep sides produce upwellings of nutrient-rich waters that produce large amounts of food for seabirds and marine life. \nWhat we will see: From the upper deck\, a person with good binoculars can scan a circle of ocean a couple of miles across\, with a good chance of seeing groups of birds quite some distance away. On past trips\, we have seen four different species of Shearwater (Great\, Sooty\, Cory’s\, and Manx)\, Northern Gannets\, Red Phalaropes in remarkable numbers\, Wilson’s Storm-petrel\, jaegers\, an array of near-shore species\, and random migrants. We’ve also seen several different species of whales and dolphins\, including Fin\, Minke\, Right\, and Humpback Whales\, Harbor Porpoises\, Atlantic White-Sided Dolphins\, and once a rare Sperm Whale on the outer edge of Jeffreys Ledge. \nPresenters: Renowned birders and NH Audubon volunteers Steve and Jane Mirick will be our group leaders\, with Captain Pete Reynolds driving the boat. NH Audubon volunteer and avid birder Jon Woolf will coordinate logistics. \nFor mobility\, sensory\, behavioral\, or other accessibility accommodations\, please contact Lauren Betz. \nCost: $80 for NH Audubon members; $100 for non-members (Join or renew your membership today! Not sure of your membership status? Email our member services department or call (603) 224-9909 x310.) \nRegistration required below. NH Audubon’s ticket system utilizes PayPal to process payments. Users are not required to use PayPal to check out; a guest option is provided. PayPal is a trusted way to pay online. \nPlease note we have set a maximum of 50 people to allow for comfortable spacing and an enjoyable bird-watching experience. These trips sell out quickly. We expect our next pelagic tour to take place this September with registration announced at the end of the summer. \nThis trip is weather-dependent. Final decisions on whether we can comfortably set sail will be made the day before. There are no rain dates. First priority for registration will be granted to participants from the previous tour’s weather cancellation\, if applicable. \nConfirmation letters\, including the pre-trip webinar Zoom link and information about what to bring and what to wear\, will be sent to all participants after we sell out. \nPlease review NH Audubon’s Outdoor Education Program Liability Release & Agreement Waiver before registering. \nCover photo of a Cory’s Shearwater by Steve Mirick.
URL:https://nhaudubon.org/event/jeffreys-ledge-pelagic-birding-trip-spring-2026/
LOCATION:Rye Harbor\, 1870 Ocean Blvd (Rte 1A)\, Rye\, NH\, 03870\, United States
ATTACH;FMTTYPE=image/jpeg:https://nhaudubon.org/wp-content/uploads/Corys-Shearwater-28-July-19-Steve-Mirick-e1692039050266.jpg
ORGANIZER;CN="Lauren Betz":MAILTO:lbetz@nhaudubon.org
END:VEVENT
END:VCALENDAR