BEGIN:VCALENDAR
VERSION:2.0
PRODID:-//NH Audubon - ECPv6.15.11//NONSGML v1.0//EN
CALSCALE:GREGORIAN
METHOD:PUBLISH
X-ORIGINAL-URL:https://nhaudubon.org
X-WR-CALDESC:Events for NH Audubon
REFRESH-INTERVAL;VALUE=DURATION:PT1H
X-Robots-Tag:noindex
X-PUBLISHED-TTL:PT1H
BEGIN:VTIMEZONE
TZID:America/New_York
BEGIN:DAYLIGHT
TZOFFSETFROM:-0500
TZOFFSETTO:-0400
TZNAME:EDT
DTSTART:20200308T070000
END:DAYLIGHT
BEGIN:STANDARD
TZOFFSETFROM:-0400
TZOFFSETTO:-0500
TZNAME:EST
DTSTART:20201101T060000
END:STANDARD
BEGIN:DAYLIGHT
TZOFFSETFROM:-0500
TZOFFSETTO:-0400
TZNAME:EDT
DTSTART:20210314T070000
END:DAYLIGHT
BEGIN:STANDARD
TZOFFSETFROM:-0400
TZOFFSETTO:-0500
TZNAME:EST
DTSTART:20211107T060000
END:STANDARD
BEGIN:DAYLIGHT
TZOFFSETFROM:-0500
TZOFFSETTO:-0400
TZNAME:EDT
DTSTART:20220313T070000
END:DAYLIGHT
BEGIN:STANDARD
TZOFFSETFROM:-0400
TZOFFSETTO:-0500
TZNAME:EST
DTSTART:20221106T060000
END:STANDARD
BEGIN:DAYLIGHT
TZOFFSETFROM:-0500
TZOFFSETTO:-0400
TZNAME:EDT
DTSTART:20230312T070000
END:DAYLIGHT
BEGIN:STANDARD
TZOFFSETFROM:-0400
TZOFFSETTO:-0500
TZNAME:EST
DTSTART:20231105T060000
END:STANDARD
BEGIN:DAYLIGHT
TZOFFSETFROM:-0500
TZOFFSETTO:-0400
TZNAME:EDT
DTSTART:20240310T070000
END:DAYLIGHT
BEGIN:STANDARD
TZOFFSETFROM:-0400
TZOFFSETTO:-0500
TZNAME:EST
DTSTART:20241103T060000
END:STANDARD
BEGIN:DAYLIGHT
TZOFFSETFROM:-0500
TZOFFSETTO:-0400
TZNAME:EDT
DTSTART:20250309T070000
END:DAYLIGHT
BEGIN:STANDARD
TZOFFSETFROM:-0400
TZOFFSETTO:-0500
TZNAME:EST
DTSTART:20251102T060000
END:STANDARD
BEGIN:DAYLIGHT
TZOFFSETFROM:-0500
TZOFFSETTO:-0400
TZNAME:EDT
DTSTART:20260308T070000
END:DAYLIGHT
BEGIN:STANDARD
TZOFFSETFROM:-0400
TZOFFSETTO:-0500
TZNAME:EST
DTSTART:20261101T060000
END:STANDARD
END:VTIMEZONE
BEGIN:VEVENT
DTSTART;TZID=America/New_York:20251013T080000
DTEND;TZID=America/New_York:20251013T170000
DTSTAMP:20260423T111407
CREATED:20250708T144713Z
LAST-MODIFIED:20250722T141142Z
UID:10003390-1760342400-1760374800@nhaudubon.org
SUMMARY:Jeffrey's Ledge Pelagic Birding Trip
DESCRIPTION:*Trip date rescheduled to Monday\, October 13 (original date October 12)* \nJoin NH Audubon aboard MV Granite State as we explore Jeffreys Ledge\, 20 miles off the New Hampshire coast. This is an all-day expedition (between 8-10 hours at sea)\, departing from Rye Harbor\, to look for pelagic (ocean-going) seabirds on Jeffreys Ledge\, although we’ll also keep an eye out for whales and other marine life. Jeffreys Ledge is an undersea ridge running northeast from near Rockport\, Massachusetts to near Cape Elizabeth\, Maine. Its steep sides produce upwellings of nutrient-rich waters that produce a lot of food for seabirds and marine life. \nWhat we will see: From the upper deck\, a person with good binoculars can scan a circle of ocean a couple of miles across\, with a good chance of seeing groups of birds quite some distance away. On past fall trips\, we have seen four different species of Shearwater (Great\, Sooty\, Cory’s\, and Manx)\, Northern Gannets\, Red-necked Phalaropes in fall plumage\, Wilson’s Storm-petrel\, jaegers\, an array of near-shore species\, and random migrants. We’ve also seen several different species of whales and dolphins\, including Fin\, Minke\, Right\, and Humpback Whales\, Harbor Porpoises\, Atlantic White-Sided Dolphins\, and once a rare Sperm Whale on the outer edge of Jeffreys Ledge. \nPresenter: Renowned birders and NH Audubon volunteers Steve and Jane Mirick will be our group leaders\, with Captain Pete Reynolds driving the boat. NH Audubon volunteer and avid birder Jon Woolf will coordinate logistics. \nFor mobility\, sensory\, behavioral\, or other accessibility accommodations\, please contact Devin Guilfoyle. \nCost: $80 for NH Audubon members; $100 for non-members (Join or renew your membership today! Not sure of your membership status? Email our member services department or call (603) 224-9909 x310.) \nRegistration Required. NH Audubon’s ticket system utilizes PayPal to process payments. Users are not required to use PayPal to check out; a guest option is provided. PayPal is a trusted way to pay online. \nPlease note we have set a maximum of 50 people\, to allow for comfortable spacing and an enjoyable bird-watching experience. These trips sell out quickly\, and we do not run a waiting list. \nThis trip is weather-dependent. Final decisions on whether we can comfortably set sail will be made the day before. There are no rain dates. First priority for registration will be granted to participants from the previous tour’s weather cancellation\, if applicable. \nConfirmation letters\, including the webinar Zoom link and information about what to bring and what to wear\, will be sent to all participants after we sell out (typically in August). \nPlease review NH Audubon’s Outdoor Education Program Liability Release & Agreement Waiver before registering. \nCover photo of a Cory’s Shearwater by Steve Mirick.
URL:https://nhaudubon.org/event/jeffreys-ledge-pelagic-birding-trip-fall-2025/
LOCATION:Rye Harbor\, 1870 Ocean Blvd (Rte 1A)\, Rye\, NH\, 03870\, United States
CATEGORIES:Field Trip
ATTACH;FMTTYPE=image/jpeg:https://nhaudubon.org/wp-content/uploads/Corys-Shearwater-28-July-19-Steve-Mirick-e1692039050266.jpg
ORGANIZER;CN="Devin Guilfoyle":MAILTO:dguilfoyle@nhaudubon.org
END:VEVENT
BEGIN:VEVENT
DTSTART;TZID=America/New_York:20250526T080000
DTEND;TZID=America/New_York:20250526T170000
DTSTAMP:20260423T111407
CREATED:20250328T142029Z
LAST-MODIFIED:20250328T142030Z
UID:10003167-1748246400-1748278800@nhaudubon.org
SUMMARY:Jeffrey's Ledge Pelagic Birding Trip
DESCRIPTION:Join NH Audubon aboard MV Granite State as we explore Jeffreys Ledge\, 20 miles off the New Hampshire coast. This is an all-day expedition (between 8-10 hours at sea)\, departing from Rye Harbor\, to look for pelagic (ocean-going) seabirds on Jeffreys Ledge\, although we’ll also keep an eye out for whales and other marine life. Jeffreys Ledge is an undersea ridge running northeast from near Rockport\, Massachusetts to near Cape Elizabeth\, Maine. Its steep sides produce upwellings of nutrient-rich waters that produce a lot of food for seabirds and marine life. \nWhat we will see: From the upper deck\, a person with good binoculars can scan a circle of ocean a couple of miles across\, with a good chance of seeing groups of birds quite some distance away. On past fall trips\, we have seen four different species of Shearwater (Great\, Sooty\, Cory’s\, and Manx)\, Northern Gannets\, Red-necked Phalaropes in fall plumage\, Wilson’s Storm-petrel\, jaegers\, an array of near-shore species\, and random migrants. We’ve also seen several different species of whales and dolphins\, including Fin\, Minke\, Right\, and Humpback Whales\, Harbor Porpoises\, Atlantic White-Sided Dolphins\, and once a rare Sperm Whale on the outer edge of Jeffreys Ledge. \nPresenter: Renowned birders and NH Audubon volunteers Steve and Jane Mirick will be our group leaders\, with Captain Pete Reynolds driving the boat. NH Audubon volunteer and avid birder Jon Woolf will coordinate logistics. \nFor mobility\, sensory\, behavioral\, or other accessibility accommodations\, please contact Slater Roosa. \nCost: $80 for NH Audubon members; $100 for non-members (Join or renew your membership today! Not sure of your membership status? Email our member services department or call (603) 224-9909 x310.) \nRegistration Required. NH Audubon’s ticket system utilizes PayPal to process payments. Users are not required to use PayPal to check out; a guest option is provided. PayPal is a trusted way to pay online. \nPlease note we have set a maximum of 50 people\, to allow for comfortable spacing and an enjoyable bird-watching experience. These trips sell out quickly\, and we do not run a waiting list. \nThis trip is weather-dependent. Final decisions on whether we can comfortably set sail will be made the day before. There are no rain dates. First priority for registration will be granted to participants from the previous tour’s weather cancellation\, if applicable. \nConfirmation letters\, including the webinar Zoom link and information about what to bring and what to wear\, will be sent to all participants after we sell out (typically in early May). \nPlease review NH Audubon’s Outdoor Education Program Liability Release & Agreement Waiver before registering. \nCover photo of a Cory’s Shearwater by Steve Mirick.
URL:https://nhaudubon.org/event/jeffreys-ledge-pelagic-birding-trip-spring-2025/
LOCATION:Rye Harbor\, 1870 Ocean Blvd (Rte 1A)\, Rye\, NH\, 03870\, United States
CATEGORIES:Field Trip
ATTACH;FMTTYPE=image/jpeg:https://nhaudubon.org/wp-content/uploads/Corys-Shearwater-28-July-19-Steve-Mirick-e1692039050266.jpg
ORGANIZER;CN="Devin Guilfoyle":MAILTO:dguilfoyle@nhaudubon.org
END:VEVENT
BEGIN:VEVENT
DTSTART;TZID=America/New_York:20240903T080000
DTEND;TZID=America/New_York:20240903T170000
DTSTAMP:20260423T111407
CREATED:20240801T143725Z
LAST-MODIFIED:20240829T195905Z
UID:10002743-1725350400-1725382800@nhaudubon.org
SUMMARY:Fall Pelagic Birding Trip
DESCRIPTION:Join NH Audubon aboard MV Granite State as we explore Jeffreys Ledge\, 20 miles off the New Hampshire coast. This is an all-day expedition (between 8-10 hours at sea)\, departing from Rye Harbor\, to look for pelagic (ocean-going) seabirds on Jeffreys Ledge\, although we’ll also keep an eye out for whales and other marine life. Jeffreys Ledge is an undersea ridge running northeast from near Rockport\, Massachusetts to near Cape Elizabeth\, Maine. Its steep sides produce upwellings of nutrient-rich waters that produce a lot of food for seabirds and marine life. \nWhat we will see:\nFrom the upper deck\, a person with good binoculars can scan a circle of ocean a couple of miles across\, with a good chance of seeing groups of birds quite some distance away. On past fall trips\, we have seen four different species of Shearwater (Great\, Sooty\, Cory’s\, and Manx)\, Northern Gannets\, Red-necked Phalaropes in fall plumage\, Wilson’s Storm-petrel\, jaegers\, an array of near-shore species\, and random migrants. We’ve also seen several different species of whales and dolphins\, including Fin\, Minke\, Right\, and Humpback Whales\, Harbor Porpoises\, Atlantic White-Sided Dolphins\, and once a rare Sperm Whale on the outer edge of Jeffreys Ledge. \nPresenter:\nRenowned birders and NH Audubon volunteers Steve and Jane Mirick will be our group leaders\, with Captain Pete Reynolds driving the boat. NH Audubon volunteer and avid birder Jon Woolf will coordinate logistics. \nFor mobility\, sensory\, behavioral\, or other accessibility accommodations\, please contact Slater Roosa. \nCost:\n$80 for NH Audubon members\n$100 for non-members (Join or renew your membership today! Not sure of your membership status? Email our member services department or call (603) 224-9909 x310.) \nRegistration Required.\nNH Audubon’s ticket system utilizes PayPal to process payments. Users are not required to use PayPal to check out; a guest option is provided. PayPal is a trusted way to pay online. \nPlease note we have set a maximum of 50 people\, to allow for comfortable spacing and an enjoyable bird-watching experience. These trips sell out quickly\, and we do not run a waiting list. \nThis trip is weather-dependent. Final decisions on whether we can comfortably set sail will be made the day before. There are no rain dates. First priority for registration will be granted to participants from the previous tour’s weather cancellation\, if applicable. \nConfirmation letters\, including the webinar Zoom link and information about what to bring and what to wear\, will be sent to all participants after we sell out (typically in early September). \nPhoto: Corys Shearwater\, Steve Mirick.
URL:https://nhaudubon.org/event/fall-pelagic-birding-trip-2024/
LOCATION:Rye Harbor\, 1870 Ocean Blvd (Rte 1A)\, Rye\, NH\, 03870\, United States
ATTACH;FMTTYPE=image/jpeg:https://nhaudubon.org/wp-content/uploads/Corys-Shearwater-28-July-19-Steve-Mirick-e1692039050266.jpg
ORGANIZER;CN="Slater Roosa":MAILTO:sroosa@nhaudubon.org
END:VEVENT
BEGIN:VEVENT
DTSTART;TZID=America/New_York:20240527T080000
DTEND;TZID=America/New_York:20240527T170000
DTSTAMP:20260423T111407
CREATED:20240401T152923Z
LAST-MODIFIED:20240401T154819Z
UID:10002521-1716796800-1716829200@nhaudubon.org
SUMMARY:Jeffrey's Ledge Pelagic Birding Trip
DESCRIPTION:Join NH Audubon aboard MV Granite State as we explore Jeffreys Ledge\, 20 miles off the New Hampshire coast. This is an all-day expedition (between 8-10 hours at sea)\, departing from Rye Harbor\, to look for pelagic (ocean-going) seabirds on Jeffreys Ledge\, although we’ll also keep an eye out for whales and other marine life. Jeffreys Ledge is an undersea ridge running northeast from near Rockport\, Massachusetts to near Cape Elizabeth\, Maine. Its steep sides produce upwellings of nutrient-rich waters that produce a lot of food for seabirds and marine life. \nWhat we will see:\nFrom the upper deck\, a person with good binoculars can scan a circle of ocean a couple of miles across\, with a good chance of seeing groups of birds quite some distance away. On past fall trips\, we have seen four different species of Shearwater (Great\, Sooty\, Cory’s\, and Manx)\, Northern Gannets\, Red-necked Phalaropes in fall plumage\, Wilson’s Storm-petrel\, jaegers\, an array of near-shore species\, and random migrants. We’ve also seen several different species of whales and dolphins\, including Fin\, Minke\, Right\, and Humpback Whales\, Harbor Porpoises\, Atlantic White-Sided Dolphins\, and once a rare Sperm Whale on the outer edge of Jeffreys Ledge. \nPresenter:\nRenowned birders and NH Audubon volunteers Steve and Jane Mirick will be our group leaders\, with Captain Pete Reynolds driving the boat. NH Audubon volunteer and avid birder Jon Woolf will coordinate logistics. \nFor mobility\, sensory\, behavioral\, or other accessibility accommodations\, please contact Slater Roosa. \nCost:\n$80 for NH Audubon members\n$100 for non-members (Join or renew your membership today! Not sure of your membership status? Email our member services department or call (603) 224-9909 x310.) \nRegistration Required.\nNH Audubon’s ticket system utilizes PayPal to process payments. Users are not required to use PayPal to check out; a guest option is provided. PayPal is a trusted way to pay online. \nPlease note we have set a maximum of 50 people\, to allow for comfortable spacing and an enjoyable bird-watching experience. These trips sell out quickly\, and we do not run a waiting list. \nThis trip is weather-dependent. Final decisions on whether we can comfortably set sail will be made the day before. There are no rain dates. First priority for registration will be granted to participants from the previous tour’s weather cancellation\, if applicable. \nConfirmation letters\, including the webinar Zoom link and information about what to bring and what to wear\, will be sent to all participants after we sell out (typically in early September). \nPhoto: Corys Shearwater\, Steve Mirick
URL:https://nhaudubon.org/event/jeffreys-ledge-pelagic-birding-trip-may-2024/
LOCATION:Rye Harbor\, 1870 Ocean Blvd (Rte 1A)\, Rye\, NH\, 03870\, United States
ATTACH;FMTTYPE=image/jpeg:https://nhaudubon.org/wp-content/uploads/Corys-Shearwater-28-July-19-Steve-Mirick-e1692039050266.jpg
ORGANIZER;CN="Slater Roosa":MAILTO:sroosa@nhaudubon.org
END:VEVENT
BEGIN:VEVENT
DTSTART;TZID=America/New_York:20231009T080000
DTEND;TZID=America/New_York:20231009T170000
DTSTAMP:20260423T111407
CREATED:20230814T185249Z
LAST-MODIFIED:20230825T200705Z
UID:10002158-1696838400-1696870800@nhaudubon.org
SUMMARY:Jeffreys Ledge Pelagic Birding Trip
DESCRIPTION:Join NH Audubon aboard MV Granite State as we explore Jeffreys Ledge\, 20 miles off the New Hampshire coast. This is an all-day expedition (between 8-10 hours at sea)\, departing from Rye Harbor\, to look for pelagic (ocean-going) seabirds on Jeffreys Ledge\, although we’ll also keep an eye out for whales and other marine life. Jeffreys Ledge is an undersea ridge running northeast from near Rockport\, Massachusetts to near Cape Elizabeth\, Maine.  Its steep sides produce upwellings of nutrient-rich waters that produce a lot of food for seabirds and marine life.    \nWhat we will see:\nFrom the upper deck\, a person with good binoculars can scan a circle of ocean a couple of miles across\, with a good chance of seeing groups of birds quite some distance away. On past fall trips\, we have seen four different species of Shearwater (Great\, Sooty\, Cory’s\, and Manx)\, Northern Gannets\, Red-necked Phalaropes in fall plumage\, Wilson’s Storm-petrel\, jaegers\, an array of near-shore species\, and random migrants. We’ve also seen several different species of whales and dolphins\, including Fin\, Minke\, Right\, and Humpback Whales\, Harbor Porpoises\, Atlantic White-Sided Dolphins\, and once a rare Sperm Whale on the outer edge of Jeffreys Ledge.     \nPresenter:\nRenowned birders and NH Audubon volunteers Steve and Jane Mirick will be our group leaders\, with Captain Pete Reynolds driving the boat. NH Audubon volunteer and avid birder Jon Woolf will coordinate logistics.   \nJoin Jon Woolf for the introductory webinar\, Introduction to Pelagic Wildlife\, on Friday\, October 6th\, 8pm-9pm (free for all attendees).  \nFor mobility\, sensory\, behavioral\, or other accessibility accommodations\, please contact Massabesic Center Director Kimmie Whiteman. \nCost:\n$80 for NH Audubon members\n$100 for non-members (Join or renew your membership today! Not sure of your membership status? Email our member services department or call (603) 224-9909 x310.)  \nRegistration Required.\nNH Audubon’s ticket system utilizes PayPal to process payments. Users are not required to use PayPal to check out; a guest option is provided. PayPal is a trusted way to pay online. \nPlease note we have set a maximum of 50 people\, to allow for comfortable spacing and an enjoyable bird-watching experience.  These trips sell out quickly\, and we do not run a waiting list.   \nThis trip is weather-dependent. Final decisions on whether we can comfortably set sail will be made the day before.  There are no rain dates. First priority for registration will be granted to participants from the previous tour’s weather cancellation\, if applicable.  \nConfirmation letters\, including the webinar Zoom link and information about what to bring and what to wear\, will be sent to all participants after we sell out (typically in early September).  \nThis fall\, NH Audubon’s Seacoast Chapter will be running a second trip on 9/5/2023.  \nPhoto: Corys Shearwater\, Steve Mirick
URL:https://nhaudubon.org/event/pelagic-birding-trip-fall-2023/
LOCATION:Rye Harbor\, 1870 Ocean Blvd (Rte 1A)\, Rye\, NH\, 03870\, United States
CATEGORIES:Featured,Field Trip
ATTACH;FMTTYPE=image/jpeg:https://nhaudubon.org/wp-content/uploads/Corys-Shearwater-28-July-19-Steve-Mirick-e1692039050266.jpg
ORGANIZER;CN="Kimmie Whiteman":MAILTO:kwhiteman@nhaudubon.org
END:VEVENT
BEGIN:VEVENT
DTSTART;TZID=America/New_York:20230529T080000
DTEND;TZID=America/New_York:20230529T170000
DTSTAMP:20260423T111407
CREATED:20230321T143017Z
LAST-MODIFIED:20230421T201235Z
UID:10001350-1685347200-1685379600@nhaudubon.org
SUMMARY:Jeffreys Ledge Pelagic Birding Trip
DESCRIPTION:Location: Rye Harbor\, NH\nMonday\, May 29\, 8 am – 5 pm\nCost: $80 Member / $100 Non-Member \nJoin NH Audubon aboard MV Granite State as we explore Jeffreys Ledge\, 20 miles off the New Hampshire coast. We’ll spend all day at sea\, searching for pelagic seabirds\, whales\, dolphins\, and anything else that happens to cross our course. Once you register\, you will receive confirmation and further information. Participants need to meet at Rye Harbor at 7:30am for check-in and 8am departure. Minimum of 30 participants. Pre-registration required. ​ \n(To register for Intro to Pelagic Wildlife\, see the event on May 28th) \nPhoto: Great Shearwater\, by Amanda Boyd\, USFWS
URL:https://nhaudubon.org/event/jeffreys-ledge-pelagic-birding-trip/
LOCATION:Rye Harbor\, 1870 Ocean Blvd (Rte 1A)\, Rye\, NH\, 03870\, United States
CATEGORIES:Field Trip,Hands-on workshop
ATTACH;FMTTYPE=image/jpeg:https://nhaudubon.org/wp-content/uploads/Greater_Shearwater-Amanda-Boyd-USFWS-PD-e1712080077209.jpg
ORGANIZER;CN="Massabesic Center":MAILTO:mac@nhaudubon.org
END:VEVENT
BEGIN:VEVENT
DTSTART;TZID=America/New_York:20221010T073000
DTEND;TZID=America/New_York:20221010T170000
DTSTAMP:20260423T111407
CREATED:20220829T144800Z
LAST-MODIFIED:20220829T144942Z
UID:10001122-1665387000-1665421200@nhaudubon.org
SUMMARY:Seacoast Chapter Fall Pelagic Birding Trip
DESCRIPTION:Monday\, October 10 Dockside 7:30 am for an 8 am departure from Rye Harbor\, NH—MV Granite State  \nIn past years the October pelagic out of Rye harbor has ventured into MA\, NH\, and ME waters and has turned up interesting birds including four species of Shearwater (Great\, Manx\, Cory’s\, and Sooty)\, 2 species of Phalarope (Red-necked and Red)\, Pomarine Jaeger\, Northern Fulmar\, Leach’s Storm- petrel and other species such as Atlantic Puffin\, Razorbill\, and Dovekie.  (But obviously as with any trip no bird species is guaranteed or should to be expected!). Veteran birder Steve Mirick will lead the all-day trip. The cost is $75 per person to cover fuel\, boat time\, and the cost of chum. \nRegistration is limited to 50 and participants should be fully vaccinated. As the event nears\, for additional details and to sign-up\, visit the Seacoast Chapter website. \nContact: Holly Bauer\, Field Trip Coordinator.
URL:https://nhaudubon.org/event/seacoast-chapter-fall-pelagic-birding-trip/
LOCATION:Rye Harbor\, 1870 Ocean Blvd (Rte 1A)\, Rye\, NH\, 03870\, United States
CATEGORIES:Chapter Field Trip,Field Trip
ATTACH;FMTTYPE=image/png:https://nhaudubon.org/wp-content/uploads/seacoast-chapter-logo.png
ORGANIZER;CN="Seacoast Chapter":MAILTO:danielhubbard@peoplepc.com
END:VEVENT
BEGIN:VEVENT
DTSTART;TZID=America/New_York:20220906T080000
DTEND;TZID=America/New_York:20220906T170000
DTSTAMP:20260423T111407
CREATED:20220711T140728Z
LAST-MODIFIED:20220711T141729Z
UID:10001105-1662451200-1662483600@nhaudubon.org
SUMMARY:Jeffreys Ledge Pelagic Birding Trip
DESCRIPTION:Location: Rye Harbor\, NH\nTuesday\, September 6\, 8 am – 5 pm\nCost: $80 Member / $100 Non-Member \nJoin NH Audubon aboard MV Granite State as we explore Jeffreys Ledge\, 20 miles off the New Hampshire coast. We’ll spend all day at sea\, searching for pelagic seabirds\, whales\, dolphins\, and anything else that happens to cross our course. Once you register\, you will receive confirmation and further information. Participants need to meet at Rye Harbor at 7:30am for check-in and 8am departure. Minimum of 30 participants. Pre-registration required. ​ \n(To register for the Intro to Pelagic Wildlife webinar\, see the event for September 4\, 2022.) \nPhoto: Great Shearwater\, by Amanda Boyd\, USFWS
URL:https://nhaudubon.org/event/jeffreys-ledge-pelagic-birding-trip-fall/
LOCATION:Rye Harbor\, 1870 Ocean Blvd (Rte 1A)\, Rye\, NH\, 03870\, United States
CATEGORIES:Field Trip,Hands-on workshop
ATTACH;FMTTYPE=image/jpeg:https://nhaudubon.org/wp-content/uploads/Greater_Shearwater-Amanda-Boyd-USFWS-PD-e1712080077209.jpg
ORGANIZER;CN="Massabesic Center":MAILTO:mac@nhaudubon.org
END:VEVENT
BEGIN:VEVENT
DTSTART;TZID=America/New_York:20220530T080000
DTEND;TZID=America/New_York:20220530T170000
DTSTAMP:20260423T111407
CREATED:20220414T193635Z
LAST-MODIFIED:20220415T135800Z
UID:10000859-1653897600-1653930000@nhaudubon.org
SUMMARY:Jeffreys Ledge Pelagic Birding Trip
DESCRIPTION:Location: Rye Harbor\, NH\nMonday\, May 30\, 8 am – 5 pm\nCost: $75 Member / $95 Non-Member \nJoin NH Audubon aboard MV Granite State as we explore Jeffreys Ledge\, 20 miles off the New Hampshire coast. We’ll spend all day at sea\, searching for pelagic seabirds\, whales\, dolphins\, and anything else that happens to cross our course. Once you register\, you will receive confirmation and further information. Participants need to meet at Rye Harbor at 7:30am for check-in and 8am departure. Minimum of 30 participants. Pre-registration required. ​ \n(To register for Intro to Pelagic Wildlife\, see the event for May 29th.) \nPhoto: Great Shearwater\, by Amanda Boyd\, USFWS
URL:https://nhaudubon.org/event/jeffreys-ledge-pelagic-birding-trip-2022/
LOCATION:Rye Harbor\, 1870 Ocean Blvd (Rte 1A)\, Rye\, NH\, 03870\, United States
CATEGORIES:Field Trip,Hands-on workshop
ATTACH;FMTTYPE=image/jpeg:https://nhaudubon.org/wp-content/uploads/Greater_Shearwater-Amanda-Boyd-USFWS-PD-e1712080077209.jpg
ORGANIZER;CN="Massabesic Center":MAILTO:mac@nhaudubon.org
END:VEVENT
BEGIN:VEVENT
DTSTART;TZID=America/New_York:20211011T080000
DTEND;TZID=America/New_York:20211011T170000
DTSTAMP:20260423T111407
CREATED:20210902T201644Z
LAST-MODIFIED:20210913T155535Z
UID:10000838-1633939200-1633971600@nhaudubon.org
SUMMARY:Jeffreys Ledge Fall Pelagic Birding Trip - Sold Out
DESCRIPTION:This trip is sold out. \nLocation: Rye Harbor\, NH\nMonday\, Oct 11\, 8 am – 5 pm\nCost:    $70 M/$90 NM\nJoin NH Audubon aboard the MV Granite State as we explore Jeffreys Ledge\, 20 miles off the New Hampshire coast. Steve Mirick will lead us as we spend all day at sea\, searching the length of Jeffreys Ledge for pelagic seabirds\, whales\, dolphins\, and anything else that happens to cross our course. Once you register\, you will receive confirmation and further information. Meet dockside at Rye Harbor at 7:30am for an 8am departure. Max. 50. \nPre-registration required. \n(To register for Intro to Pelagic Wildlife\, see the event for Oct. 9.) \nPhoto: Great Shearwater\, by Amanda Boyd\, USFWS
URL:https://nhaudubon.org/event/jeffreys-ledge-fall-pelagic-birding-trip/
LOCATION:Rye Harbor\, 1870 Ocean Blvd (Rte 1A)\, Rye\, NH\, 03870\, United States
CATEGORIES:Field Trip
ATTACH;FMTTYPE=image/jpeg:https://nhaudubon.org/wp-content/uploads/Greater_Shearwater-Amanda-Boyd-USFWS-PD-e1712080077209.jpg
ORGANIZER;CN="Massabesic Center":MAILTO:mac@nhaudubon.org
END:VEVENT
BEGIN:VEVENT
DTSTART;TZID=America/New_York:20210531T080000
DTEND;TZID=America/New_York:20210531T170000
DTSTAMP:20260423T111407
CREATED:20210408T191412Z
LAST-MODIFIED:20210421T163125Z
UID:10000808-1622448000-1622480400@nhaudubon.org
SUMMARY:Jeffreys Ledge Pelagic Birding Trip
DESCRIPTION:This trip is sold out.\nLocation: Rye Harbor\, NH\nMonday\, May 31 (Memorial Day)\, 8 am – 5 pm\nCost:    $70 M/$90 NM\nJoin NH Audubon aboard MV Granite State as we explore Jeffreys Ledge\, 20 miles off the New Hampshire coast. We’ll spend all day at sea\, searching for pelagic seabirds\, whales\, dolphins\, and anything else that happens to cross our course.  Once you register\, you will receive confirmation and further information. Participants need to meet at Rye Harbor at 7:30am for check-in and 8am departure. Minimum of 30 participants\, maximum of 40 due to COVID-19 restrictions. Pre-registration required. ​ \n(To register for Intro to Pelagic Wildlife\, see the event for May 30.) \nPhoto: Great Shearwater\, by Amanda Boyd\, USFWS
URL:https://nhaudubon.org/event/pelagic-birding-trip/
LOCATION:Rye Harbor\, 1870 Ocean Blvd (Rte 1A)\, Rye\, NH\, 03870\, United States
CATEGORIES:Field Trip,Webinar,Zoom Talk
ATTACH;FMTTYPE=image/jpeg:https://nhaudubon.org/wp-content/uploads/Greater_Shearwater-Amanda-Boyd-USFWS-PD-e1712080077209.jpg
ORGANIZER;CN="Massabesic Center":MAILTO:mac@nhaudubon.org
END:VEVENT
END:VCALENDAR