BEGIN:VCALENDAR
VERSION:2.0
PRODID:-//NH Audubon - ECPv6.15.11//NONSGML v1.0//EN
CALSCALE:GREGORIAN
METHOD:PUBLISH
X-WR-CALNAME:NH Audubon
X-ORIGINAL-URL:https://nhaudubon.org
X-WR-CALDESC:Events for NH Audubon
REFRESH-INTERVAL;VALUE=DURATION:PT1H
X-Robots-Tag:noindex
X-PUBLISHED-TTL:PT1H
BEGIN:VTIMEZONE
TZID:America/New_York
BEGIN:DAYLIGHT
TZOFFSETFROM:-0500
TZOFFSETTO:-0400
TZNAME:EDT
DTSTART:20230312T070000
END:DAYLIGHT
BEGIN:STANDARD
TZOFFSETFROM:-0400
TZOFFSETTO:-0500
TZNAME:EST
DTSTART:20231105T060000
END:STANDARD
BEGIN:DAYLIGHT
TZOFFSETFROM:-0500
TZOFFSETTO:-0400
TZNAME:EDT
DTSTART:20240310T070000
END:DAYLIGHT
BEGIN:STANDARD
TZOFFSETFROM:-0400
TZOFFSETTO:-0500
TZNAME:EST
DTSTART:20241103T060000
END:STANDARD
BEGIN:DAYLIGHT
TZOFFSETFROM:-0500
TZOFFSETTO:-0400
TZNAME:EDT
DTSTART:20250309T070000
END:DAYLIGHT
BEGIN:STANDARD
TZOFFSETFROM:-0400
TZOFFSETTO:-0500
TZNAME:EST
DTSTART:20251102T060000
END:STANDARD
END:VTIMEZONE
BEGIN:VEVENT
DTSTART;TZID=America/New_York:20240614T073000
DTEND;TZID=America/New_York:20240614T100000
DTSTAMP:20260421T074939
CREATED:20240130T173619Z
LAST-MODIFIED:20240130T173619Z
UID:10002432-1718350200-1718359200@nhaudubon.org
SUMMARY:Identification and Role of Native and Non-native Shrubs as Habitat for Birds - June 14
DESCRIPTION:Join the NH Audubon Seacoast Chapter for their in person\, outdoors June programs: Identification and Role of Native and Non-native Shrubs as Habitat for Birds on June 12 and June 14. \nWednesday\, June 12 5:30-8:00pm and Friday\, June 14 7:30-10:00am at Pickering Ponds trails\, Rochester. Each program will be limited to 15 participants with no repeat registrants. This event will be held entirely outdoors and will be held as long as it is not raining. Participants should bring their binoculars and clothing appropriate for the weather conditions at the time of the event. \nThis program\, by Matt Tarr of UNH Cooperative Extension\, will teach you how to identify the most common native and non-native shrubs that comprise many bird habitats in NH. We will identify each shrub species\, discuss how each species functions as bird habitat\, and which shrubs you want to encourage on your land to benefit birds. We will also be looking and listening for birds (of course!) and sharing our tips for how to identify the birds we encounter during the trip. \nMatt Tarr is Extension Professor\, State Wildlife Habitat Specialist for the University of NH Cooperative Extension. Much of Matt’s research and work is focused on determining how non-native shrubs function as habitat for songbirds and on how birds respond to land-use and habitat management practices at different landscape scales. Matt is an avid birder who enjoys photographing and recording birds. \nEach program will be limited to 15 participants with no repeat registrants. This event will be held entirely outdoors and will be held as long as it is not raining. Participants should bring their binoculars and clothing appropriate for the weather conditions at the time of the event (see Pickering Ponds beginner bird walk for directions). As the event nears\, visit the Seacoast Chapter site for more information and to sign-up.
URL:https://nhaudubon.org/event/habitat-for-birds-june-14-2024/
LOCATION:Pickering Ponds Trails\, 175 Pickering Rd\, Rochester\, 03867\, United States
CATEGORIES:Chapter Program
ATTACH;FMTTYPE=image/png:https://nhaudubon.org/wp-content/uploads/seacoast-chapter-logo.png
ORGANIZER;CN="Seacoast Chapter":MAILTO:danielhubbard@peoplepc.com
END:VEVENT
BEGIN:VEVENT
DTSTART;TZID=America/New_York:20240612T173000
DTEND;TZID=America/New_York:20240612T200000
DTSTAMP:20260421T074939
CREATED:20240130T173406Z
LAST-MODIFIED:20240130T173528Z
UID:10002431-1718213400-1718222400@nhaudubon.org
SUMMARY:Identification and Role of Native and Non-native Shrubs as Habitat for Birds - June 12
DESCRIPTION:Join the NH Audubon Seacoast Chapter for their in person\, outdoors June programs: Identification and Role of Native and Non-native Shrubs as Habitat for Birds on June 12 and June 14. \nWednesday\, June 12 5:30-8:00pm and Friday\, June 14 7:30-10:00am at Pickering Ponds trails\, Rochester. Each program will be limited to 15 participants with no repeat registrants. This event will be held entirely outdoors and will be held as long as it is not raining. Participants should bring their binoculars and clothing appropriate for the weather conditions at the time of the event. \nThis program\, by Matt Tarr of UNH Cooperative Extension\, will teach you how to identify the most common native and non-native shrubs that comprise many bird habitats in NH. We will identify each shrub species\, discuss how each species functions as bird habitat\, and which shrubs you want to encourage on your land to benefit birds. We will also be looking and listening for birds (of course!) and sharing our tips for how to identify the birds we encounter during the trip. \nMatt Tarr is Extension Professor\, State Wildlife Habitat Specialist for the University of NH Cooperative Extension. Much of Matt’s research and work is focused on determining how non-native shrubs function as habitat for songbirds and on how birds respond to land-use and habitat management practices at different landscape scales. Matt is an avid birder who enjoys photographing and recording birds. \nEach program will be limited to 15 participants with no repeat registrants. This event will be held entirely outdoors and will be held as long as it is not raining. Participants should bring their binoculars and clothing appropriate for the weather conditions at the time of the event (see Pickering Ponds beginner bird walk for directions). As the event nears\, visit the Seacoast Chapter site for more information and to sign-up.
URL:https://nhaudubon.org/event/habitat-for-birds-june-12-2024/
LOCATION:Pickering Ponds Trails\, 175 Pickering Rd\, Rochester\, 03867\, United States
CATEGORIES:Chapter Program
ATTACH;FMTTYPE=image/png:https://nhaudubon.org/wp-content/uploads/seacoast-chapter-logo.png
ORGANIZER;CN="Seacoast Chapter":MAILTO:danielhubbard@peoplepc.com
END:VEVENT
END:VCALENDAR