BEGIN:VCALENDAR
VERSION:2.0
PRODID:-//NH Audubon - ECPv6.15.11//NONSGML v1.0//EN
CALSCALE:GREGORIAN
METHOD:PUBLISH
X-ORIGINAL-URL:https://nhaudubon.org
X-WR-CALDESC:Events for NH Audubon
REFRESH-INTERVAL;VALUE=DURATION:PT1H
X-Robots-Tag:noindex
X-PUBLISHED-TTL:PT1H
BEGIN:VTIMEZONE
TZID:America/New_York
BEGIN:DAYLIGHT
TZOFFSETFROM:-0500
TZOFFSETTO:-0400
TZNAME:EDT
DTSTART:20210314T070000
END:DAYLIGHT
BEGIN:STANDARD
TZOFFSETFROM:-0400
TZOFFSETTO:-0500
TZNAME:EST
DTSTART:20211107T060000
END:STANDARD
BEGIN:DAYLIGHT
TZOFFSETFROM:-0500
TZOFFSETTO:-0400
TZNAME:EDT
DTSTART:20220313T070000
END:DAYLIGHT
BEGIN:STANDARD
TZOFFSETFROM:-0400
TZOFFSETTO:-0500
TZNAME:EST
DTSTART:20221106T060000
END:STANDARD
BEGIN:DAYLIGHT
TZOFFSETFROM:-0500
TZOFFSETTO:-0400
TZNAME:EDT
DTSTART:20230312T070000
END:DAYLIGHT
BEGIN:STANDARD
TZOFFSETFROM:-0400
TZOFFSETTO:-0500
TZNAME:EST
DTSTART:20231105T060000
END:STANDARD
END:VTIMEZONE
BEGIN:VEVENT
DTSTART;TZID=America/New_York:20221019T100000
DTEND;TZID=America/New_York:20221019T140000
DTSTAMP:20260421T164749
CREATED:20220829T145742Z
LAST-MODIFIED:20220829T145742Z
UID:10001123-1666173600-1666188000@nhaudubon.org
SUMMARY:Late-season Migration at Pack Monadnock
DESCRIPTION:Join Phil Brown\, the Harris Center’s Bird Conservation Director\, for a half day of hawk watching at the Pack Monadnock Raptor Observatory in Peterborough. We will hope for late season migration which\, in mid-October\, can include Golden Eagles and Northern Goshawks\, large flocks of migrant Canada Geese\, songbirds\, and even scoters! \nLearn hawk watching ID tips from the experts and learn about the different migration strategies and behaviors of up to 15 migratory raptor species. During a visit to the hawk watch\, you’ll experience NH’s birding culture and immerse yourself in a long-standing community science project that is a partnership between the Harris Center and NH Audubon. Meet at the Observatory for the 10 am start time\, and stay as long as you’d like. The Park usually closes by 4 pm in late October. Weather conditions may cancel. \nState park reservations with Miller State Park and a small fee are required for visiting Pack Monadnock. Visit their website for more information on park fees and reservations\, as well as accessibility. \nContact: Phil Brown. \nRegistration is limited to 15 and participants should be fully vaccinated. As the event nears\, for additional details and to sign-up\, visit the Seacoast Chapter website.
URL:https://nhaudubon.org/event/late-season-migration-at-pack-monadnock/
LOCATION:Pack Monadnock\, 13 Miller Park Road\, Peterborough\, NH\, 03458\, United States
CATEGORIES:Chapter Field Trip,Field Trip
ATTACH;FMTTYPE=image/png:https://nhaudubon.org/wp-content/uploads/seacoast-chapter-logo.png
ORGANIZER;CN="Seacoast Chapter":MAILTO:danielhubbard@peoplepc.com
END:VEVENT
END:VCALENDAR