BEGIN:VCALENDAR
VERSION:2.0
PRODID:-//NH Audubon - ECPv6.15.11//NONSGML v1.0//EN
CALSCALE:GREGORIAN
METHOD:PUBLISH
X-WR-CALNAME:NH Audubon
X-ORIGINAL-URL:https://nhaudubon.org
X-WR-CALDESC:Events for NH Audubon
REFRESH-INTERVAL;VALUE=DURATION:PT1H
X-Robots-Tag:noindex
X-PUBLISHED-TTL:PT1H
BEGIN:VTIMEZONE
TZID:America/New_York
BEGIN:DAYLIGHT
TZOFFSETFROM:-0500
TZOFFSETTO:-0400
TZNAME:EDT
DTSTART:20230312T070000
END:DAYLIGHT
BEGIN:STANDARD
TZOFFSETFROM:-0400
TZOFFSETTO:-0500
TZNAME:EST
DTSTART:20231105T060000
END:STANDARD
BEGIN:DAYLIGHT
TZOFFSETFROM:-0500
TZOFFSETTO:-0400
TZNAME:EDT
DTSTART:20240310T070000
END:DAYLIGHT
BEGIN:STANDARD
TZOFFSETFROM:-0400
TZOFFSETTO:-0500
TZNAME:EST
DTSTART:20241103T060000
END:STANDARD
BEGIN:DAYLIGHT
TZOFFSETFROM:-0500
TZOFFSETTO:-0400
TZNAME:EDT
DTSTART:20250309T070000
END:DAYLIGHT
BEGIN:STANDARD
TZOFFSETFROM:-0400
TZOFFSETTO:-0500
TZNAME:EST
DTSTART:20251102T060000
END:STANDARD
BEGIN:DAYLIGHT
TZOFFSETFROM:-0500
TZOFFSETTO:-0400
TZNAME:EDT
DTSTART:20260308T070000
END:DAYLIGHT
BEGIN:STANDARD
TZOFFSETFROM:-0400
TZOFFSETTO:-0500
TZNAME:EST
DTSTART:20261101T060000
END:STANDARD
BEGIN:DAYLIGHT
TZOFFSETFROM:-0500
TZOFFSETTO:-0400
TZNAME:EDT
DTSTART:20270314T070000
END:DAYLIGHT
BEGIN:STANDARD
TZOFFSETFROM:-0400
TZOFFSETTO:-0500
TZNAME:EST
DTSTART:20271107T060000
END:STANDARD
END:VTIMEZONE
BEGIN:VEVENT
DTSTART;TZID=America/New_York:20260420T080000
DTEND;TZID=America/New_York:20260420T100000
DTSTAMP:20260420T130630
CREATED:20260310T172842Z
LAST-MODIFIED:20260310T172842Z
UID:10003751-1776672000-1776679200@nhaudubon.org
SUMMARY:Birding Outing with the Society for the Protection of New Hampshire’s Forests
DESCRIPTION:Back by popular demand\, join NH Audubon and The Society for the Protection of New Hampshire’s Forests for a birding outing at the Merrimack River Outdoor Education & Conservation Area (a.k.a. “The Floodplain”) in Concord! Emily Peters\, NH Audubon’s School Programs Coordinator\, will talk about spotting and identifying birds in a variety of NH forest habitats\, while Matt Scaccia\, the Forest Society’s Recreation & Community Relations Manager\, will talk about the unique land features of The Floodplain. Birds spotted in this area in mid-April include Hooded Mergansers\, Great Blue Herons\, and a variety of woodpeckers. \nWe will meet in the parking lot of The Floodplain to begin the walk. This location is just down the road from the Forest Society’s headquarters on Portsmouth Street in Concord\, and can be found on Google Maps by searching “Les Clark Nature Trailhead”. \nThis is a free event with binocular rentals available. Please dress for the weather with sturdy shoes. Expect to walk between 1-2 miles over mostly flat\, but uneven trails through grassy and wooded terrain. Trails may be soggy or muddy depending on weather conditions. Dogs are not allowed on this walk. Please contact Director of Education Lauren Betz with any questions. \nBy attending this event\, you and anyone you register on behalf of agree to NH Audubon’s Outdoor Education Program Liability Release & Agreement Waiver.
URL:https://nhaudubon.org/event/birding-outing-with-forest-society-apr-2026/
LOCATION:Merrimack River Outdoor Education & Conservation Area\, 2-82 Portsmouth Street\, Concord\, NH\, 03103\, United States
CATEGORIES:Bird Walk
ATTACH;FMTTYPE=image/jpeg:https://nhaudubon.org/wp-content/uploads/Birding-Outing-4.jpg
ORGANIZER;CN="Lauren Betz":MAILTO:lbetz@nhaudubon.org
END:VEVENT
BEGIN:VEVENT
DTSTART;TZID=America/New_York:20250915T080000
DTEND;TZID=America/New_York:20250915T100000
DTSTAMP:20260420T130630
CREATED:20250818T192539Z
LAST-MODIFIED:20250818T192539Z
UID:10003409-1757923200-1757930400@nhaudubon.org
SUMMARY:Birding Outing with the Society for the Protection of New Hampshire's Forests
DESCRIPTION:Back by popular demand: join NH Audubon and The Society for the Protection of New Hampshire’s Forests for a birding outing at the Merrimack River Outdoor Education & Conservation Area (a.k.a. “The Floodplain”) in Concord! Devin Guilfoyle\, NH Audubon’s Newfound Center & Public Programs Coordinator\, will talk about spotting and identifying birds in a variety of NH forest habitats\, while Matt Scaccia\, the Forest Society’s Recreation & Community Relations Manager\, will talk about the unique land features of The Floodplain. Birds spotted in this area in mid-September include Wood Ducks\, Common Yellowthroats\, and Belted Kingfishers. \nWe will meet in the parking lot of The Floodplain to begin the walk. This location is just down the road from the Forest Society’s headquarters on Portsmouth Street in Concord\, and can be found on Google Maps by searching “Les Clark Nature Trailhead”. \nThis is a free event with binocular rentals available. Please dress for the weather with sturdy shoes. Expect to walk between 1-2 miles over mostly flat\, but uneven trails through grassy and wooded terrain. Trails may be soggy or muddy depending on weather conditions. Dogs are not allowed on this walk. \nPlease review NH Audubon’s Outdoor Education Program Liability Release & Agreement Waiver before registering. RSVPing to this event indicates that you agree to the waiver’s terms and conditions.
URL:https://nhaudubon.org/event/birding-outing-with-the-society-for-the-protection-of-new-hampshires-forests-sept-2025/
LOCATION:Merrimack River Outdoor Education & Conservation Area\, 2-82 Portsmouth Street\, Concord\, NH\, 03103\, United States
ATTACH;FMTTYPE=image/jpeg:https://nhaudubon.org/wp-content/uploads/Birding-Outing-4.jpg
ORGANIZER;CN="Devin Guilfoyle":MAILTO:dguilfoyle@nhaudubon.org
END:VEVENT
BEGIN:VEVENT
DTSTART;TZID=America/New_York:20250401T080000
DTEND;TZID=America/New_York:20250401T100000
DTSTAMP:20260420T130630
CREATED:20250224T153551Z
LAST-MODIFIED:20250224T153609Z
UID:10003091-1743494400-1743501600@nhaudubon.org
SUMMARY:Birding Outing with the Society for the Protection of New Hampshire's Forests
DESCRIPTION:No April Fools joke here – join NH Audubon and The Society for the Protection of New Hampshire’s Forests for a birding outing at the Merrimack River Outdoor Education & Conservation Area (a.k.a. “The Floodplain”) in Concord! Devin Guilfoyle\, center coordinator of NH Audubon’s Newfound Center\, will talk about spotting and identifying birds in a variety of NH forest habitats\, while Matt Scaccia\, the Forest Society’s recreation & community relations manager\, will talk about the unique land features of The Floodplain. Great Blue Herons\, Red-tailed Hawks\, and Eastern Phoebes have been spotted on this land during early April outings in previous years. \nWe will meet in the parking lot of The Floodplain to begin the walk. This location is just down the road from the Forest Society’s headquarters on Portsmouth Street in Concord\, and can be found on Google Maps by searching “Les Clark Nature Trailhead”. \nThis is a free event with binocular rentals available. Please dress for the weather with sturdy shoes. Expect to walk between 1-2 miles over mostly flat\, but uneven trails through grassy and wooded terrain. Trails may be soggy\, muddy\, or icy\, depending on weather conditions. Dogs are not allowed on this walk. \nPlease read NH Audubon’s Outdoor Education Program Liability Release & Agreement Waiver before submitting your RSVP. RSVPing to this event indicates that you agree to the waiver’s terms and conditions.
URL:https://nhaudubon.org/event/birding-outing-april-1/
LOCATION:Merrimack River Outdoor Education & Conservation Area\, 2-82 Portsmouth Street\, Concord\, NH\, 03103\, United States
ATTACH;FMTTYPE=image/jpeg:https://nhaudubon.org/wp-content/uploads/Birding-Outing-4.jpg
ORGANIZER;CN="Devin Guilfoyle":MAILTO:dguilfoyle@nhaudubon.org
END:VEVENT
BEGIN:VEVENT
DTSTART;TZID=America/New_York:20240316T080000
DTEND;TZID=America/New_York:20240316T093000
DTSTAMP:20260420T130630
CREATED:20240201T171605Z
LAST-MODIFIED:20240206T154153Z
UID:10002439-1710576000-1710581400@nhaudubon.org
SUMMARY:Birding Outing at Merrimack River Outdoor Education and Conservation Area
DESCRIPTION:Join NH Audubon for a free birding outing along the trails at the Merrimack River Outdoor Education and Conservation Area in Concord! \nThis is an informal birding outing that begins at the parking lot off of Portsmouth Street and explores the trails with Devin Guilfoyle\, Newfound Center Coordinator. All ages and skill levels of birders are welcome. If you are new to birding\, come and learn the basics! If you are an avid birder\, come to learn new techniques\, network with other birders\, or share your expertise with the group. \nBinocular rental included with registration. Walk held here courtesy of the Society for the Protection of New Hampshire Forests. Please dress for the weather\, with sturdy shoes. Expect to walk between 1-2 miles over mostly flat\, but uneven trails through grassy and wooded terrain. Trails may be soggy or muddy in the rainy season.
URL:https://nhaudubon.org/event/birding-mroeca-mar-2024/
LOCATION:Merrimack River Outdoor Education & Conservation Area\, 2-82 Portsmouth Street\, Concord\, NH\, 03103\, United States
CATEGORIES:Bird Walk
ATTACH;FMTTYPE=image/jpeg:https://nhaudubon.org/wp-content/uploads/mroeca.jpg
ORGANIZER;CN="Devin Guilfoyle":MAILTO:dguilfoyle@nhaudubon.org
END:VEVENT
END:VCALENDAR