BEGIN:VCALENDAR
VERSION:2.0
PRODID:-//NH Audubon - ECPv6.15.11//NONSGML v1.0//EN
CALSCALE:GREGORIAN
METHOD:PUBLISH
X-WR-CALNAME:NH Audubon
X-ORIGINAL-URL:https://nhaudubon.org
X-WR-CALDESC:Events for NH Audubon
REFRESH-INTERVAL;VALUE=DURATION:PT1H
X-Robots-Tag:noindex
X-PUBLISHED-TTL:PT1H
BEGIN:VTIMEZONE
TZID:America/New_York
BEGIN:DAYLIGHT
TZOFFSETFROM:-0500
TZOFFSETTO:-0400
TZNAME:EDT
DTSTART:20230312T070000
END:DAYLIGHT
BEGIN:STANDARD
TZOFFSETFROM:-0400
TZOFFSETTO:-0500
TZNAME:EST
DTSTART:20231105T060000
END:STANDARD
BEGIN:DAYLIGHT
TZOFFSETFROM:-0500
TZOFFSETTO:-0400
TZNAME:EDT
DTSTART:20240310T070000
END:DAYLIGHT
BEGIN:STANDARD
TZOFFSETFROM:-0400
TZOFFSETTO:-0500
TZNAME:EST
DTSTART:20241103T060000
END:STANDARD
BEGIN:DAYLIGHT
TZOFFSETFROM:-0500
TZOFFSETTO:-0400
TZNAME:EDT
DTSTART:20250309T070000
END:DAYLIGHT
BEGIN:STANDARD
TZOFFSETFROM:-0400
TZOFFSETTO:-0500
TZNAME:EST
DTSTART:20251102T060000
END:STANDARD
BEGIN:DAYLIGHT
TZOFFSETFROM:-0500
TZOFFSETTO:-0400
TZNAME:EDT
DTSTART:20260308T070000
END:DAYLIGHT
BEGIN:STANDARD
TZOFFSETFROM:-0400
TZOFFSETTO:-0500
TZNAME:EST
DTSTART:20261101T060000
END:STANDARD
END:VTIMEZONE
BEGIN:VEVENT
DTSTART;TZID=America/New_York:20250531T090000
DTEND;TZID=America/New_York:20250531T110000
DTSTAMP:20260421T112521
CREATED:20250408T160125Z
LAST-MODIFIED:20250529T143301Z
UID:10003173-1748682000-1748689200@nhaudubon.org
SUMMARY:Black Birders Week 2025 Tour with Black Heritage Trail of New Hampshire
DESCRIPTION:May 31\, 2025 –In honor of Black Birders Week\, NH Audubon and the Black Heritage Trail of New Hampshire are partnering for a guided tour in Portsmouth. We will begin at the BHTNH office\, meander through gardens\, and end at the water. Learn about the rich and often forgotten African-American history of New Hampshire while keeping an eye out for birds and other local wildlife! Expect to see swifts darting between buildings\, sparrows collecting nesting materials\, and multiple species of gull. Please arrive 15 minutes prior to start of the trail tour. Free parking is available at the Parrott Ave. Parking Lot and along streets nearby. All ages are welcome. Space is limited and registration is required. \nAll proceeds from ticket sales will benefit the Black Heritage Trail of New Hampshire. \nPlease review NH Audubon’s Outdoor Education Program Liability Release & Agreement Waiver before registering.
URL:https://nhaudubon.org/event/black-birders-week-2025-tour/
LOCATION:Black Heritage Trail of NH\, 222 Court St.\, Portsmouth\, NH\, 03801\, United States
ATTACH;FMTTYPE=image/jpeg:https://nhaudubon.org/wp-content/uploads/BHT-e1715023191556.jpg
ORGANIZER;CN="Anita Fernandez":MAILTO:afernandez@nhaudubon.org
END:VEVENT
BEGIN:VEVENT
DTSTART;TZID=America/New_York:20240601T090000
DTEND;TZID=America/New_York:20240601T103000
DTSTAMP:20260421T112521
CREATED:20240311T140640Z
LAST-MODIFIED:20240531T163745Z
UID:10002470-1717232400-1717237800@nhaudubon.org
SUMMARY:Black Birders Week 2024 Black Heritage Trail: Touring & Birding
DESCRIPTION:In honor of Black Birders Week\, NH Audubon and the Black Heritage Trail of New Hampshire are partnering for a guided tour in Portsmouth. Learn about the rich and often forgotten African-American history of New Hampshire while keeping an eye out for birds and other local wildlife! Please arrive 15 minutes prior to start of the trail tour. Free parking is available at the Parrott Ave. Parking Lot and along streets nearby. All ages are welcome. Space is limited and registration is required. \n  \nAll proceeds from ticket sales will benefit the Black Heritage Trail of New Hampshire.
URL:https://nhaudubon.org/event/black-birders-week-partner-walk-with-black-heritage-trail-of-nh/
LOCATION:Black Heritage Trail of NH\, 222 Court St.\, Portsmouth\, NH\, 03801\, United States
CATEGORIES:Bird Walk
ATTACH;FMTTYPE=image/jpeg:https://nhaudubon.org/wp-content/uploads/BHT-e1715023191556.jpg
ORGANIZER;CN="Anita Fernandez":MAILTO:afernandez@nhaudubon.org
END:VEVENT
END:VCALENDAR