BEGIN:VCALENDAR
VERSION:2.0
PRODID:-//NH Audubon - ECPv6.15.11//NONSGML v1.0//EN
CALSCALE:GREGORIAN
METHOD:PUBLISH
X-ORIGINAL-URL:https://nhaudubon.org
X-WR-CALDESC:Events for NH Audubon
REFRESH-INTERVAL;VALUE=DURATION:PT1H
X-Robots-Tag:noindex
X-PUBLISHED-TTL:PT1H
BEGIN:VTIMEZONE
TZID:America/New_York
BEGIN:DAYLIGHT
TZOFFSETFROM:-0500
TZOFFSETTO:-0400
TZNAME:EDT
DTSTART:20220313T070000
END:DAYLIGHT
BEGIN:STANDARD
TZOFFSETFROM:-0400
TZOFFSETTO:-0500
TZNAME:EST
DTSTART:20221106T060000
END:STANDARD
BEGIN:DAYLIGHT
TZOFFSETFROM:-0500
TZOFFSETTO:-0400
TZNAME:EDT
DTSTART:20230312T070000
END:DAYLIGHT
BEGIN:STANDARD
TZOFFSETFROM:-0400
TZOFFSETTO:-0500
TZNAME:EST
DTSTART:20231105T060000
END:STANDARD
BEGIN:DAYLIGHT
TZOFFSETFROM:-0500
TZOFFSETTO:-0400
TZNAME:EDT
DTSTART:20240310T070000
END:DAYLIGHT
BEGIN:STANDARD
TZOFFSETFROM:-0400
TZOFFSETTO:-0500
TZNAME:EST
DTSTART:20241103T060000
END:STANDARD
END:VTIMEZONE
BEGIN:VEVENT
DTSTART;TZID=America/New_York:20230903T130000
DTEND;TZID=America/New_York:20230903T150000
DTSTAMP:20260421T111401
CREATED:20230719T211954Z
LAST-MODIFIED:20230725T135814Z
UID:10002115-1693746000-1693753200@nhaudubon.org
SUMMARY:Weekly Sanctuary Explorers Program - September 3
DESCRIPTION:Sundays: July 23 – September 10\, 2023. \nLocation: Bear Mountain Wildlife Sanctuary\, please meet at Ash Cottage. \nDiscover the many charming trails around the three Newfound Audubon sanctuaries and conservation properties each week\, as a NH Audubon Naturalist leads intrepid families to summits with spectacular views and along streams and wetlands. RSVP is required (see below) as group size is limited to 15 to follow Leave No Trace practices. Participants should expect moderate to steep terrain. \nThis program will happen rain or shine (except in the case of thunderstorms).
URL:https://nhaudubon.org/event/weekly-sanctuary-explorers-program-09-03-2023/
LOCATION:Ash Cottage\, 50 North Shore Road\, Hebron\, NH\, 03241\, United States
ATTACH;FMTTYPE=image/jpeg:https://nhaudubon.org/wp-content/uploads/bear-mountain-e1690293486107.jpg
ORGANIZER;CN="Devin Guilfoyle":MAILTO:dguilfoyle@nhaudubon.org
END:VEVENT
BEGIN:VEVENT
DTSTART;TZID=America/New_York:20230902T090000
DTEND;TZID=America/New_York:20230902T103000
DTSTAMP:20260421T111401
CREATED:20230719T200008Z
LAST-MODIFIED:20230725T135553Z
UID:10002100-1693645200-1693650600@nhaudubon.org
SUMMARY:Weekly Meet the Locals Program\, Bird Identification Walk - September 2
DESCRIPTION:Saturdays: July 22 and every week following from August 5 – September 9\, 2023. \nLocation: Hebron Marsh Wildlife Sanctuary\, please meet at Ash Cottage. \nOpen new realms each week as our Lead Naturalist help participants of all ages focus their senses on different fascinating elements of their surroundings such as: birds\, trees\, ferns\, wildflowers\, and more. Limited pairs of binoculars are available for use. Participants are encouraged to bring their own binoculars and/or field guides for further exploration. \nRSVP recommended (see below). \nThis program will happen rain or shine (except in the case of thunderstorms).
URL:https://nhaudubon.org/event/weekly-meet-the-locals-bird-identification-walk-09-02-2023/
LOCATION:Ash Cottage\, 50 North Shore Road\, Hebron\, NH\, 03241\, United States
ATTACH;FMTTYPE=image/jpeg:https://nhaudubon.org/wp-content/uploads/birding-e1690293102348.jpg
ORGANIZER;CN="Devin Guilfoyle":MAILTO:dguilfoyle@nhaudubon.org
END:VEVENT
BEGIN:VEVENT
DTSTART;TZID=America/New_York:20230827T130000
DTEND;TZID=America/New_York:20230827T150000
DTSTAMP:20260421T111401
CREATED:20230719T211642Z
LAST-MODIFIED:20230725T135338Z
UID:10002114-1693141200-1693148400@nhaudubon.org
SUMMARY:Weekly Sanctuary Explorers Program - August 27
DESCRIPTION:Sundays: July 23 – September 10\, 2023. \nLocation: Hebron Marsh Wildlife Sanctuary\, please meet at Ash Cottage. \nDiscover the many charming trails around the three Newfound Audubon sanctuaries and conservation properties each week\, as a NH Audubon Naturalist leads intrepid families to summits with spectacular views and along streams and wetlands. RSVP is required (see below) as group size is limited to 15 to follow Leave No Trace practices. Participants should expect moderate to steep terrain. \nThis program will happen rain or shine (except in the case of thunderstorms).
URL:https://nhaudubon.org/event/weekly-sanctuary-explorers-program-08-27-2023/
LOCATION:Ash Cottage\, 50 North Shore Road\, Hebron\, NH\, 03241\, United States
ATTACH;FMTTYPE=image/jpeg:https://nhaudubon.org/wp-content/uploads/Hebron-Wildlife-Sanctuary-e1690293213448.jpg
ORGANIZER;CN="Devin Guilfoyle":MAILTO:dguilfoyle@nhaudubon.org
END:VEVENT
BEGIN:VEVENT
DTSTART;TZID=America/New_York:20230820T130000
DTEND;TZID=America/New_York:20230820T150000
DTSTAMP:20260421T111401
CREATED:20230719T211403Z
LAST-MODIFIED:20230725T134408Z
UID:10002113-1692536400-1692543600@nhaudubon.org
SUMMARY:Weekly Sanctuary Explorers Program - August 20
DESCRIPTION:Sundays: July 23 – September 10\, 2023. \nLocation: Bear Mountain Wildlife Sanctuary\, please meet at Ash Cottage. \nDiscover the many charming trails around the three Newfound Audubon sanctuaries and conservation properties each week\, as a NH Audubon Naturalist leads intrepid families to summits with spectacular views and along streams and wetlands. RSVP is required (see below) as group size is limited to 15 to follow Leave No Trace practices. Participants should expect moderate to steep terrain. \nThis program will happen rain or shine (except in the case of thunderstorms).
URL:https://nhaudubon.org/event/weekly-sanctuary-explorers-program-08-20-2023/
LOCATION:Ash Cottage\, 50 North Shore Road\, Hebron\, NH\, 03241\, United States
ATTACH;FMTTYPE=image/jpeg:https://nhaudubon.org/wp-content/uploads/bear-mountain-e1690293486107.jpg
ORGANIZER;CN="Devin Guilfoyle":MAILTO:dguilfoyle@nhaudubon.org
END:VEVENT
BEGIN:VEVENT
DTSTART;TZID=America/New_York:20230819T090000
DTEND;TZID=America/New_York:20230819T103000
DTSTAMP:20260421T111401
CREATED:20230719T194829Z
LAST-MODIFIED:20230725T134238Z
UID:10002098-1692435600-1692441000@nhaudubon.org
SUMMARY:Weekly Meet the Locals Program\, Wildflower Identification Walk - August 19
DESCRIPTION:Saturdays: July 22 and every week following from August 5 – September 9\, 2023. \nLocation: Hebron Wildlife Sanctuary\, please meet at Ash Cottage. \nOpen new realms each week as our Lead Naturalist helps participants of all ages focus their senses on different fascinating elements of their surroundings such as: birds\, trees\, ferns\, wildflowers\, and more. Limited pairs of binoculars are available for use. Participants are encouraged to bring their own binoculars and/or field guides for further exploration. \nRSVP recommended. \nThis program will happen rain or shine (except in the case of thunderstorms).
URL:https://nhaudubon.org/event/weekly-meet-the-locals-wildflower-identification-walk-08-19-2023/
LOCATION:Ash Cottage\, 50 North Shore Road\, Hebron\, NH\, 03241\, United States
ATTACH;FMTTYPE=image/jpeg:https://nhaudubon.org/wp-content/uploads/wildflower-sq.jpg
ORGANIZER;CN="Devin Guilfoyle":MAILTO:dguilfoyle@nhaudubon.org
END:VEVENT
BEGIN:VEVENT
DTSTART;TZID=America/New_York:20230806T130000
DTEND;TZID=America/New_York:20230806T150000
DTSTAMP:20260421T111401
CREATED:20230719T210744Z
LAST-MODIFIED:20230725T133420Z
UID:10002111-1691326800-1691334000@nhaudubon.org
SUMMARY:Weekly Sanctuary Explorers Program - August 6
DESCRIPTION:Sundays: July 23 – September 10\, 2023. \nLocation: Hebron Marsh Wildlife Sanctuary\, please meet at Ash Cottage. \nDiscover the many charming trails around the three Newfound Audubon sanctuaries and conservation properties each week\, as a NH Audubon Naturalist leads intrepid families to summits with spectacular views and along streams and wetlands. RSVP is required (see below) as group size is limited to 15 to follow Leave No Trace practices. Participants should expect moderate to steep terrain. \nThis program will happen rain or shine (except in the case of thunderstorms).
URL:https://nhaudubon.org/event/weekly-sanctuary-explorers-program-08-06-2023/
LOCATION:Ash Cottage\, 50 North Shore Road\, Hebron\, NH\, 03241\, United States
ATTACH;FMTTYPE=image/jpeg:https://nhaudubon.org/wp-content/uploads/Hebron-Wildlife-Sanctuary-e1690293213448.jpg
ORGANIZER;CN="Devin Guilfoyle":MAILTO:dguilfoyle@nhaudubon.org
END:VEVENT
BEGIN:VEVENT
DTSTART;TZID=America/New_York:20230805T090000
DTEND;TZID=America/New_York:20230805T103000
DTSTAMP:20260421T111401
CREATED:20230719T193254Z
LAST-MODIFIED:20230725T135150Z
UID:10002096-1691226000-1691231400@nhaudubon.org
SUMMARY:Weekly Meet the Locals Program\, Bird Identification Walk - August 5
DESCRIPTION:Saturdays: July 22 and every week following from August 5 – September 9\, 2023. \nLocation: Hebron Marsh Wildlife Sanctuary\, please meet at Ash Cottage. \nOpen new realms each week as our Lead Naturalist helps participants of all ages focus their senses on different fascinating elements of their surroundings such as: birds\, trees\, ferns\, wildflowers\, and more. Limited pairs of binoculars are available for use. Participants are encouraged to bring their own binoculars and/or field guides for further exploration. \nRSVP recommended. \nThis program will happen rain or shine (except in the case of thunderstorms).
URL:https://nhaudubon.org/event/weekly-meet-the-locals-bird-identification-walk-08-05-2023/
LOCATION:Ash Cottage\, 50 North Shore Road\, Hebron\, NH\, 03241\, United States
ATTACH;FMTTYPE=image/jpeg:https://nhaudubon.org/wp-content/uploads/birding-e1690293102348.jpg
ORGANIZER;CN="Devin Guilfoyle":MAILTO:dguilfoyle@nhaudubon.org
END:VEVENT
BEGIN:VEVENT
DTSTART;TZID=America/New_York:20230730T130000
DTEND;TZID=America/New_York:20230730T150000
DTSTAMP:20260421T111401
CREATED:20230719T205724Z
LAST-MODIFIED:20230725T133109Z
UID:10002110-1690722000-1690729200@nhaudubon.org
SUMMARY:Weekly Sanctuary Explorers Program - July 30
DESCRIPTION:Sundays: July 23 – September 10\, 2023. \nLocation: Bear Mountain Wildlife Sanctuary\, please meet at Ash Cottage. \nDiscover the many charming trails around the three Newfound Audubon sanctuaries and conservation properties each week\, as a NH Audubon Naturalist leads intrepid families to summits with spectacular views and along streams and wetlands. RSVP is required (see below) as group size is limited to 15 to follow Leave No Trace practices. Participants should expect moderate to steep terrain. \nThis program will happen rain or shine (except in the case of thunderstorms).
URL:https://nhaudubon.org/event/weekly-sanctuary-explorers-program-07-30-2023/
LOCATION:Ash Cottage\, 50 North Shore Road\, Hebron\, NH\, 03241\, United States
ATTACH;FMTTYPE=image/jpeg:https://nhaudubon.org/wp-content/uploads/bear-mountain-e1690293486107.jpg
ORGANIZER;CN="Devin Guilfoyle":MAILTO:dguilfoyle@nhaudubon.org
END:VEVENT
END:VCALENDAR