BEGIN:VCALENDAR
VERSION:2.0
PRODID:-//NH Audubon - ECPv6.15.11//NONSGML v1.0//EN
CALSCALE:GREGORIAN
METHOD:PUBLISH
X-ORIGINAL-URL:https://nhaudubon.org
X-WR-CALDESC:Events for NH Audubon
REFRESH-INTERVAL;VALUE=DURATION:PT1H
X-Robots-Tag:noindex
X-PUBLISHED-TTL:PT1H
BEGIN:VTIMEZONE
TZID:America/New_York
BEGIN:DAYLIGHT
TZOFFSETFROM:-0500
TZOFFSETTO:-0400
TZNAME:EDT
DTSTART:20220313T070000
END:DAYLIGHT
BEGIN:STANDARD
TZOFFSETFROM:-0400
TZOFFSETTO:-0500
TZNAME:EST
DTSTART:20221106T060000
END:STANDARD
BEGIN:DAYLIGHT
TZOFFSETFROM:-0500
TZOFFSETTO:-0400
TZNAME:EDT
DTSTART:20230312T070000
END:DAYLIGHT
BEGIN:STANDARD
TZOFFSETFROM:-0400
TZOFFSETTO:-0500
TZNAME:EST
DTSTART:20231105T060000
END:STANDARD
BEGIN:DAYLIGHT
TZOFFSETFROM:-0500
TZOFFSETTO:-0400
TZNAME:EDT
DTSTART:20240310T070000
END:DAYLIGHT
BEGIN:STANDARD
TZOFFSETFROM:-0400
TZOFFSETTO:-0500
TZNAME:EST
DTSTART:20241103T060000
END:STANDARD
END:VTIMEZONE
BEGIN:VEVENT
DTSTART;TZID=America/New_York:20230817T173000
DTEND;TZID=America/New_York:20230817T193000
DTSTAMP:20260419T124135
CREATED:20230814T164625Z
LAST-MODIFIED:20230814T164625Z
UID:10002157-1692293400-1692300600@nhaudubon.org
SUMMARY:Something Wild's 25th Anniversary Celebration
DESCRIPTION:Something Wild has been exploring the wonder of the landscape that surrounds us in New Hampshire for 25 years! \nJoin Dave Anderson\, Chris Martin\, and members of the Something Wild team past and present at the McLane Audubon Center in Concord\, NH on August 17\, for an afternoon of celebration. You can expect to frolic through the brand new pollinator gardens\, learn more about the on-site raptors\, and enjoy activities throughout the center. We will have two different scavenger hunts\, lawn games\, a special blend of pollinator seeds for you to bring home for your own yard\, and a food truck on site! \nThis is a family-friendly event with wheelchair and stroller accessible trails. \nPlease register for each member of your household over the age of 2.
URL:https://nhaudubon.org/event/something-wilds-25th-anniversary-celebration/
LOCATION:McLane Center\, 84 Silk Farm Road\, Concord\, NH\, 03301\, United States
ATTACH;FMTTYPE=image/jpeg:https://nhaudubon.org/wp-content/uploads/Untitled-design-2-e1692031563326.jpg
ORGANIZER;CN="Anita Fernandez":MAILTO:afernandez@nhaudubon.org
END:VEVENT
END:VCALENDAR