BEGIN:VCALENDAR
VERSION:2.0
PRODID:-//NH Audubon - ECPv6.15.11//NONSGML v1.0//EN
CALSCALE:GREGORIAN
METHOD:PUBLISH
X-ORIGINAL-URL:https://nhaudubon.org
X-WR-CALDESC:Events for NH Audubon
REFRESH-INTERVAL;VALUE=DURATION:PT1H
X-Robots-Tag:noindex
X-PUBLISHED-TTL:PT1H
BEGIN:VTIMEZONE
TZID:America/New_York
BEGIN:DAYLIGHT
TZOFFSETFROM:-0500
TZOFFSETTO:-0400
TZNAME:EDT
DTSTART:20200308T070000
END:DAYLIGHT
BEGIN:STANDARD
TZOFFSETFROM:-0400
TZOFFSETTO:-0500
TZNAME:EST
DTSTART:20201101T060000
END:STANDARD
BEGIN:DAYLIGHT
TZOFFSETFROM:-0500
TZOFFSETTO:-0400
TZNAME:EDT
DTSTART:20210314T070000
END:DAYLIGHT
BEGIN:STANDARD
TZOFFSETFROM:-0400
TZOFFSETTO:-0500
TZNAME:EST
DTSTART:20211107T060000
END:STANDARD
BEGIN:DAYLIGHT
TZOFFSETFROM:-0500
TZOFFSETTO:-0400
TZNAME:EDT
DTSTART:20220313T070000
END:DAYLIGHT
BEGIN:STANDARD
TZOFFSETFROM:-0400
TZOFFSETTO:-0500
TZNAME:EST
DTSTART:20221106T060000
END:STANDARD
BEGIN:DAYLIGHT
TZOFFSETFROM:-0500
TZOFFSETTO:-0400
TZNAME:EDT
DTSTART:20230312T070000
END:DAYLIGHT
BEGIN:STANDARD
TZOFFSETFROM:-0400
TZOFFSETTO:-0500
TZNAME:EST
DTSTART:20231105T060000
END:STANDARD
END:VTIMEZONE
BEGIN:VEVENT
DTSTART;TZID=America/New_York:20211203T080000
DTEND;TZID=America/New_York:20211203T093000
DTSTAMP:20260423T201156
CREATED:20211130T202527Z
LAST-MODIFIED:20211130T202527Z
UID:10000891-1638518400-1638523800@nhaudubon.org
SUMMARY:Birding Walk at Massabesic Center
DESCRIPTION:Join NH Audubon for a birding walk along the trails at Massabesic Center (MAC) in Auburn. \nRed-bellied Woodpecker\, by Pam Hunt.\nThis is an hour-long\, informal birding walk that begins at MAC and explores the trails with Slater\, Massabesic Center’s Education Coordinator. All ages and skill levels of birders are welcome. If you are new to birding\, come and learn the basics! If you are an avid birder\, come to learn new techniques\, network with other birders\, or share your expertise with the group.\n \nThe walks happen every Friday until the end of the year\, except for holiday weekends (Dec. 25 and 31). \nCost: $8 Members/$10 Non-members. Registration is required; please purchase your tickets (below)\, although there are no actual hard-copy tickets.
URL:https://nhaudubon.org/event/birding-walk-at-massabesic-center-2/
LOCATION:Massabesic Center\, 26 Audubon Way\, Auburn\, NH\, United States
CATEGORIES:Field Trip,Nature Walk
ATTACH;FMTTYPE=image/gif:https://nhaudubon.org/wp-content/uploads/RBWO-m5-E-Haven-CT-11-Oct-15-sm-e1705934397635.gif
ORGANIZER;CN="Slater Roosa":MAILTO:sroosa@nhaudubon.org
END:VEVENT
BEGIN:VEVENT
DTSTART;TZID=America/New_York:20211208T190000
DTEND;TZID=America/New_York:20211208T203000
DTSTAMP:20260423T201156
CREATED:20210318T192953Z
LAST-MODIFIED:20211130T203422Z
UID:10000711-1638990000-1638995400@nhaudubon.org
SUMMARY:Old-Growth Forests: Biodiversity and Carbon Storage Powerhouses Worth Saving
DESCRIPTION:Old-Growth Forests are rare in New Hampshire\, the second most heavily forested state in the nation. Less than one percent of New Hampshire forests are considered old-growth\, while their value for ecosystem services including carbon storage and biodiversity is great. This presentation will describe how you can recognize the unique characteristics of such a forest\, important ecological attributes\, and the wildlife that favor such forests. \nWe will take a visual tour of some of New Hampshire’s finest old-growth forests from around the state. We will discuss the importance of these forests as carbon reserves to help cool the planet and as places where nature is a source of inspiration. We will meet some of the residents of such forests like the Blackburnian Warbler\, flying squirrel\, and American marten who prefer this type of forest habitat. We need both sustainably managed forests and ancient forests where trees can reach their maximum biological age. I will make the case that both kinds of forests are working forests. \nRegister for this free webinar through Zoom. \n \nThis webinar is part of the year-long Exploring Connections to and Stewardship of the Natural World talks. This series is supported by a grant through the NH Humanities Council and aims to provide a public and personal space for the examination of environmental ethics\, fostering a deeper understanding of\, appreciation for\, and care of\, our natural world. Programs are free to the public\, and streamed via Zoom\, YouTube\, and Facebook Live.  \nFor more information and to see the entire slate of talks\, visit our series webpage. \nSpeaker Bio: \nDavid Govatski is a retired forester and silviculturist and was employed by the US Forest Service for 33 years. He has visited and studied old-growth forests in all parts of North America. He has a particular affinity for Alaska’s Tongass National Forest. David was co-author of Forests for the People: The Story of the Eastern National Forests and numerous articles on forest history. David works as a Naturalist and lives with his wife in Jefferson\, NH.
URL:https://nhaudubon.org/event/old-growth-forests/
LOCATION:NH
CATEGORIES:Webinar,Zoom Talk
ATTACH;FMTTYPE=image/jpeg:https://nhaudubon.org/wp-content/uploads/Exploring-Connections-Series-Title-Image-web-e1616086205157.jpg
ORGANIZER;CN="Diane De Luca":MAILTO:ddeluca@nhaudubon.org
END:VEVENT
BEGIN:VEVENT
DTSTART;TZID=America/New_York:20211208T193000
DTEND;TZID=America/New_York:20211208T203000
DTSTAMP:20260423T201156
CREATED:20210903T154430Z
LAST-MODIFIED:20211123T131208Z
UID:10000844-1638991800-1638995400@nhaudubon.org
SUMMARY:A World on the Wing: The Global Odyssey of Migratory Birds
DESCRIPTION:Even as scientists make astounding discoveries about the navigational and physiological feats that enable migratory birds to cross immense oceans or fly above the highest mountains\, go weeks without sleep or remain in unbroken flight for months at a stretch\, humans have brought many migrants to the brink. Based on his newest book\, “A World on the Wing\,” author and researcher Scott Weidensaul takes you around the globe with researchers in the lab probing the limits of what migrating birds can do\, to the shores of the Yellow Sea in China\, to the remote mountains of northeastern India where tribal villages saved the greatest gathering of falcons on the planet\, and the Mediterranean where activists and police battle bird poachers to learn how people are fighting to understand and save the world’s great bird migrations. \nScott Weidensaul with a Snowy Owl (©Chris DeSorbo).\nNovember and December Zoom programs begin at 7:30 pm\, but feel free to sign on early after 7 pm to socialize. You may need to download Zoom to attend the program. Please register in advance for this Zoom meeting at the chapter website. You can register right up through the start time. After registering\, you will receive a confirmation email containing information about joining the program. \nBio: Scott Weidensaul is the author of more than two dozen books on natural history\, including the Pulitzer Prize finalist Living on the Wind\, Return to Wild America and The First Frontier. His newest book\, A World on the Wing about global migration\, was released in March 2021. Weidensaul is a contributing editor for National Audubon\, a columnist for Bird Watcher’s Digest and writes for a variety of other publications\, including Cornell Lab of Ornithology’s Living Bird. He is also an active field researcher\, studying Northern Saw-whet Owl migration for more than two decades\, as well as winter hummingbirds\, bird migration in Alaska\, and the winter movements of Snowy Owls through Project SNOWstorm\, which he co-founded. \n  \nThe Seacoast Chapter meets monthly on the second Wednesday except the months of July and August unless there is a special program. 7 pm social and the meetings begin at 7:30 pm unless otherwise noted (entrance doors locked at 7:45 pm). The public is welcome free of charge. Meetings are held at the Seacoast Science Center at Odiorne State Park\, Route 1A\, Rye\, NH. Wheelchair accessible. For more information on chapter programs\, please contact: Dan Hubbard\, (603) 332-4093 or danielhubbard@peoplepc.com. Cancellations will be posted on The Seacoast Chapter web site: http://www.seacoastchapter.org.
URL:https://nhaudubon.org/event/a-world-on-the-wing-the-global-odyssey-of-migratory-birds-2/
LOCATION:Zoom Link\, United States
CATEGORIES:Chapter Program,Zoom Talk
ATTACH;FMTTYPE=image/jpeg:https://nhaudubon.org/wp-content/uploads/Scott-Weidensaul-©Chris-DeSorbo-e1616092427202.jpg
ORGANIZER;CN="Seacoast Chapter":MAILTO:danielhubbard@peoplepc.com
END:VEVENT
BEGIN:VEVENT
DTSTART;TZID=America/New_York:20211209T130000
DTEND;TZID=America/New_York:20211209T160000
DTSTAMP:20260423T201156
CREATED:20211201T164454Z
LAST-MODIFIED:20211201T175533Z
UID:10000787-1639054800-1639065600@nhaudubon.org
SUMMARY:McLane and Massabesic Centers Closed
DESCRIPTION:We are closing this afternoon for a staff event.
URL:https://nhaudubon.org/event/mclane-center-closed-2/
LOCATION:McLane Center\, 84 Silk Farm Road\, Concord\, NH\, 03301\, United States
END:VEVENT
BEGIN:VEVENT
DTSTART;TZID=America/New_York:20211210T080000
DTEND;TZID=America/New_York:20211210T093000
DTSTAMP:20260423T201156
CREATED:20211130T202747Z
LAST-MODIFIED:20211130T202747Z
UID:10000892-1639123200-1639128600@nhaudubon.org
SUMMARY:Birding Walk at Massabesic Center
DESCRIPTION:Join NH Audubon for a birding walk along the trails at Massabesic Center (MAC) in Auburn. \nRed-bellied Woodpecker\, by Pam Hunt.\nThis is an hour-long\, informal birding walk that begins at MAC and explores the trails with Slater\, Massabesic Center’s Education Coordinator. All ages and skill levels of birders are welcome. If you are new to birding\, come and learn the basics! If you are an avid birder\, come to learn new techniques\, network with other birders\, or share your expertise with the group.\n \nThe walks happen every Friday until the end of the year\, except for holiday weekends (Dec. 25 and 31). \nCost: $8 Members/$10 Non-members. Registration is required; please purchase your tickets (below)\, although there are no actual hard-copy tickets.
URL:https://nhaudubon.org/event/birding-walk-at-massabesic-center-3/
LOCATION:Massabesic Center\, 26 Audubon Way\, Auburn\, NH\, United States
CATEGORIES:Field Trip,Nature Walk
ATTACH;FMTTYPE=image/gif:https://nhaudubon.org/wp-content/uploads/RBWO-m5-E-Haven-CT-11-Oct-15-sm-e1705934397635.gif
ORGANIZER;CN="Slater Roosa":MAILTO:sroosa@nhaudubon.org
END:VEVENT
BEGIN:VEVENT
DTSTART;TZID=America/New_York:20211214T100000
DTEND;TZID=America/New_York:20211214T104500
DTSTAMP:20260423T201156
CREATED:20211130T204246Z
LAST-MODIFIED:20211130T204246Z
UID:10000894-1639476000-1639478700@nhaudubon.org
SUMMARY:Brockway Nature Outing for Preschool Ages
DESCRIPTION:Join New Hampshire Audubon at Brockway Nature Preserve in Hopkinton for nature exploration with your 3-5 year old. The programs will be held the 2nd and 4th Tuesday of every month. Each Tuesday will be an exciting theme relating to the seasons and wildlife (see below). It will begin at 10am and run for about 45 minutes. \nThis is an outdoor location with no bathroom facilities. Please dress children for the weather and be ready to walk on the trail\, sit on logs and the ground\, and dig in the dirt! \nPrograms will be cancelled if poor weather is predicted during the program time\, participants will be notified by email.  \nDirections: To find the meeting circle\, park at the Brockway Nature Preserve parking area along Farrington Corners Road in Hopkinton\, then follow the entrance trail across the bridge to the circle. For detailed directions\, visit hop-kintonconservaland.org/Brockway-preserve. \nCost: Free to Hopkinton Residents*; Non-resident NH Audubon members: $5/family; Non-resident non-members: $10/family \nRegistration is required. For questions\, please email Shelby Morelli. \nMaximum: 10 children \n*Thanks to an endowment from Dorothy Brockway Osborn this program is free for Hopkinton Residents. \nThemes:  \nNovember 23: Oh Deer! \nDecember 14: Evergreens and Cones \nDecember 28: Sleepy Critters \nJanuary 11: Wildlife Homes \nJanuary 25: Who made that Track? \nFebruary 8: Flighted Friends \nFebruary 22: Animal Babies \nMarch 8: Hide and Seek \nMarch 22: Welcome Spring! \nApril 12: Who lives in a Shell? \nApril 26: Busy Beavers \nMay 10: Who lives in the Pond? \nMay 24: Insect Investigation
URL:https://nhaudubon.org/event/brockway-nature-outing-for-preschool-ages/
LOCATION:Brockway Nature Preserve\, Farrington Corner Road\, Hopkinton\, NH\, United States
CATEGORIES:Nature Walk,Preschool Aged Activity
ATTACH;FMTTYPE=image/jpeg:https://nhaudubon.org/wp-content/uploads/Being-a-bird-at-brockway.jpg
ORGANIZER;CN="Shelby Morelli":MAILTO:smorelli@nhaudubon.org
GEO:43.171121;-71.622851
X-APPLE-STRUCTURED-LOCATION;VALUE=URI;X-ADDRESS=Brockway Nature Preserve Farrington Corner Road Hopkinton NH United States;X-APPLE-RADIUS=500;X-TITLE=Farrington Corner Road:geo:-71.622851,43.171121
END:VEVENT
BEGIN:VEVENT
DTSTART;TZID=America/New_York:20211215T190000
DTEND;TZID=America/New_York:20211215T203000
DTSTAMP:20260423T201156
CREATED:20210407T182246Z
LAST-MODIFIED:20211213T193137Z
UID:10000726-1639594800-1639600200@nhaudubon.org
SUMMARY:Conserving Land: NH's History and Today
DESCRIPTION:December 15\, 7pm\nPaul Doscher\nVP Land Conservation\, SPNHF\, retired \nPrivate land conservation is an essential part of ensuring the future of wildlife habitat\, agriculture\, forestry and outdoor recreation in New Hampshire. The program will include a brief history of land conservation in America and New Hampshire. Learn about the various options for land protection available to landowners in New Hampshire and which might be most appropriate for your land or family land. Paul will explain the steps involved in a land conservation project\, how long it might take and what it might cost\, as well as the possible financial benefits. \nRegister Here \nThis webinar is part of the year-long Exploring Connections to and Stewardship of the Natural World talks. This series is supported by a grant through the NH Humanities Council and aims to provide a public and personal space for the examination of environmental ethics\, fostering a deeper understanding of\, appreciation for\, and care of\, our natural world. Programs are free to the public\, and streamed via Zoom\, YouTube\, and Facebook Live.  \nFor more information and to see the entire slate of talks\, visit our series webpage. \nSpeaker Bio: \nPaul Doscher was the vice president for land conservation at the Society for the Protection of NH Forests until his retirement in 2014. During his 28 years with the Forest Society he was involved in hundreds of land conservation projects ranging in size from a dozen acres to more than 175\,000 acres. He has served as the Board chair of the Piscataquog Land Conservancy\, and the Standards Advisory Team for the Land Trust Alliance. He lives on his family’s farm and Tree Farm\, protected by a conservation easement\, in Weare. He currently is a member of the Board of Trustees of NH Audubon. \n 
URL:https://nhaudubon.org/event/conserving-land-nhs-history-and-today/
LOCATION:NH
CATEGORIES:Webinar,Zoom Talk
ATTACH;FMTTYPE=image/jpeg:https://nhaudubon.org/wp-content/uploads/Exploring-Connections-Series-Title-Image-web-e1616086205157.jpg
ORGANIZER;CN="Diane De Luca":MAILTO:ddeluca@nhaudubon.org
END:VEVENT
BEGIN:VEVENT
DTSTART;TZID=America/New_York:20211217T080000
DTEND;TZID=America/New_York:20211217T093000
DTSTAMP:20260423T201156
CREATED:20211130T202942Z
LAST-MODIFIED:20211130T202942Z
UID:10000893-1639728000-1639733400@nhaudubon.org
SUMMARY:Birding Walk at Massabesic Center
DESCRIPTION:Join NH Audubon for a birding walk along the trails at Massabesic Center (MAC) in Auburn. \nRed-bellied Woodpecker\, by Pam Hunt.\nThis is an hour-long\, informal birding walk that begins at MAC and explores the trails with Slater\, Massabesic Center’s Education Coordinator. All ages and skill levels of birders are welcome. If you are new to birding\, come and learn the basics! If you are an avid birder\, come to learn new techniques\, network with other birders\, or share your expertise with the group.\n \nThe walks happen every Friday until the end of the year\, except for holiday weekends (Dec. 25 and 31). \nCost: $8 Members/$10 Non-members. Registration is required; please purchase your tickets (below)\, although there are no actual hard-copy tickets.
URL:https://nhaudubon.org/event/birding-walk-at-massabesic-center-4/
LOCATION:Massabesic Center\, 26 Audubon Way\, Auburn\, NH\, United States
CATEGORIES:Field Trip,Nature Walk
ATTACH;FMTTYPE=image/gif:https://nhaudubon.org/wp-content/uploads/RBWO-m5-E-Haven-CT-11-Oct-15-sm-e1705934397635.gif
ORGANIZER;CN="Slater Roosa":MAILTO:sroosa@nhaudubon.org
END:VEVENT
BEGIN:VEVENT
DTSTART;TZID=America/New_York:20211217T120000
DTEND;TZID=America/New_York:20211217T160000
DTSTAMP:20260423T201156
CREATED:20211201T164551Z
LAST-MODIFIED:20211201T175525Z
UID:10000789-1639742400-1639756800@nhaudubon.org
SUMMARY:McLane and Massabesic Centers Closed
DESCRIPTION:We are closing this afternoon for a staff event.
URL:https://nhaudubon.org/event/mclane-center-closed-3/
LOCATION:McLane Center\, 84 Silk Farm Road\, Concord\, NH\, 03301\, United States
END:VEVENT
BEGIN:VEVENT
DTSTART;VALUE=DATE:20211223
DTEND;VALUE=DATE:20220104
DTSTAMP:20260423T201156
CREATED:20211201T163953Z
LAST-MODIFIED:20211201T164135Z
UID:10000895-1640217600-1641254399@nhaudubon.org
SUMMARY:McLane Center Closed
DESCRIPTION:We are closing for the holiday break and will reopen on Tuesday\, January 4\, 2022. \nHappy New Year!
URL:https://nhaudubon.org/event/mclane-center-closed/
LOCATION:McLane Center\, 84 Silk Farm Road\, Concord\, NH\, 03301\, United States
END:VEVENT
BEGIN:VEVENT
DTSTART;VALUE=DATE:20211223
DTEND;VALUE=DATE:20220104
DTSTAMP:20260423T201156
CREATED:20211201T164038Z
LAST-MODIFIED:20211201T164143Z
UID:10000785-1640217600-1641254399@nhaudubon.org
SUMMARY:Massabesic Center Closed
DESCRIPTION:We are closing for the holiday break and will reopen on Tuesday\, January 4\, 2022. \nHappy New Year!
URL:https://nhaudubon.org/event/massabesic-center-closed/
LOCATION:Massabesic Center\, 26 Audubon Way\, Auburn\, NH\, United States
END:VEVENT
BEGIN:VEVENT
DTSTART;TZID=America/New_York:20211228T100000
DTEND;TZID=America/New_York:20211228T104500
DTSTAMP:20260423T201156
CREATED:20211213T160408Z
LAST-MODIFIED:20211213T160631Z
UID:10000793-1640685600-1640688300@nhaudubon.org
SUMMARY:Brockway Nature Outing for Preschool Ages
DESCRIPTION:Join New Hampshire Audubon at Brockway Nature Preserve in Hopkinton for nature exploration with your 3-5 year old. The programs will be held the 2nd and 4th Tuesday of every month. Each Tuesday will be an exciting theme relating to the seasons and wildlife (see below). It will begin at 10am and run for about 45 minutes. \nThis is an outdoor location with no bathroom facilities. Please dress children for the weather and be ready to walk on the trail\, sit on logs and the ground\, and dig in the dirt! \nPrograms will be cancelled if poor weather is predicted during the program time\, participants will be notified by email.  \nDirections: To find the meeting circle\, park at the Brockway Nature Preserve parking area along Farrington Corners Road in Hopkinton\, then follow the entrance trail across the bridge to the circle. For detailed directions\, visit hop-kintonconservaland.org/Brockway-preserve. \nCost: Free to Hopkinton Residents*; Non-resident NH Audubon members: $5/family; Non-resident non-members: $10/family \nRegistration is required. For questions\, please email Shelby Morelli. \nMaximum: 10 children \n*Thanks to an endowment from Dorothy Brockway Osborn this program is free for Hopkinton Residents. \nThemes:  \nNovember 23: Oh Deer! \nDecember 14: Evergreens and Cones \nDecember 28: Sleepy Critters \nJanuary 11: Wildlife Homes \nJanuary 25: Who made that Track? \nFebruary 8: Flighted Friends \nFebruary 22: Animal Babies \nMarch 8: Hide and Seek \nMarch 22: Welcome Spring! \nApril 12: Who lives in a Shell? \nApril 26: Busy Beavers \nMay 10: Who lives in the Pond? \nMay 24: Insect Investigation
URL:https://nhaudubon.org/event/brockway-nature-outing-for-preschool-ages-dec28-2021/
LOCATION:Brockway Nature Preserve\, Farrington Corner Road\, Hopkinton\, NH\, United States
CATEGORIES:Nature Walk,Preschool Aged Activity
ATTACH;FMTTYPE=image/jpeg:https://nhaudubon.org/wp-content/uploads/Being-a-bird-at-brockway.jpg
ORGANIZER;CN="Shelby Morelli":MAILTO:smorelli@nhaudubon.org
GEO:43.171121;-71.622851
X-APPLE-STRUCTURED-LOCATION;VALUE=URI;X-ADDRESS=Brockway Nature Preserve Farrington Corner Road Hopkinton NH United States;X-APPLE-RADIUS=500;X-TITLE=Farrington Corner Road:geo:-71.622851,43.171121
END:VEVENT
END:VCALENDAR