BEGIN:VCALENDAR
VERSION:2.0
PRODID:-//NH Audubon - ECPv6.15.11//NONSGML v1.0//EN
CALSCALE:GREGORIAN
METHOD:PUBLISH
X-ORIGINAL-URL:https://nhaudubon.org
X-WR-CALDESC:Events for NH Audubon
REFRESH-INTERVAL;VALUE=DURATION:PT1H
X-Robots-Tag:noindex
X-PUBLISHED-TTL:PT1H
BEGIN:VTIMEZONE
TZID:America/New_York
BEGIN:DAYLIGHT
TZOFFSETFROM:-0500
TZOFFSETTO:-0400
TZNAME:EDT
DTSTART:20200308T070000
END:DAYLIGHT
BEGIN:STANDARD
TZOFFSETFROM:-0400
TZOFFSETTO:-0500
TZNAME:EST
DTSTART:20201101T060000
END:STANDARD
BEGIN:DAYLIGHT
TZOFFSETFROM:-0500
TZOFFSETTO:-0400
TZNAME:EDT
DTSTART:20210314T070000
END:DAYLIGHT
BEGIN:STANDARD
TZOFFSETFROM:-0400
TZOFFSETTO:-0500
TZNAME:EST
DTSTART:20211107T060000
END:STANDARD
BEGIN:DAYLIGHT
TZOFFSETFROM:-0500
TZOFFSETTO:-0400
TZNAME:EDT
DTSTART:20220313T070000
END:DAYLIGHT
BEGIN:STANDARD
TZOFFSETFROM:-0400
TZOFFSETTO:-0500
TZNAME:EST
DTSTART:20221106T060000
END:STANDARD
END:VTIMEZONE
BEGIN:VEVENT
DTSTART;VALUE=DATE:20210823
DTEND;VALUE=DATE:20210907
DTSTAMP:20260425T150237
CREATED:20210823T192158Z
LAST-MODIFIED:20210823T192158Z
UID:10000837-1629676800-1630972799@nhaudubon.org
SUMMARY:Native Plant Sale
DESCRIPTION:August 23 – September 6\nonline sale\, pick up in person on September 12\nBagley Pond Perennials and McLane Center \nFall is a great time to refresh and enhance your garden with native plants! Bagley Pond Perennials is hosting an online Native Plant Sale to benefit to the McLane Center Pollinator Garden. The two-week event will take place on the Bagley Pond website. People interested in purchasing native plants for their gardens can do so online\, followed by a scheduled pickup at NH Audubon’s McLane Center on September 12\, from 12-4pm.
URL:https://nhaudubon.org/event/native-plant-sale/
LOCATION:NH
ORGANIZER;CN="Diane De Luca":MAILTO:ddeluca@nhaudubon.org
END:VEVENT
BEGIN:VEVENT
DTSTART;TZID=America/New_York:20210907T190000
DTEND;TZID=America/New_York:20210907T203000
DTSTAMP:20260425T150237
CREATED:20210407T183141Z
LAST-MODIFIED:20210907T203723Z
UID:10000727-1631041200-1631046600@nhaudubon.org
SUMMARY:Nature Connection in NH Schools - POSTPONED
DESCRIPTION:September 7\, 7pm – this program is being postponed until a later date\, tbd\nJamie Hannon\nProfessor of Adventure Education\, Plymouth State University \nChildren aged 6-17 spend most of their weekday waking hours in school. For most students in NH this time is spent primarily indoors or in constructed outdoor environments. As children everywhere experience a decreasing sense of connection to nature\, schools that keep their students indoors are missing an opportunity to improve their kids’ wellness\, social-emotional development and academic achievement. \nThis program takes a close look at one NH public school that has taken a different approach: the Mountain Village Charter School of Plymouth. Serving grades 1-8 with an educational program dedicated to immersive\, daily nature experiences\, the school has experienced numerous successes\, and some challenges too\, as it seeks to bring all its students into a deeper connection with the landscape of NH. \n\n\n\n  \nRegister here. \n \nThis webinar is part of the year-long Exploring Connections to and Stewardship of the Natural World talks. This series is supported by a grant through the NH Humanities Council and aims to provide a public and personal space for the examination of environmental ethics\, fostering a deeper understanding of\, appreciation for\, and care of\, our natural world. Programs are free to the public\, and streamed via Zoom\, YouTube\, and Facebook Live.  \nFor more information and to see the entire slate of talks\, visit our series webpage. \nSpeaker Bio: \nJamie Hannon has taught outdoor and environmental education for 35 years and is currently a professor of adventure education at Plymouth State University. He dwells with his family in the Asquamchumaukee River valley in the southwestern foothills of the White Mountains. He is a founding member and board chair of the Mountain Village Charter School\, the only nature-based\, Montessori\, public school in the world. \n 
URL:https://nhaudubon.org/event/nature-connection-in-nh-schools/
LOCATION:NH
CATEGORIES:Webinar,Zoom Talk
ATTACH;FMTTYPE=image/jpeg:https://nhaudubon.org/wp-content/uploads/Exploring-Connections-Series-Title-Image-web-e1616086205157.jpg
ORGANIZER;CN="Diane De Luca":MAILTO:ddeluca@nhaudubon.org
END:VEVENT
BEGIN:VEVENT
DTSTART;TZID=America/New_York:20210908T193000
DTEND;TZID=America/New_York:20210908T203000
DTSTAMP:20260425T150237
CREATED:20210903T152735Z
LAST-MODIFIED:20210903T153120Z
UID:10000840-1631129400-1631133000@nhaudubon.org
SUMMARY:Birding the Lesser Antilles
DESCRIPTION:Bob and Dana Fox visited 10 islands in the Lesser Antilles\, a chain of islands in the southeast Caribbean in 2020. Their talk will discuss the amazing geology of the region\, its rich history of sugar plantations and rum making and its wonderful birds. These islands exhibit a high degree of endemism and each island introduced them to many new and interesting species and varied sub-species. \nMagnificent Frigatebird\, by Bob and Dana Fox.\nThey visited four of the islands on their own with local guides moving from island to island by ferry or plane. They then flew to Barbados and boarded the elegant Sea Cloud\, a four-masted sailing vessel from which they explored the remaining five islands. It was a fascinating trip which they managed to squeeze in just before the pandemic changed the world. \nBio: Dana and Bob Fox both began bir ding in their youth. They have birded the US (list 750 species) and the world (6300 species) visiting 6 continents and over 40 countries. They have given numerous talks in MA and NH about the birds of countries they have visited. Dana has spent 50+ summers in NH where she became fascinated by loons. The Loon Preservation Committee presented her with their Spirit of the Loon Award. She is a past Secretary of the Nuttall Ornithological Club\, Past President of the Merrimack Valley Bird Club and frequent speaker. She has written articles on birding and crows in the American Birding Association’s Birding magazine and one on the Lawrence Crow Roost in Bird Observer. Bob has co-authored Birds of New Hampshire\, a 477 page book describing the status and distribution of birds known from NH (2013). He has published in A uk and Wilson Bulletin\, written species accounts for the first MA Breeding Bird Atlas as well as articles in publications of both NH and Mass Audubon Societies. His MA species list is 451. In the past\, Bob collected specimens for five museums including Museum of Comparative Zoology. In addition\, he helped found Manomet Bird Observatory\, and is past President of South Shore Bird Club. He received the Goodhue-Elkins Award (2014) from NH Audubon for “contributions to the ornithology of NH”. This is the Seacoast Chapter annual business meeting for the election of executive board officers. \nThe Seacoast Chapter meets monthly on the second Wednesday except the months of July and August unless there is a special program. 7 pm social and the meetings begin at 7:30 pm unless otherwise noted (entrance doors locked at 7:45 pm). The public is welcome free of charge. Meetings are held at the Seacoast Science Center at Odiorne State Park\, Route 1A\, Rye\, NH. Wheelchair accessible. For more information on chapter programs\, please contact: Dan Hubbard\, (603) 332-4093 or danielhubbard@peoplepc.com. Cancellations will be posted on The Seacoast Chapter web site: http://www.seacoastchapter.org.
URL:https://nhaudubon.org/event/birding-the-lesser-antilles/
LOCATION:Seacoast Science Center\, Odiorne State Park\, Route 1A\, Rye\, NH\, United States
CATEGORIES:Chapter Program
ATTACH;FMTTYPE=image/jpeg:https://nhaudubon.org/wp-content/uploads/Magnificent-Frigatebird-Bob-and-Dana-Fox-e1630694683294.jpg
ORGANIZER;CN="Seacoast Chapter":MAILTO:danielhubbard@peoplepc.com
END:VEVENT
BEGIN:VEVENT
DTSTART;TZID=America/New_York:20210911T080000
DTEND;TZID=America/New_York:20210911T120000
DTSTAMP:20260425T150237
CREATED:20210903T164159Z
LAST-MODIFIED:20210903T172120Z
UID:10000848-1631347200-1631361600@nhaudubon.org
SUMMARY:Pickering Ponds Fall Beginning Bird Walk-Saturday
DESCRIPTION:NH Audubon Seacoast Chapter volunteer Dan Hubbard will lead three Beginning Bird Walks (BBW) this Fall. Although these walks are geared with the beginner birder in mind\, birders of all levels of expertise are encouraged to participate and share their experiences. \nBBW: Pickering Ponds Saturday\, September 11\, 8 am – 12 pm \nThis walk will traverse Rochester city park trails along the Cocheco River and around the old wastewater treatment facility settling ponds. Meet at the Pickering Ponds parking area. The entrance is about a mile south of the Rochester Wastewater Treatment Plant on Pickering Road (opposite mailbox #374). \nDue to the COVID-19 pandemic\, this field trip will be limited to 20 participants. Visit the Seacoast Chapter site for more information and to sign up. \nContact: Dan Hubbard at danielhubbard@peoplepc.com or 603 -332-4093. \nCancellations will be posted on the Seacoast Chapter website.
URL:https://nhaudubon.org/event/pickering-ponds-fall-beginning-bird-walk-saturday/
LOCATION:NH
CATEGORIES:Chapter Field Trip,Field Trip,Nature Walk
ATTACH;FMTTYPE=image/png:https://nhaudubon.org/wp-content/uploads/seacoast-chapter-logo.png
ORGANIZER;CN="Seacoast Chapter":MAILTO:danielhubbard@peoplepc.com
END:VEVENT
BEGIN:VEVENT
DTSTART;TZID=America/New_York:20210913T190000
DTEND;TZID=America/New_York:20210913T203000
DTSTAMP:20260425T150237
CREATED:20210318T185645Z
LAST-MODIFIED:20210409T153314Z
UID:10000802-1631559600-1631565000@nhaudubon.org
SUMMARY:Beauty and Reciprocity
DESCRIPTION:Like many of us who experience biophilia\, when it comes to our most existential lifeline—the natural world—I exist in a personal and anthropogenic dissonance of celebration and mourning\, vision and blindness. I want to explore these tensions\, and the questions they raise about reciprocity\, through the topic of beauty. Why do we find other life and geological forms so compelling and yet not sufficiently connect their survival with our own? What does nature’s beauty have to do with us\, and us with it? This presentation is from the viewpoint of a poet—not a scientist—who is attempting to go more deeply into her intertwined senses of wonder at what we are given and grief at what we are losing\, and find some beauty there. \nRegister for this free webinar through Zoom. \n \nThis webinar is part of the year-long Exploring Connections to and Stewardship of the Natural World talks. This series is supported by a grant through the NH Humanities Council and aims to provide a public and personal space for the examination of environmental ethics\, fostering a deeper understanding of\, appreciation for\, and care of\, our natural world. Programs are free to the public\, and streamed via Zoom\, YouTube\, and Facebook Live.  \nFor more information and to see the entire slate of talks\, visit our series webpage. \nSpeaker Bio: \nAlice B. Fogel is the previous New Hampshire poet laureate (2014-2019). She is the author of 5 poetry collections\, including Interval: Poems Based on Bach’s “Goldberg Variations” which won the N. Schaffner Award for Music in Literature and the NH Literary Award. Another poetry book is due out around the end of 2021\, and she is also the author of Strange Terrain\, on how to appreciate poetry without necessarily “getting” it. Among other awards\, Alice has been given a fellowship from the National Endowment for the Arts\, and her poems have appeared in many journals and anthologies\, including Best American Poetry. She teaches reading and writing workshops in a wide range of areas\, works one-on-one with students with learning differences at Landmark College\, and hikes mountains whenever possible. \n 
URL:https://nhaudubon.org/event/beauty-and-reciprocity/
LOCATION:NH
CATEGORIES:Webinar,Zoom Talk
ATTACH;FMTTYPE=image/jpeg:https://nhaudubon.org/wp-content/uploads/Exploring-Connections-Series-Title-Image-web-e1616086205157.jpg
ORGANIZER;CN="Diane De Luca":MAILTO:ddeluca@nhaudubon.org
END:VEVENT
BEGIN:VEVENT
DTSTART;TZID=America/New_York:20210915T080000
DTEND;TZID=America/New_York:20210915T120000
DTSTAMP:20260425T150237
CREATED:20210903T164531Z
LAST-MODIFIED:20210903T172214Z
UID:10000756-1631692800-1631707200@nhaudubon.org
SUMMARY:Pickering Ponds Fall Beginning Bird Walk-Wednesday
DESCRIPTION:NH Audubon Seacoast Chapter volunteer Dan Hubbard will lead three Beginning Bird Walks (BBW) this Fall. Although these walks are geared with the beginner birder in mind\, birders of all levels of expertise are encouraged to participate and share their experiences. \nBBW: Pickering Ponds Wednesday\, September 15\, 8 am – 12 pm  \nThis walk will traverse Rochester city park trails along the Cocheco River and around the old wastewater treatment facility settling ponds. Meet at the Pickering Ponds parking area. The entrance is about a mile south of the Rochester Wastewater Treatment Plant on Pickering Road (opposite mailbox #374). \nDue to the COVID-19 pandemic\, this field trip will be limited to 20 participants. Visit the Seacoast Chapter site for more information and to sign up. \nContact: Dan Hubbard at danielhubbard@peoplepc.com or 603 -332-4093. \nCancellations will be posted on the Seacoast Chapter website.
URL:https://nhaudubon.org/event/pickering-ponds-fall-beginning-bird-walk-wednesday/
LOCATION:NH
CATEGORIES:Chapter Field Trip,Field Trip,Nature Walk
ATTACH;FMTTYPE=image/png:https://nhaudubon.org/wp-content/uploads/seacoast-chapter-logo.png
ORGANIZER;CN="Seacoast Chapter":MAILTO:danielhubbard@peoplepc.com
END:VEVENT
BEGIN:VEVENT
DTSTART;TZID=America/New_York:20210918T103000
DTEND;TZID=America/New_York:20210918T153000
DTSTAMP:20260425T150237
CREATED:20210519T171750Z
LAST-MODIFIED:20210903T194916Z
UID:10000820-1631961000-1631979000@nhaudubon.org
SUMMARY:107th Annual Gathering and Meeting
DESCRIPTION:NH Audubon’s 107th Annual Gathering and Meeting will take place on Saturday\, September 18 from 10:30am-3:30pm. \nThe meeting will be held at NH Audubon’s Massabesic Center\, Auburn. \nKeynote speaker: Sy Montgomery\, nationally bestselling author of 28 books for both adults and children\, will present about Birdology: What Makes A Bird A Bird (based on the book of the same title) as shown by cassowaries\, hummingbirds\, chickens\, hawks and other birds. \nCelebrate the contributions made by volunteers\, explore Massabesic Center\, learn about the latest about migration tracking\, and after an unprecedented two years\, gather with your NH Audubon conservation family! \nChoose one of four activities from 10:30am-noon: \n\nMassabesic Nature Walk with President Doug Bechtel\nTour the Pollinator Gardens with Master Gardener Maureen Sinclair\nPonemah Bog Field Trip with Director of Lands Management Phil Brown (people are encouraged to carpool from Massabesic Center to the location in Amherst)\nPresentation by Motus Project Director Carol Foss\, updating the latest on migration research\n\nJoin us at 12:30pm for lunch and our annual business meeting\, awards\, and keynote address by Sy Montgomery. Plan your own day – whether you join us for just one field trip or stay through the afternoon – we can’t wait to see you! \nField trip\, lunch & keynote: $35 for members\, $45 for non-members \nRegistration extended! Register by 5pm on September 6 (see tickets below). Select your ticket (member or non-member) plus choice of activity. To ensure safe social distancing due to COVID-19\, we have a maximum capacity for guests\, so please register early! \n \nSpecial thanks to this year’s sponsors:
URL:https://nhaudubon.org/event/107th-annual-gathering-and-meeting/
LOCATION:Massabesic Center\, 26 Audubon Way\, Auburn\, NH\, United States
CATEGORIES:Featured
ATTACH;FMTTYPE=image/jpeg:https://nhaudubon.org/wp-content/uploads/2021-Postcard-Annual-Meeting-web-image.jpg
ORGANIZER;CN="Jen Thomas":MAILTO:jthomas@nhaudubon.org
END:VEVENT
BEGIN:VEVENT
DTSTART;TZID=America/New_York:20210919T080000
DTEND;TZID=America/New_York:20210919T120000
DTSTAMP:20260425T150237
CREATED:20210903T164658Z
LAST-MODIFIED:20210903T172250Z
UID:10000758-1632038400-1632052800@nhaudubon.org
SUMMARY:Strafford County Farm Fall Beginning Bird Walk
DESCRIPTION:NH Audubon Seacoast Chapter volunteer Dan Hubbard will lead three Beginning Bird Walks (BBW) this Fall. Although these walks are geared with the beginner birder in mind\, birders of all levels of expertise are encouraged to participate and share their experiences. \nBBW: Strafford County Farm Sunday\, September 19\, 8 am – 12 pm  \nThis walk will include the Don Black Trail and the hedgerows around the fields of the conserved property. The walk will last as long as participants choose\, but not beyond noon. \nDue to the COVID-19 pandemic\, this field trip will be limited to 20 participants. Visit the Seacoast Chapter site for more information and to sign up. \nContact: Dan Hubbard at danielhubbard@peoplepc.com or 603 -332-4093. \nCancellations will be posted on the Seacoast Chapter website.
URL:https://nhaudubon.org/event/strafford-county-farm-fall-beginning-bird-walk/
LOCATION:NH
CATEGORIES:Chapter Field Trip,Field Trip,Nature Walk
ATTACH;FMTTYPE=image/png:https://nhaudubon.org/wp-content/uploads/seacoast-chapter-logo.png
ORGANIZER;CN="Seacoast Chapter":MAILTO:danielhubbard@peoplepc.com
END:VEVENT
BEGIN:VEVENT
DTSTART;TZID=America/New_York:20210921T183000
DTEND;TZID=America/New_York:20210921T200000
DTSTAMP:20260425T150237
CREATED:20210823T184835Z
LAST-MODIFIED:20210823T184835Z
UID:10000835-1632249000-1632254400@nhaudubon.org
SUMMARY:Creating Compost – A Hands-on Workshop
DESCRIPTION:Composting is the process of recycling organic debris into material that both reduces items in the waste stream and creates a useful garden product. At the end of this two-part workshop\, participants will have the information and experience needed to create and use their own compost system. \nPart 1 – Tuesday\, September 21\, 6:30-8:00 pm on Zoom. UNH Extension Advanced Master Gardener\, Ron Trexler will teach the reasons for using compost in gardens and landscapes\, some of the science of how composting works and how to establish and manage a compost system. \nPart 2 – Sunday\, September 26\, 1:00-4:00 p.m. in person at the Massabesic Audubon Center in Auburn. UNH Extension Master Gardener Program Manager\, Ruth Smith with a team of volunteers will lead participants in the construction of a 3-bin composting station. The completed bin will be used at the new Extension Demonstration/Teaching Gardens on site. \nThis workshop is free but pre-registration is required because space is limited. \nSign up here. \nRegistered participants will be sent a Zoom link for the 9/21 session and directions and suggestions for what to bring to the 9/26 session. All building materials will be provided. The workshop is designed for home gardeners and co-sponsored by UNH Extension and NH Audubon.
URL:https://nhaudubon.org/event/creating-compost-a-hands-on-workshop/2021-09-21/
LOCATION:NH
CATEGORIES:Hands-on workshop,Zoom Talk
ATTACH;FMTTYPE=image/jpeg:https://nhaudubon.org/wp-content/uploads/compost-bin-photo-from-Ruth-Smith.jpg
END:VEVENT
BEGIN:VEVENT
DTSTART;TZID=America/New_York:20210926T130000
DTEND;TZID=America/New_York:20210926T160000
DTSTAMP:20260425T150237
CREATED:20210823T184835Z
LAST-MODIFIED:20210823T184835Z
UID:10000836-1632661200-1632672000@nhaudubon.org
SUMMARY:Creating Compost – A Hands-on Workshop
DESCRIPTION:Composting is the process of recycling organic debris into material that both reduces items in the waste stream and creates a useful garden product. At the end of this two-part workshop\, participants will have the information and experience needed to create and use their own compost system. \nPart 1 – Tuesday\, September 21\, 6:30-8:00 pm on Zoom. UNH Extension Advanced Master Gardener\, Ron Trexler will teach the reasons for using compost in gardens and landscapes\, some of the science of how composting works and how to establish and manage a compost system. \nPart 2 – Sunday\, September 26\, 1:00-4:00 p.m. in person at the Massabesic Audubon Center in Auburn. UNH Extension Master Gardener Program Manager\, Ruth Smith with a team of volunteers will lead participants in the construction of a 3-bin composting station. The completed bin will be used at the new Extension Demonstration/Teaching Gardens on site. \nThis workshop is free but pre-registration is required because space is limited. \nSign up here. \nRegistered participants will be sent a Zoom link for the 9/21 session and directions and suggestions for what to bring to the 9/26 session. All building materials will be provided. The workshop is designed for home gardeners and co-sponsored by UNH Extension and NH Audubon.
URL:https://nhaudubon.org/event/creating-compost-a-hands-on-workshop/2021-09-26/
LOCATION:NH
CATEGORIES:Hands-on workshop,Zoom Talk
ATTACH;FMTTYPE=image/jpeg:https://nhaudubon.org/wp-content/uploads/compost-bin-photo-from-Ruth-Smith.jpg
END:VEVENT
BEGIN:VEVENT
DTSTART;TZID=America/New_York:20210928T190000
DTEND;TZID=America/New_York:20210928T203000
DTSTAMP:20260425T150237
CREATED:20210318T185934Z
LAST-MODIFIED:20210409T153314Z
UID:10000804-1632855600-1632861000@nhaudubon.org
SUMMARY:Native Pollinator Biodiversity: The Contributions of Native Pollinator Meadows
DESCRIPTION:Native pollinators play a vital role in maintaining a healthy ecosystem and food system. Attendees will gain an understanding of the intricate biodiversity of native pollinators\, which have co-evolved with native plants. This webinar will discuss the steps of installing pollinator meadows\, composed of herbaceous perennial flowering plants and native grasses. This diverse habitat not only supports pollinators\, such as bees\, butterflies\, and beetles\, but also other wildlife\, such as birds!  Pollinators significantly contribute to feeding birds in two main ways: First\, through the act of pollinating flowers\, seeds are formed and are eaten by birds. Second\, the pollinators themselves can be a protein source for birds! About 9 in 10 bird species eat insects at some point in their life. So\, whether it be through the conservation lens of birds\, pollinators\, or both – join us to learn about how native perennial meadows can contribute to wildlife diversity and abundance in your community. \nRegister for this free webinar through Zoom. \n \nThis webinar is part of the year-long Exploring Connections to and Stewardship of the Natural World talks. This series is supported by a grant through the NH Humanities Council and aims to provide a public and personal space for the examination of environmental ethics\, fostering a deeper understanding of\, appreciation for\, and care of\, our natural world. Programs are free to the public\, and streamed via Zoom\, YouTube\, and Facebook Live.  \nFor more information and to see the entire slate of talks\, visit our series webpage. \nSpeaker Bio: \nAlina Harris works in collaboration with the Xerces Society for Invertebrate Conservation\, the Natural Resource Conservation Service (NRCS) and with the University of New Hampshire (UNH) Cooperative Extension. She is a liaison between growers/landowners and these organizations by providing technical assistance in Integrated Pest and Pollinator Management (IPPM). Alina is a NH native with a Bachelor’s in Sustainable Agriculture and Food Production Systems (Diversified Farm Management) and a Master’s in Agricultural Sciences (Insectary plants that promote biological control of insects) from UNH. She brings over a decade of agricultural experience\, including co-managing a diversified farm in NH\, teaching as a Farm Coach\, and serving as the Sustainable Agriculture Specialist at the University of Hawaii. \n 
URL:https://nhaudubon.org/event/native-pollinator-biodiversity-the-contributions-of-native-pollinator-meadows/
LOCATION:NH
CATEGORIES:Webinar,Zoom Talk
ATTACH;FMTTYPE=image/jpeg:https://nhaudubon.org/wp-content/uploads/Exploring-Connections-Series-Title-Image-web-e1616086205157.jpg
ORGANIZER;CN="Diane De Luca":MAILTO:ddeluca@nhaudubon.org
END:VEVENT
END:VCALENDAR