BEGIN:VCALENDAR
VERSION:2.0
PRODID:-//NH Audubon - ECPv6.15.11//NONSGML v1.0//EN
CALSCALE:GREGORIAN
METHOD:PUBLISH
X-WR-CALNAME:NH Audubon
X-ORIGINAL-URL:https://nhaudubon.org
X-WR-CALDESC:Events for NH Audubon
REFRESH-INTERVAL;VALUE=DURATION:PT1H
X-Robots-Tag:noindex
X-PUBLISHED-TTL:PT1H
BEGIN:VTIMEZONE
TZID:America/New_York
BEGIN:DAYLIGHT
TZOFFSETFROM:-0500
TZOFFSETTO:-0400
TZNAME:EDT
DTSTART:20200308T070000
END:DAYLIGHT
BEGIN:STANDARD
TZOFFSETFROM:-0400
TZOFFSETTO:-0500
TZNAME:EST
DTSTART:20201101T060000
END:STANDARD
BEGIN:DAYLIGHT
TZOFFSETFROM:-0500
TZOFFSETTO:-0400
TZNAME:EDT
DTSTART:20210314T070000
END:DAYLIGHT
BEGIN:STANDARD
TZOFFSETFROM:-0400
TZOFFSETTO:-0500
TZNAME:EST
DTSTART:20211107T060000
END:STANDARD
BEGIN:DAYLIGHT
TZOFFSETFROM:-0500
TZOFFSETTO:-0400
TZNAME:EDT
DTSTART:20220313T070000
END:DAYLIGHT
BEGIN:STANDARD
TZOFFSETFROM:-0400
TZOFFSETTO:-0500
TZNAME:EST
DTSTART:20221106T060000
END:STANDARD
END:VTIMEZONE
BEGIN:VEVENT
DTSTART;TZID=America/New_York:20210601T190000
DTEND;TZID=America/New_York:20210601T203000
DTSTAMP:20260425T191519
CREATED:20210318T180346Z
LAST-MODIFIED:20210409T153315Z
UID:10000792-1622574000-1622579400@nhaudubon.org
SUMMARY:Native Bees of New England - their Diversity and Natural History
DESCRIPTION:How many kinds of bees can you name: honey bees\, bumble bees\, sweat bees perhaps? Most people are familiar with our non-native honey bees and their role in pollinating commercial crops\, but few are aware of the great diversity of native bees that we have in our region and the roles that they play in pollinating our indigenous plants. \nJoin High School Biology Teacher and Native Bee Enthusiast Michael Veit for a presentation about the wild bees of our region\, their diversity\, beauty\, importance\, and fascinating life histories. \nRegister for this free webinar through Zoom. \n \nThis webinar is part of the year-long Exploring Connections to and Stewardship of the Natural World talks. This series is supported by a grant through the NH Humanities Council and aims to provide a public and personal space for the examination of environmental ethics\, fostering a deeper understanding of\, appreciation for\, and care of\, our natural world. Programs are free to the public\, and streamed via Zoom\, YouTube\, and Facebook Live.  \nFor more information and to see the entire slate of talks\, visit our series webpage.
URL:https://nhaudubon.org/event/native-bees-of-new-england-their-diversity-and-natural-history/
LOCATION:NH
CATEGORIES:Webinar,Zoom Talk
ATTACH;FMTTYPE=image/jpeg:https://nhaudubon.org/wp-content/uploads/Exploring-Connections-Series-Title-Image-web-e1616086205157.jpg
ORGANIZER;CN="Diane De Luca":MAILTO:ddeluca@nhaudubon.org
END:VEVENT
BEGIN:VEVENT
DTSTART;TZID=America/New_York:20210603T173000
DTEND;TZID=America/New_York:20210603T183000
DTSTAMP:20260425T191519
CREATED:20210511T153126Z
LAST-MODIFIED:20210511T153126Z
UID:10000816-1622741400-1622745000@nhaudubon.org
SUMMARY:Nighthawk Watch Volunteer Training
DESCRIPTION:It’s nearly time for the first Common Nighthawks to return. These insect-eating birds were once common in cities throughout New Hampshire\, but they are now endangered in the state. Volunteers have been helping NH Audubon and the Harris Center track nesting nighthawks since 2007\, primarily in Concord\, Keene\, and the Ossipee pine barrens. Volunteers watch at specific sites from 8:00 – 9:30 pm recording any nighthawk activity. If you are interested in volunteering\, there will be an online training on June 3 from 5:30 to 6:30 p.m. via Zoom. We will provide an introduction to nighthawk identification and instructions for nighthawk watching. Closed captioning will be available. To get the login details\, please register here. Contact Becky Suomala (rsuomala@nhaudubon.org) if you have questions regarding volunteering. \nCommon Nighthawk female nesting on a stone rooftop. Photo by Rebecca Suomala.\nCo-sponsored by the Harris Center for Conservation Education\, NH Audubon\, and Keene State College.
URL:https://nhaudubon.org/event/nighthawk-watch-volunteer-training/
LOCATION:NH
CATEGORIES:Featured,Zoom Talk
ATTACH;FMTTYPE=image/jpeg:https://nhaudubon.org/wp-content/uploads/CONI-f-on-nest-2011-NStateSt-RSuomala-sm.jpg
ORGANIZER;CN="Becky Suomala":MAILTO:mnutter@nhaudubon.org
END:VEVENT
BEGIN:VEVENT
DTSTART;TZID=America/New_York:20210605T080000
DTEND;TZID=America/New_York:20210605T090000
DTSTAMP:20260425T191519
CREATED:20210323T153541Z
LAST-MODIFIED:20210504T205835Z
UID:10000717-1622880000-1622883600@nhaudubon.org
SUMMARY:Saturday Birding with Doug Bechtel
DESCRIPTION:Join NH Audubon President\, Doug Bechtel\, for a casual birding walk at McLane Center in Concord. There is no registration necessary; this is a free program. Doug will head out from the center at 8am for a one-hour exploration. (Note: the location alternates each week from McLane Center to Massabesic Center.) \nPhoto: Orchard Oriole\, by Len Medlock.
URL:https://nhaudubon.org/event/saturday-birding-with-doug-bechtel/2021-06-05/
LOCATION:McLane Center\, 84 Silk Farm Road\, Concord\, NH\, 03301\, United States
CATEGORIES:Nature Walk
ATTACH;FMTTYPE=image/jpeg:https://nhaudubon.org/wp-content/uploads/orchard-oriole-LenMedlock-web.jpg
ORGANIZER;CN="Doug Bechtel":MAILTO:dbechtel@nhaudubon.org
END:VEVENT
BEGIN:VEVENT
DTSTART;TZID=America/New_York:20210608T170000
DTEND;TZID=America/New_York:20210608T235900
DTSTAMP:20260425T191519
CREATED:20210601T162332Z
LAST-MODIFIED:20210607T214649Z
UID:10000824-1623171600-1623196740@nhaudubon.org
SUMMARY:Support NH Audubon During NHGives
DESCRIPTION:On June 8 and 9\, 2021\, starting at 5pm on June 8\, visit us at NHGives and make a donation to help us reach our goal of $10\,000 and 39 new donors! Your donation could be DOUBLED by our match of $4\,400 during the Early Bird opportunity\, and you can help unlock an extra $3\,900 by being one of 39 first-time donors. All giving will end at 5pm on June 9\, so make sure to get your gift in on time! \n \n\nSchedule of Opportunity:\n\n\n \n\n\nJune 8:\n\n\n5pm-9pm: At the top of every hour\, your gift could be matched dollar for dollar\, up to $250\, thanks to support from the New Hampshire Charitable Foundation and its donors.\n\n\n\n \nJune 9:\n\n\n\n\nMidnight June 8 – 11:59am (noon) June 9: The early bird gets the worm! Thanks to our generous Board member\, Betsy Janeway\, gifts made tomorrow morning could be doubled by a match of $4\,400.\n8am\, 9am\, 12noon\, 3pm & 4pm: At the top of every hour\, your gift could be matched dollar for dollar\, up to $250\, thanks to support from the New Hampshire Charitable Foundation and its donors.\n12noon: Tune into NH Give’s livestream at NHGives.org to watch a special video featuring NH Audubon President Doug Bechtel\n3:30pm: Q&A with NH Audubon Senior Biologist Becky Suomala on Facebook Live\n\n\n 
URL:https://nhaudubon.org/event/support-nh-audubon-during-nhgives/
LOCATION:NH
CATEGORIES:Featured
ATTACH;FMTTYPE=image/jpeg:https://nhaudubon.org/wp-content/uploads/NHGives-with-plover.jpg
ORGANIZER;CN="Jen Thomas":MAILTO:jthomas@nhaudubon.org
END:VEVENT
BEGIN:VEVENT
DTSTART;TZID=America/New_York:20210608T190000
DTEND;TZID=America/New_York:20210608T203000
DTSTAMP:20260425T191519
CREATED:20210318T182725Z
LAST-MODIFIED:20210409T153314Z
UID:10000794-1623178800-1623184200@nhaudubon.org
SUMMARY:Native Predatory Wasps: Their Role as Pollinators and Beneficial Insects
DESCRIPTION:Native bees and predatory wasps share the same lineage and also share many behaviors and habitat requirements. Predatory wasps feed their offspring invertebrates (insects and spiders) and bees diverged from this carnivorous diet to feed their offspring plant-based food (pollen and nectar). Flower-rich landscapes provide critical habitat for both adult bees and wasps because they each consume flower nectar; in addition\, wasps need diverse\, flower-rich landscapes to hunt for their prey. Heather will highlight many amazing natural history and biology facts about native wasps illustrating their nesting habitat\, prey specificity\, and the ecosystems services they provide—pest insect population control and pollination. \nRegister for this free webinar through Zoom. \n \nThis webinar is part of the year-long Exploring Connections to and Stewardship of the Natural World talks. This series is supported by a grant through the NH Humanities Council and aims to provide a public and personal space for the examination of environmental ethics\, fostering a deeper understanding of\, appreciation for\, and care of\, our natural world. Programs are free to the public\, and streamed via Zoom\, YouTube\, and Facebook Live.  \nFor more information and to see the entire slate of talks\, visit our series webpage. \nSpeaker Bio: \nHeather Holm is a biologist\, pollinator conservationist\, and award-winning author. In addition to assisting with native bee research projects\, she informs and educates audiences nationwide\, through her writing and many presentations\, about the fascinating world of native pollinators and beneficial insects\, and the native plant communities that support them. Her first book\, Pollinators of Native Plants\, was published in 2014\, and her second book\, Bees\, published in 2017\, has won six book awards including the 2018 American Horticultural Society Book Award. Her forthcoming book\, Wasps\, will be available in January 2021. Heather’s expertise includes the interactions between native pollinators and native plants\, and the natural history and biology of native bees and predatory wasps occurring in the Upper Midwest and Northeast. \n 
URL:https://nhaudubon.org/event/native-predatory-wasps-their-role-as-pollinators-and-beneficial-insects/
LOCATION:NH
CATEGORIES:Webinar,Zoom Talk
ATTACH;FMTTYPE=image/jpeg:https://nhaudubon.org/wp-content/uploads/Exploring-Connections-Series-Title-Image-web-e1616086205157.jpg
ORGANIZER;CN="Diane De Luca":MAILTO:ddeluca@nhaudubon.org
END:VEVENT
BEGIN:VEVENT
DTSTART;TZID=America/New_York:20210609T000000
DTEND;TZID=America/New_York:20210609T170000
DTSTAMP:20260425T191519
CREATED:20210607T214428Z
LAST-MODIFIED:20210607T214718Z
UID:10000826-1623196800-1623258000@nhaudubon.org
SUMMARY:Support NH Audubon During NHGives
DESCRIPTION:On June 8 and 9\, 2021\, starting at 5pm on June 8\, visit us at NHGives and make a donation to help us reach our goal of $10\,000 and 39 new donors! Your donation could be DOUBLED by our match of $4\,400 during the Early Bird opportunity\, and you can help unlock an extra $3\,900 by being one of 39 first-time donors. All giving will end at 5pm on June 9\, so make sure to get your gift in on time! \n \n\nSchedule of Opportunity:\n\n\n \n\n\nJune 8:\n\n\n5pm-9pm: At the top of every hour\, your gift could be matched dollar for dollar\, up to $250\, thanks to support from the New Hampshire Charitable Foundation and its donors.\n\n\n\n \nJune 9:\n\n\n\n\nMidnight June 8 – 11:59am (noon) June 9: The early bird gets the worm! Thanks to our generous Board member\, Betsy Janeway\, gifts made tomorrow morning could be doubled by a match of $4\,400.\n8am\, 9am\, 12noon\, 3pm & 4pm: At the top of every hour\, your gift could be matched dollar for dollar\, up to $250\, thanks to support from the New Hampshire Charitable Foundation and its donors.\n12noon: Tune into NH Give’s livestream at NHGives.org to watch a special video featuring NH Audubon President Doug Bechtel\n3:30pm: Q&A with NH Audubon Senior Biologist Becky Suomala on Facebook Live\n\n\n  \n 
URL:https://nhaudubon.org/event/support-nh-audubon-during-nhgives-2/
LOCATION:NH
CATEGORIES:Featured
ATTACH;FMTTYPE=image/jpeg:https://nhaudubon.org/wp-content/uploads/NHGives-with-plover.jpg
ORGANIZER;CN="Jen Thomas":MAILTO:jthomas@nhaudubon.org
END:VEVENT
BEGIN:VEVENT
DTSTART;TZID=America/New_York:20210609T193000
DTEND;TZID=America/New_York:20210609T203000
DTSTAMP:20260425T191519
CREATED:20210507T170359Z
LAST-MODIFIED:20210608T211229Z
UID:10000814-1623267000-1623270600@nhaudubon.org
SUMMARY:A World on the Wing: The Global Odyssey of Migratory Birds
DESCRIPTION:This event has been cancelled. \nStay tuned for a rescheduled date in the future. \nNew Hampshire Audubon Seacoast Chapter \nWednesday June 9\, 2021 7:30 pm Eastern Time (US and Canada) Zoom Program – A World on the Wing: The Global Odyssey of Migratory Birds \nEven as scientists make astounding discoveries about the navigational and physiological feats that enable migratory birds to cross immense oceans or fly above the highest mountains\, go weeks without sleep or remain in unbroken flight for months at a stretch\, humans have brought many migrants to the brink. Based on his newest book\, “A World on the Wing\,” author and researcher Scott Weidensaul takes you around the globe-with researchers in the lab probing the limits of what migrating birds can do\, to the shores of the Yellow Sea in China\, to the remote mountains of northeastern India where tribal villages saved the greatest gathering of falcons on the planet\, and the Mediterranean where activists and police battle bird poachers-to learn how people are fighting to understand and save the world’s great bird migrations. \nBio: Scott Weidensaul is the author of more than two dozen books on natural history\, including the Pulitzer Prize finalist “Living on the Wind\,” “Return to Wild America” and “The First Frontier.” His newest book\, “A World on the Wing” about global migration\, was released in March 2021. Weidensaul is a contributing editor for National Audubon\, a columnist for Bird Watcher’s Digest and writes for a variety of other publications\, including Cornell Lab of Ornithology’s Living Bird. He is also an active field researcher\, studying Northern Saw-whet Owl migration for more than two decades\, as well as winter hummingbirds\, bird migration in Alaska\, and the winter movements of Snowy Owls through Project SNOWstorm\, which he co-founded.All are welcome to attend our Wednesday May 12\, 2021 program via Zoom. The Zoom program Meeting begins at 7:30 PM\, but feel free to sign on early after 7 pm to socialize. You may need to download Zoom to attend the program. \n  \nFor more information see our website. \nThe Seacoast Chapter of NH Audubon thanks AARP New Hampshire for their sponsorship. \nPhoto: Scott Weidensaul (©Chris DeSorbo)
URL:https://nhaudubon.org/event/a-world-on-the-wing/
LOCATION:NH
CATEGORIES:Chapter Program
ATTACH;FMTTYPE=image/jpeg:https://nhaudubon.org/wp-content/uploads/Scott-Weidensaul-©Chris-DeSorbo-e1616092427202.jpg
ORGANIZER;CN="Seacoast Chapter":MAILTO:danielhubbard@peoplepc.com
END:VEVENT
BEGIN:VEVENT
DTSTART;TZID=America/New_York:20210612T080000
DTEND;TZID=America/New_York:20210612T090000
DTSTAMP:20260425T191519
CREATED:20210323T154509Z
LAST-MODIFIED:20210422T203518Z
UID:10000723-1623484800-1623488400@nhaudubon.org
SUMMARY:Saturday Birding with Doug Bechtel
DESCRIPTION:Join NH Audubon President\, Doug Bechtel\, for a casual birding walk at Massabesic Center in Auburn. There is no registration necessary; this is a free program. Doug will head out from the center at 8am for a one-hour exploration. (Note: the location alternates each week from McLane Center to Massabesic Center.) \nPhoto: Orchard Oriole\, by Len Medlock.
URL:https://nhaudubon.org/event/saturday-birding-with-doug-bechtel-2/2021-06-12/
LOCATION:Massabesic Center\, 26 Audubon Way\, Auburn\, NH\, United States
CATEGORIES:Nature Walk
ATTACH;FMTTYPE=image/jpeg:https://nhaudubon.org/wp-content/uploads/orchard-oriole-LenMedlock-web.jpg
ORGANIZER;CN="Doug Bechtel":MAILTO:dbechtel@nhaudubon.org
END:VEVENT
BEGIN:VEVENT
DTSTART;TZID=America/New_York:20210615T190000
DTEND;TZID=America/New_York:20210615T203000
DTSTAMP:20260425T191519
CREATED:20210511T171541Z
LAST-MODIFIED:20210511T194015Z
UID:10000818-1623783600-1623789000@nhaudubon.org
SUMMARY:Becoming a MOTH-er
DESCRIPTION:Once only thought of as annoyances\, moths are now being appreciated for their beauty\, diversity\, ecological role\, pollination duties\, and economic value.  With more than 10x the number of species as their butterfly cousins\, these [mostly] nocturnal fliers show at least as much variation in color\, life history strategies\, and importance.  This talk will explore myths\, how to observe moths\, and how to participate in a number of moth-related citizen science projects…just in time for National Moth Week. \nRegister for this free webinar through Zoom. \n \nThis webinar is part of the year-long Exploring Connections to and Stewardship of the Natural World talks. This series is supported by a grant through the NH Humanities Council and aims to provide a public and personal space for the examination of environmental ethics\, fostering a deeper understanding of\, appreciation for\, and care of\, our natural world. Programs are free to the public\, and streamed via Zoom\, YouTube\, and Facebook Live.  \nFor more information and to see the entire slate of talks\, visit our series webpage. \nSpeaker Bio: \nJerry Skinner recently retired as Professor Emeritus from Keystone College after 38 years of teaching all sorts of biology and after 30 years as Resident Naturalist at The Nature Conservancy’s Woodbourne Preserve in NE PA. He describes himself as an ever-curious naturalist\, always finding something to learn about Mother Nature. This journey has taken him to study fish\, birds\, marine life\, salamanders and insects. Most recently he has become a real moth-er. He identified more than 660 species of moths in his PA backyard. Recently having moved to Ithaca\, he can’t wait to participate in New York’s 3rd Breeding Bird Atlas project. \n 
URL:https://nhaudubon.org/event/becoming-a-moth-er/
LOCATION:NH
CATEGORIES:Webinar,Zoom Talk
ATTACH;FMTTYPE=image/jpeg:https://nhaudubon.org/wp-content/uploads/Exploring-Connections-Series-Title-Image-web-e1616086205157.jpg
ORGANIZER;CN="Diane De Luca":MAILTO:ddeluca@nhaudubon.org
END:VEVENT
BEGIN:VEVENT
DTSTART;TZID=America/New_York:20210619T080000
DTEND;TZID=America/New_York:20210619T090000
DTSTAMP:20260425T191519
CREATED:20210323T153541Z
LAST-MODIFIED:20210504T205835Z
UID:10000718-1624089600-1624093200@nhaudubon.org
SUMMARY:Saturday Birding with Doug Bechtel
DESCRIPTION:Join NH Audubon President\, Doug Bechtel\, for a casual birding walk at McLane Center in Concord. There is no registration necessary; this is a free program. Doug will head out from the center at 8am for a one-hour exploration. (Note: the location alternates each week from McLane Center to Massabesic Center.) \nPhoto: Orchard Oriole\, by Len Medlock.
URL:https://nhaudubon.org/event/saturday-birding-with-doug-bechtel/2021-06-19/
LOCATION:McLane Center\, 84 Silk Farm Road\, Concord\, NH\, 03301\, United States
CATEGORIES:Nature Walk
ATTACH;FMTTYPE=image/jpeg:https://nhaudubon.org/wp-content/uploads/orchard-oriole-LenMedlock-web.jpg
ORGANIZER;CN="Doug Bechtel":MAILTO:dbechtel@nhaudubon.org
END:VEVENT
BEGIN:VEVENT
DTSTART;TZID=America/New_York:20210622T190000
DTEND;TZID=America/New_York:20210622T203000
DTSTAMP:20260425T191519
CREATED:20210615T154704Z
LAST-MODIFIED:20210615T154836Z
UID:10000827-1624388400-1624393800@nhaudubon.org
SUMMARY:Where Have all the Monarchs Gone?
DESCRIPTION:The Monarch Butterfly has been a common site during late summer in New Hampshire. But some years you see them\, and some years you don’t.  We’ll discuss what’s behind their fluctuating population and how we can help improve their numbers. Donna has been assisting Monarch Watch\, tagging and releasing monarchs each fall. She’ll share slides of her Monarch Way Station and Monarch Maternity Ward\, two gardens designed specifically to attract monarchs. We’ll discuss the research work being done\, and answer the elusive question\, “How do you tag a monarch anyway?” \nRegister for this free webinar through Zoom. \n \nThis webinar is part of the year-long Exploring Connections to and Stewardship of the Natural World talks. This series is supported by a grant through the NH Humanities Council and aims to provide a public and personal space for the examination of environmental ethics\, fostering a deeper understanding of\, appreciation for\, and care of\, our natural world. Programs are free to the public\, and streamed via Zoom\, YouTube\, and Facebook Live.  \nFor more information and to see the entire slate of talks\, visit our series webpage. \nSpeaker Bio: \nDonna Miller is from Petals in the Pines\, a diverse small farm in Canterbury. It includes a pick-your-own flower operation\, walking trails and labyrinths\, and an Arbor Day certified Nature Explore Outdoor Classroom where she conducts programs for children. She maintains several gardens that include plants selected to attract and sustain monarch butterflies and other pollinators. Donna has been a citizen scientist for Monarch Watch since 2008 and helps with the tracking of monarchs during their fall migration. \n 
URL:https://nhaudubon.org/event/where-have-all-the-monarchs-gone/
LOCATION:NH
CATEGORIES:Webinar,Zoom Talk
ATTACH;FMTTYPE=image/jpeg:https://nhaudubon.org/wp-content/uploads/Exploring-Connections-Series-Title-Image-web-e1616086205157.jpg
ORGANIZER;CN="Diane De Luca":MAILTO:ddeluca@nhaudubon.org
END:VEVENT
BEGIN:VEVENT
DTSTART;TZID=America/New_York:20210626T080000
DTEND;TZID=America/New_York:20210626T090000
DTSTAMP:20260425T191519
CREATED:20210323T154509Z
LAST-MODIFIED:20210422T203518Z
UID:10000724-1624694400-1624698000@nhaudubon.org
SUMMARY:Saturday Birding with Doug Bechtel
DESCRIPTION:Join NH Audubon President\, Doug Bechtel\, for a casual birding walk at Massabesic Center in Auburn. There is no registration necessary; this is a free program. Doug will head out from the center at 8am for a one-hour exploration. (Note: the location alternates each week from McLane Center to Massabesic Center.) \nPhoto: Orchard Oriole\, by Len Medlock.
URL:https://nhaudubon.org/event/saturday-birding-with-doug-bechtel-2/2021-06-26/
LOCATION:Massabesic Center\, 26 Audubon Way\, Auburn\, NH\, United States
CATEGORIES:Nature Walk
ATTACH;FMTTYPE=image/jpeg:https://nhaudubon.org/wp-content/uploads/orchard-oriole-LenMedlock-web.jpg
ORGANIZER;CN="Doug Bechtel":MAILTO:dbechtel@nhaudubon.org
END:VEVENT
END:VCALENDAR