BEGIN:VCALENDAR
VERSION:2.0
PRODID:-//NH Audubon - ECPv6.15.11//NONSGML v1.0//EN
CALSCALE:GREGORIAN
METHOD:PUBLISH
X-ORIGINAL-URL:https://nhaudubon.org
X-WR-CALDESC:Events for NH Audubon
REFRESH-INTERVAL;VALUE=DURATION:PT1H
X-Robots-Tag:noindex
X-PUBLISHED-TTL:PT1H
BEGIN:VTIMEZONE
TZID:America/New_York
BEGIN:DAYLIGHT
TZOFFSETFROM:-0500
TZOFFSETTO:-0400
TZNAME:EDT
DTSTART:20240310T070000
END:DAYLIGHT
BEGIN:STANDARD
TZOFFSETFROM:-0400
TZOFFSETTO:-0500
TZNAME:EST
DTSTART:20241103T060000
END:STANDARD
BEGIN:DAYLIGHT
TZOFFSETFROM:-0500
TZOFFSETTO:-0400
TZNAME:EDT
DTSTART:20250309T070000
END:DAYLIGHT
BEGIN:STANDARD
TZOFFSETFROM:-0400
TZOFFSETTO:-0500
TZNAME:EST
DTSTART:20251102T060000
END:STANDARD
BEGIN:DAYLIGHT
TZOFFSETFROM:-0500
TZOFFSETTO:-0400
TZNAME:EDT
DTSTART:20260308T070000
END:DAYLIGHT
BEGIN:STANDARD
TZOFFSETFROM:-0400
TZOFFSETTO:-0500
TZNAME:EST
DTSTART:20261101T060000
END:STANDARD
END:VTIMEZONE
BEGIN:VEVENT
DTSTART;TZID=America/New_York:20250719T110000
DTEND;TZID=America/New_York:20250719T170000
DTSTAMP:20260426T003319
CREATED:20250421T154015Z
LAST-MODIFIED:20250421T165309Z
UID:10003185-1752922800-1752944400@nhaudubon.org
SUMMARY:Ode to the Birdhouse Exhibit
DESCRIPTION:There are multiple time slots available during the Enchanted Forest – this is for the 6:00pm tour\, on Saturday\, October 26\, 2024. Ticket sales end at 1pm on Saturday\, October 26\, or until sold out. No walk-ins\, please. For full event details and links to all of the time slots\, see the Enchanted Forest page.
URL:https://nhaudubon.org/event/ode-to-the-birdhouse-exhibit-july-19/
LOCATION:McLane Center\, 84 Silk Farm Road\, Concord\, NH\, 03301\, United States
CATEGORIES:Art Exhibit
ORGANIZER;CN="Zoe Dawson":MAILTO:zdawson@nhaudubon.org
END:VEVENT
BEGIN:VEVENT
DTSTART;TZID=America/New_York:20250719T110000
DTEND;TZID=America/New_York:20250719T170000
DTSTAMP:20260426T003319
CREATED:20250529T152914Z
LAST-MODIFIED:20250529T153344Z
UID:10003281-1752922800-1752944400@nhaudubon.org
SUMMARY:A Season in the Sun Exhibit
DESCRIPTION:There are multiple time slots available during the Enchanted Forest – this is for the 6:00pm tour\, on Saturday\, October 26\, 2024. Ticket sales end at 1pm on Saturday\, October 26\, or until sold out. No walk-ins\, please. For full event details and links to all of the time slots\, see the Enchanted Forest page.
URL:https://nhaudubon.org/event/a-season-in-the-sun-exhibit-july-19/
LOCATION:Massabesic Center\, 26 Audubon Way\, Auburn\, NH\, United States
ORGANIZER;CN="Kimmie Whiteman":MAILTO:kwhiteman@nhaudubon.org
END:VEVENT
BEGIN:VEVENT
DTSTART;TZID=America/New_York:20250720T130000
DTEND;TZID=America/New_York:20250720T150000
DTSTAMP:20260426T003319
CREATED:20250527T212917Z
LAST-MODIFIED:20250615T183822Z
UID:10003232-1753016400-1753023600@nhaudubon.org
SUMMARY:Family Program with the Newfound Audubon Center: The Hidden World of Camouflage
DESCRIPTION:There are multiple time slots available during the Enchanted Forest – this is for the 6:00pm tour\, on Saturday\, October 26\, 2024. Ticket sales end at 1pm on Saturday\, October 26\, or until sold out. No walk-ins\, please. For full event details and links to all of the time slots\, see the Enchanted Forest page.
URL:https://nhaudubon.org/event/family-program-2025-4/
LOCATION:Paradise Point Nature Center\, 290 Northshore Road\, Hebron\, 03241\, United States
ATTACH;FMTTYPE=image/jpeg:https://nhaudubon.org/wp-content/uploads/newfound-events-2025-1.jpg
ORGANIZER;CN="Devin Guilfoyle":MAILTO:dguilfoyle@nhaudubon.org
END:VEVENT
BEGIN:VEVENT
DTSTART;TZID=America/New_York:20250721T100000
DTEND;TZID=America/New_York:20250721T130000
DTSTAMP:20260426T003319
CREATED:20250527T221757Z
LAST-MODIFIED:20250530T184935Z
UID:10003257-1753092000-1753102800@nhaudubon.org
SUMMARY:Nature Art with the Newfound Audubon Center: Fairy Houses
DESCRIPTION:There are multiple time slots available during the Enchanted Forest – this is for the 6:00pm tour\, on Saturday\, October 26\, 2024. Ticket sales end at 1pm on Saturday\, October 26\, or until sold out. No walk-ins\, please. For full event details and links to all of the time slots\, see the Enchanted Forest page.
URL:https://nhaudubon.org/event/nature-art-2025-7/
LOCATION:Paradise Point Nature Center\, 290 Northshore Road\, Hebron\, 03241\, United States
ATTACH;FMTTYPE=image/jpeg:https://nhaudubon.org/wp-content/uploads/newfound-events-2025-3.jpg
ORGANIZER;CN="Devin Guilfoyle":MAILTO:dguilfoyle@nhaudubon.org
END:VEVENT
BEGIN:VEVENT
DTSTART;TZID=America/New_York:20250722T093000
DTEND;TZID=America/New_York:20250722T120000
DTSTAMP:20260426T003319
CREATED:20250527T215347Z
LAST-MODIFIED:20250715T191039Z
UID:10003244-1753176600-1753185600@nhaudubon.org
SUMMARY:Guided Paddle with the Newfound Audubon Center
DESCRIPTION:There are multiple time slots available during the Enchanted Forest – this is for the 6:00pm tour\, on Saturday\, October 26\, 2024. Ticket sales end at 1pm on Saturday\, October 26\, or until sold out. No walk-ins\, please. For full event details and links to all of the time slots\, see the Enchanted Forest page.
URL:https://nhaudubon.org/event/guided-paddle-2025-9/
LOCATION:Paradise Point Nature Center\, 290 Northshore Road\, Hebron\, 03241\, United States
ATTACH;FMTTYPE=image/jpeg:https://nhaudubon.org/wp-content/uploads/newfound-events-2025-2.jpg
ORGANIZER;CN="Devin Guilfoyle":MAILTO:dguilfoyle@nhaudubon.org
END:VEVENT
BEGIN:VEVENT
DTSTART;TZID=America/New_York:20250722T190000
DTEND;TZID=America/New_York:20250722T201500
DTSTAMP:20260426T003319
CREATED:20250623T165049Z
LAST-MODIFIED:20250715T174257Z
UID:10003313-1753210800-1753215300@nhaudubon.org
SUMMARY:Dragons & Damsels of New Hampshire - Newfound Nature Series - July 22
DESCRIPTION:There are multiple time slots available during the Enchanted Forest – this is for the 6:00pm tour\, on Saturday\, October 26\, 2024. Ticket sales end at 1pm on Saturday\, October 26\, or until sold out. No walk-ins\, please. For full event details and links to all of the time slots\, see the Enchanted Forest page.
URL:https://nhaudubon.org/event/dragons-damsels-newfound-nature-series-july-22/
LOCATION:Grey Rocks Conservation Area\, 178 N Shore\, Hebron\, NH\, 03241\, United States
CATEGORIES:Newfound Nature Series
ATTACH;FMTTYPE=image/jpeg:https://nhaudubon.org/wp-content/uploads/dragonfly.jpg
ORGANIZER;CN="Devin Guilfoyle":MAILTO:dguilfoyle@nhaudubon.org
END:VEVENT
BEGIN:VEVENT
DTSTART;TZID=America/New_York:20250723T110000
DTEND;TZID=America/New_York:20250723T170000
DTSTAMP:20260426T003319
CREATED:20250421T154041Z
LAST-MODIFIED:20250421T165330Z
UID:10003186-1753268400-1753290000@nhaudubon.org
SUMMARY:Ode to the Birdhouse Exhibit
DESCRIPTION:There are multiple time slots available during the Enchanted Forest – this is for the 6:00pm tour\, on Saturday\, October 26\, 2024. Ticket sales end at 1pm on Saturday\, October 26\, or until sold out. No walk-ins\, please. For full event details and links to all of the time slots\, see the Enchanted Forest page.
URL:https://nhaudubon.org/event/ode-to-the-birdhouse-exhibit-july-23/
LOCATION:McLane Center\, 84 Silk Farm Road\, Concord\, NH\, 03301\, United States
CATEGORIES:Art Exhibit
ORGANIZER;CN="Zoe Dawson":MAILTO:zdawson@nhaudubon.org
END:VEVENT
BEGIN:VEVENT
DTSTART;TZID=America/New_York:20250723T110000
DTEND;TZID=America/New_York:20250723T170000
DTSTAMP:20260426T003319
CREATED:20250529T152942Z
LAST-MODIFIED:20250529T153406Z
UID:10003282-1753268400-1753290000@nhaudubon.org
SUMMARY:A Season in the Sun Exhibit
DESCRIPTION:There are multiple time slots available during the Enchanted Forest – this is for the 6:00pm tour\, on Saturday\, October 26\, 2024. Ticket sales end at 1pm on Saturday\, October 26\, or until sold out. No walk-ins\, please. For full event details and links to all of the time slots\, see the Enchanted Forest page.
URL:https://nhaudubon.org/event/a-season-in-the-sun-exhibit-july-23/
LOCATION:Massabesic Center\, 26 Audubon Way\, Auburn\, NH\, United States
ORGANIZER;CN="Kimmie Whiteman":MAILTO:kwhiteman@nhaudubon.org
END:VEVENT
BEGIN:VEVENT
DTSTART;TZID=America/New_York:20250724T110000
DTEND;TZID=America/New_York:20250724T170000
DTSTAMP:20260426T003319
CREATED:20250421T154258Z
LAST-MODIFIED:20250421T165358Z
UID:10003187-1753354800-1753376400@nhaudubon.org
SUMMARY:Ode to the Birdhouse Exhibit
DESCRIPTION:There are multiple time slots available during the Enchanted Forest – this is for the 6:00pm tour\, on Saturday\, October 26\, 2024. Ticket sales end at 1pm on Saturday\, October 26\, or until sold out. No walk-ins\, please. For full event details and links to all of the time slots\, see the Enchanted Forest page.
URL:https://nhaudubon.org/event/ode-to-the-birdhouse-exhibit-july-24/
LOCATION:McLane Center\, 84 Silk Farm Road\, Concord\, NH\, 03301\, United States
CATEGORIES:Art Exhibit
ORGANIZER;CN="Zoe Dawson":MAILTO:zdawson@nhaudubon.org
END:VEVENT
BEGIN:VEVENT
DTSTART;TZID=America/New_York:20250724T110000
DTEND;TZID=America/New_York:20250724T170000
DTSTAMP:20260426T003319
CREATED:20250529T153002Z
LAST-MODIFIED:20250529T153430Z
UID:10003283-1753354800-1753376400@nhaudubon.org
SUMMARY:A Season in the Sun Exhibit
DESCRIPTION:There are multiple time slots available during the Enchanted Forest – this is for the 6:00pm tour\, on Saturday\, October 26\, 2024. Ticket sales end at 1pm on Saturday\, October 26\, or until sold out. No walk-ins\, please. For full event details and links to all of the time slots\, see the Enchanted Forest page.
URL:https://nhaudubon.org/event/a-season-in-the-sun-exhibit-july-24/
LOCATION:Massabesic Center\, 26 Audubon Way\, Auburn\, NH\, United States
ORGANIZER;CN="Kimmie Whiteman":MAILTO:kwhiteman@nhaudubon.org
END:VEVENT
BEGIN:VEVENT
DTSTART;TZID=America/New_York:20250725T110000
DTEND;TZID=America/New_York:20250725T170000
DTSTAMP:20260426T003319
CREATED:20250421T154322Z
LAST-MODIFIED:20250421T165453Z
UID:10003188-1753441200-1753462800@nhaudubon.org
SUMMARY:Ode to the Birdhouse Exhibit
DESCRIPTION:There are multiple time slots available during the Enchanted Forest – this is for the 6:00pm tour\, on Saturday\, October 26\, 2024. Ticket sales end at 1pm on Saturday\, October 26\, or until sold out. No walk-ins\, please. For full event details and links to all of the time slots\, see the Enchanted Forest page.
URL:https://nhaudubon.org/event/ode-to-the-birdhouse-exhibit-july-25/
LOCATION:McLane Center\, 84 Silk Farm Road\, Concord\, NH\, 03301\, United States
CATEGORIES:Art Exhibit
ORGANIZER;CN="Zoe Dawson":MAILTO:zdawson@nhaudubon.org
END:VEVENT
BEGIN:VEVENT
DTSTART;TZID=America/New_York:20250725T110000
DTEND;TZID=America/New_York:20250725T170000
DTSTAMP:20260426T003319
CREATED:20250529T153045Z
LAST-MODIFIED:20250529T153045Z
UID:10003284-1753441200-1753462800@nhaudubon.org
SUMMARY:A Season in the Sun Exhibit
DESCRIPTION:There are multiple time slots available during the Enchanted Forest – this is for the 6:00pm tour\, on Saturday\, October 26\, 2024. Ticket sales end at 1pm on Saturday\, October 26\, or until sold out. No walk-ins\, please. For full event details and links to all of the time slots\, see the Enchanted Forest page.
URL:https://nhaudubon.org/event/a-season-in-the-sun-exhibit-july-25/
LOCATION:Massabesic Center\, 26 Audubon Way\, Auburn\, NH\, United States
ORGANIZER;CN="Kimmie Whiteman":MAILTO:kwhiteman@nhaudubon.org
END:VEVENT
BEGIN:VEVENT
DTSTART;TZID=America/New_York:20250726T080000
DTEND;TZID=America/New_York:20250726T100000
DTSTAMP:20260426T003319
CREATED:20250623T160213Z
LAST-MODIFIED:20250623T160214Z
UID:10003310-1753516800-1753524000@nhaudubon.org
SUMMARY:Birding Outing at Piscataquog River Park
DESCRIPTION:There are multiple time slots available during the Enchanted Forest – this is for the 6:00pm tour\, on Saturday\, October 26\, 2024. Ticket sales end at 1pm on Saturday\, October 26\, or until sold out. No walk-ins\, please. For full event details and links to all of the time slots\, see the Enchanted Forest page.
URL:https://nhaudubon.org/event/birding-outing-at-piscataquog-river-park-july-2025/
LOCATION:Piscataquog River Park (George W. Smith Entrance)\, Manchester\, NH\, 03102\, United States
CATEGORIES:Bird Walk
ATTACH;FMTTYPE=image/jpeg:https://nhaudubon.org/wp-content/uploads/Birding-Outing-4.jpg
ORGANIZER;CN="Devin Guilfoyle":MAILTO:dguilfoyle@nhaudubon.org
END:VEVENT
BEGIN:VEVENT
DTSTART;TZID=America/New_York:20250726T090000
DTEND;TZID=America/New_York:20250726T160000
DTSTAMP:20260426T003319
CREATED:20250425T140357Z
LAST-MODIFIED:20250522T215622Z
UID:10003207-1753520400-1753545600@nhaudubon.org
SUMMARY:NH Butterfly Monitoring Network Capital Region Butterfly Count
DESCRIPTION:There are multiple time slots available during the Enchanted Forest – this is for the 6:00pm tour\, on Saturday\, October 26\, 2024. Ticket sales end at 1pm on Saturday\, October 26\, or until sold out. No walk-ins\, please. For full event details and links to all of the time slots\, see the Enchanted Forest page.
URL:https://nhaudubon.org/event/nh-butterfly-monitoring-network-capital-region-butterfly-count-2025/
LOCATION:NH
CATEGORIES:Butterfly Monitoring
ATTACH;FMTTYPE=image/jpeg:https://nhaudubon.org/wp-content/uploads/Photo-4-A-team-of-butterfly-survey-participants-observing-and-photographing-a-cooperative-butterfly-Phhoto-by-Vanessa-Johnson.jpg
ORGANIZER;CN="Vanessa Johnson":MAILTO:vjohnson@nhaudubon.org
END:VEVENT
BEGIN:VEVENT
DTSTART;TZID=America/New_York:20250726T110000
DTEND;TZID=America/New_York:20250726T170000
DTSTAMP:20260426T003319
CREATED:20250421T154345Z
LAST-MODIFIED:20250421T165521Z
UID:10003189-1753527600-1753549200@nhaudubon.org
SUMMARY:Ode to the Birdhouse Exhibit
DESCRIPTION:There are multiple time slots available during the Enchanted Forest – this is for the 6:00pm tour\, on Saturday\, October 26\, 2024. Ticket sales end at 1pm on Saturday\, October 26\, or until sold out. No walk-ins\, please. For full event details and links to all of the time slots\, see the Enchanted Forest page.
URL:https://nhaudubon.org/event/ode-to-the-birdhouse-exhibit-july-26/
LOCATION:McLane Center\, 84 Silk Farm Road\, Concord\, NH\, 03301\, United States
CATEGORIES:Art Exhibit
ORGANIZER;CN="Zoe Dawson":MAILTO:zdawson@nhaudubon.org
END:VEVENT
BEGIN:VEVENT
DTSTART;TZID=America/New_York:20250726T110000
DTEND;TZID=America/New_York:20250726T170000
DTSTAMP:20260426T003319
CREATED:20250529T153105Z
LAST-MODIFIED:20250529T153105Z
UID:10003285-1753527600-1753549200@nhaudubon.org
SUMMARY:A Season in the Sun Exhibit
DESCRIPTION:There are multiple time slots available during the Enchanted Forest – this is for the 6:00pm tour\, on Saturday\, October 26\, 2024. Ticket sales end at 1pm on Saturday\, October 26\, or until sold out. No walk-ins\, please. For full event details and links to all of the time slots\, see the Enchanted Forest page.
URL:https://nhaudubon.org/event/a-season-in-the-sun-exhibit-july-26/
LOCATION:Massabesic Center\, 26 Audubon Way\, Auburn\, NH\, United States
ORGANIZER;CN="Kimmie Whiteman":MAILTO:kwhiteman@nhaudubon.org
END:VEVENT
BEGIN:VEVENT
DTSTART;TZID=America/New_York:20250728T100000
DTEND;TZID=America/New_York:20250728T130000
DTSTAMP:20260426T003319
CREATED:20250527T221850Z
LAST-MODIFIED:20250530T191143Z
UID:10003258-1753696800-1753707600@nhaudubon.org
SUMMARY:Nature Art with the Newfound Audubon Center: Bark Owls
DESCRIPTION:There are multiple time slots available during the Enchanted Forest – this is for the 6:00pm tour\, on Saturday\, October 26\, 2024. Ticket sales end at 1pm on Saturday\, October 26\, or until sold out. No walk-ins\, please. For full event details and links to all of the time slots\, see the Enchanted Forest page.
URL:https://nhaudubon.org/event/nature-art-2025-8/
LOCATION:Paradise Point Nature Center\, 290 Northshore Road\, Hebron\, 03241\, United States
ATTACH;FMTTYPE=image/jpeg:https://nhaudubon.org/wp-content/uploads/newfound-events-2025-3.jpg
ORGANIZER;CN="Devin Guilfoyle":MAILTO:dguilfoyle@nhaudubon.org
END:VEVENT
BEGIN:VEVENT
DTSTART;TZID=America/New_York:20250729T093000
DTEND;TZID=America/New_York:20250729T120000
DTSTAMP:20260426T003319
CREATED:20250527T215450Z
LAST-MODIFIED:20250715T191141Z
UID:10003245-1753781400-1753790400@nhaudubon.org
SUMMARY:Guided Paddle with the Newfound Audubon Center
DESCRIPTION:There are multiple time slots available during the Enchanted Forest – this is for the 6:00pm tour\, on Saturday\, October 26\, 2024. Ticket sales end at 1pm on Saturday\, October 26\, or until sold out. No walk-ins\, please. For full event details and links to all of the time slots\, see the Enchanted Forest page.
URL:https://nhaudubon.org/event/guided-paddle-2025-10/
LOCATION:Paradise Point Nature Center\, 290 Northshore Road\, Hebron\, 03241\, United States
ATTACH;FMTTYPE=image/jpeg:https://nhaudubon.org/wp-content/uploads/newfound-events-2025-2.jpg
ORGANIZER;CN="Devin Guilfoyle":MAILTO:dguilfoyle@nhaudubon.org
END:VEVENT
BEGIN:VEVENT
DTSTART;TZID=America/New_York:20250729T190000
DTEND;TZID=America/New_York:20250729T203000
DTSTAMP:20260426T003319
CREATED:20250725T202931Z
LAST-MODIFIED:20250725T202932Z
UID:10003395-1753815600-1753821000@nhaudubon.org
SUMMARY:Using Wildlife Cameras for Classroom Science - Newfound Nature Series - July 29
DESCRIPTION:There are multiple time slots available during the Enchanted Forest – this is for the 6:00pm tour\, on Saturday\, October 26\, 2024. Ticket sales end at 1pm on Saturday\, October 26\, or until sold out. No walk-ins\, please. For full event details and links to all of the time slots\, see the Enchanted Forest page.
URL:https://nhaudubon.org/event/wildlife-cameras-newfound-nature-series-july-29/
LOCATION:Grey Rocks Conservation Area\, 178 N Shore\, Hebron\, NH\, 03241\, United States
ATTACH;FMTTYPE=image/jpeg:https://nhaudubon.org/wp-content/uploads/Mirka.jpg
END:VEVENT
BEGIN:VEVENT
DTSTART;TZID=America/New_York:20250730T110000
DTEND;TZID=America/New_York:20250730T170000
DTSTAMP:20260426T003319
CREATED:20250421T154417Z
LAST-MODIFIED:20250421T155428Z
UID:10003190-1753873200-1753894800@nhaudubon.org
SUMMARY:Ode to the Birdhouse Exhibit
DESCRIPTION:There are multiple time slots available during the Enchanted Forest – this is for the 6:00pm tour\, on Saturday\, October 26\, 2024. Ticket sales end at 1pm on Saturday\, October 26\, or until sold out. No walk-ins\, please. For full event details and links to all of the time slots\, see the Enchanted Forest page.
URL:https://nhaudubon.org/event/ode-to-the-birdhouse-exhibit-july-30/
LOCATION:McLane Center\, 84 Silk Farm Road\, Concord\, NH\, 03301\, United States
CATEGORIES:Art Exhibit
ORGANIZER;CN="Zoe Dawson":MAILTO:zdawson@nhaudubon.org
END:VEVENT
BEGIN:VEVENT
DTSTART;TZID=America/New_York:20250730T110000
DTEND;TZID=America/New_York:20250730T170000
DTSTAMP:20260426T003319
CREATED:20250529T153128Z
LAST-MODIFIED:20250529T153128Z
UID:10003286-1753873200-1753894800@nhaudubon.org
SUMMARY:A Season in the Sun Exhibit
DESCRIPTION:There are multiple time slots available during the Enchanted Forest – this is for the 6:00pm tour\, on Saturday\, October 26\, 2024. Ticket sales end at 1pm on Saturday\, October 26\, or until sold out. No walk-ins\, please. For full event details and links to all of the time slots\, see the Enchanted Forest page.
URL:https://nhaudubon.org/event/a-season-in-the-sun-exhibit-july-30/
LOCATION:Massabesic Center\, 26 Audubon Way\, Auburn\, NH\, United States
ORGANIZER;CN="Kimmie Whiteman":MAILTO:kwhiteman@nhaudubon.org
END:VEVENT
BEGIN:VEVENT
DTSTART;TZID=America/New_York:20250731T110000
DTEND;TZID=America/New_York:20250731T170000
DTSTAMP:20260426T003319
CREATED:20250421T154439Z
LAST-MODIFIED:20250421T155449Z
UID:10003191-1753959600-1753981200@nhaudubon.org
SUMMARY:Ode to the Birdhouse Exhibit
DESCRIPTION:There are multiple time slots available during the Enchanted Forest – this is for the 6:00pm tour\, on Saturday\, October 26\, 2024. Ticket sales end at 1pm on Saturday\, October 26\, or until sold out. No walk-ins\, please. For full event details and links to all of the time slots\, see the Enchanted Forest page.
URL:https://nhaudubon.org/event/ode-to-the-birdhouse-exhibit-july-31/
LOCATION:McLane Center\, 84 Silk Farm Road\, Concord\, NH\, 03301\, United States
CATEGORIES:Art Exhibit
ORGANIZER;CN="Zoe Dawson":MAILTO:zdawson@nhaudubon.org
END:VEVENT
BEGIN:VEVENT
DTSTART;TZID=America/New_York:20250731T110000
DTEND;TZID=America/New_York:20250731T170000
DTSTAMP:20260426T003319
CREATED:20250529T153146Z
LAST-MODIFIED:20250529T153146Z
UID:10003287-1753959600-1753981200@nhaudubon.org
SUMMARY:A Season in the Sun Exhibit
DESCRIPTION:There are multiple time slots available during the Enchanted Forest – this is for the 6:00pm tour\, on Saturday\, October 26\, 2024. Ticket sales end at 1pm on Saturday\, October 26\, or until sold out. No walk-ins\, please. For full event details and links to all of the time slots\, see the Enchanted Forest page.
URL:https://nhaudubon.org/event/a-season-in-the-sun-exhibit-july-31/
LOCATION:Massabesic Center\, 26 Audubon Way\, Auburn\, NH\, United States
ORGANIZER;CN="Kimmie Whiteman":MAILTO:kwhiteman@nhaudubon.org
END:VEVENT
BEGIN:VEVENT
DTSTART;TZID=America/New_York:20250801T093000
DTEND;TZID=America/New_York:20250801T120000
DTSTAMP:20260426T003319
CREATED:20250527T215535Z
LAST-MODIFIED:20250715T191232Z
UID:10003246-1754040600-1754049600@nhaudubon.org
SUMMARY:Guided Paddle with the Newfound Audubon Center
DESCRIPTION:There are multiple time slots available during the Enchanted Forest – this is for the 6:00pm tour\, on Saturday\, October 26\, 2024. Ticket sales end at 1pm on Saturday\, October 26\, or until sold out. No walk-ins\, please. For full event details and links to all of the time slots\, see the Enchanted Forest page.
URL:https://nhaudubon.org/event/guided-paddle-2025-12/
LOCATION:Paradise Point Nature Center\, 290 Northshore Road\, Hebron\, 03241\, United States
ATTACH;FMTTYPE=image/jpeg:https://nhaudubon.org/wp-content/uploads/newfound-events-2025-2.jpg
ORGANIZER;CN="Devin Guilfoyle":MAILTO:dguilfoyle@nhaudubon.org
END:VEVENT
BEGIN:VEVENT
DTSTART;TZID=America/New_York:20250801T110000
DTEND;TZID=America/New_York:20250801T170000
DTSTAMP:20260426T003319
CREATED:20250421T154525Z
LAST-MODIFIED:20250421T155518Z
UID:10003192-1754046000-1754067600@nhaudubon.org
SUMMARY:Ode to the Birdhouse Exhibit
DESCRIPTION:There are multiple time slots available during the Enchanted Forest – this is for the 6:00pm tour\, on Saturday\, October 26\, 2024. Ticket sales end at 1pm on Saturday\, October 26\, or until sold out. No walk-ins\, please. For full event details and links to all of the time slots\, see the Enchanted Forest page.
URL:https://nhaudubon.org/event/ode-to-the-birdhouse-exhibit-aug-1/
LOCATION:McLane Center\, 84 Silk Farm Road\, Concord\, NH\, 03301\, United States
CATEGORIES:Art Exhibit
ORGANIZER;CN="Zoe Dawson":MAILTO:zdawson@nhaudubon.org
END:VEVENT
BEGIN:VEVENT
DTSTART;TZID=America/New_York:20250801T110000
DTEND;TZID=America/New_York:20250801T170000
DTSTAMP:20260426T003319
CREATED:20250529T153515Z
LAST-MODIFIED:20250529T153515Z
UID:10003288-1754046000-1754067600@nhaudubon.org
SUMMARY:A Season in the Sun Exhibit
DESCRIPTION:There are multiple time slots available during the Enchanted Forest – this is for the 6:00pm tour\, on Saturday\, October 26\, 2024. Ticket sales end at 1pm on Saturday\, October 26\, or until sold out. No walk-ins\, please. For full event details and links to all of the time slots\, see the Enchanted Forest page.
URL:https://nhaudubon.org/event/a-season-in-the-sun-exhibit-aug-1/
LOCATION:Massabesic Center\, 26 Audubon Way\, Auburn\, NH\, United States
ORGANIZER;CN="Kimmie Whiteman":MAILTO:kwhiteman@nhaudubon.org
END:VEVENT
BEGIN:VEVENT
DTSTART;TZID=America/New_York:20250802T080000
DTEND;TZID=America/New_York:20250802T100000
DTSTAMP:20260426T003319
CREATED:20250603T181021Z
LAST-MODIFIED:20250603T181114Z
UID:10003298-1754121600-1754128800@nhaudubon.org
SUMMARY:Birding Walk at Enfield Shaker Museum
DESCRIPTION:There are multiple time slots available during the Enchanted Forest – this is for the 6:00pm tour\, on Saturday\, October 26\, 2024. Ticket sales end at 1pm on Saturday\, October 26\, or until sold out. No walk-ins\, please. For full event details and links to all of the time slots\, see the Enchanted Forest page.
URL:https://nhaudubon.org/event/birding-walk-at-enfield-shaker-museum/
LOCATION:Enfield Shaker Museum\, 447 NH Route 4A\, Enfield\, NH\, 03748\, United States
ATTACH;FMTTYPE=image/jpeg:https://nhaudubon.org/wp-content/uploads/Birding-Outing-4.jpg
END:VEVENT
BEGIN:VEVENT
DTSTART;TZID=America/New_York:20250802T110000
DTEND;TZID=America/New_York:20250802T170000
DTSTAMP:20260426T003319
CREATED:20250421T154635Z
LAST-MODIFIED:20250421T155543Z
UID:10003193-1754132400-1754154000@nhaudubon.org
SUMMARY:Ode to the Birdhouse Exhibit
DESCRIPTION:There are multiple time slots available during the Enchanted Forest – this is for the 6:00pm tour\, on Saturday\, October 26\, 2024. Ticket sales end at 1pm on Saturday\, October 26\, or until sold out. No walk-ins\, please. For full event details and links to all of the time slots\, see the Enchanted Forest page.
URL:https://nhaudubon.org/event/ode-to-the-birdhouse-exhibit-aug-2/
LOCATION:McLane Center\, 84 Silk Farm Road\, Concord\, NH\, 03301\, United States
CATEGORIES:Art Exhibit
ORGANIZER;CN="Zoe Dawson":MAILTO:zdawson@nhaudubon.org
END:VEVENT
BEGIN:VEVENT
DTSTART;TZID=America/New_York:20250802T110000
DTEND;TZID=America/New_York:20250802T170000
DTSTAMP:20260426T003319
CREATED:20250529T153602Z
LAST-MODIFIED:20250529T153602Z
UID:10003289-1754132400-1754154000@nhaudubon.org
SUMMARY:A Season in the Sun Exhibit
DESCRIPTION:There are multiple time slots available during the Enchanted Forest – this is for the 6:00pm tour\, on Saturday\, October 26\, 2024. Ticket sales end at 1pm on Saturday\, October 26\, or until sold out. No walk-ins\, please. For full event details and links to all of the time slots\, see the Enchanted Forest page.
URL:https://nhaudubon.org/event/a-season-in-the-sun-exhibit-aug-2/
LOCATION:Massabesic Center\, 26 Audubon Way\, Auburn\, NH\, United States
ORGANIZER;CN="Kimmie Whiteman":MAILTO:kwhiteman@nhaudubon.org
END:VEVENT
BEGIN:VEVENT
DTSTART;TZID=America/New_York:20250803T130000
DTEND;TZID=America/New_York:20250803T150000
DTSTAMP:20260426T003319
CREATED:20250527T213125Z
LAST-MODIFIED:20250615T184106Z
UID:10003233-1754226000-1754233200@nhaudubon.org
SUMMARY:Family Program with the Newfound Audubon Center: Become a Nature Detective
DESCRIPTION:There are multiple time slots available during the Enchanted Forest – this is for the 6:00pm tour\, on Saturday\, October 26\, 2024. Ticket sales end at 1pm on Saturday\, October 26\, or until sold out. No walk-ins\, please. For full event details and links to all of the time slots\, see the Enchanted Forest page.
URL:https://nhaudubon.org/event/family-program-2025-5/
LOCATION:Paradise Point Nature Center\, 290 Northshore Road\, Hebron\, 03241\, United States
ATTACH;FMTTYPE=image/jpeg:https://nhaudubon.org/wp-content/uploads/newfound-events-2025-1.jpg
ORGANIZER;CN="Devin Guilfoyle":MAILTO:dguilfoyle@nhaudubon.org
END:VEVENT
END:VCALENDAR