BEGIN:VCALENDAR
VERSION:2.0
PRODID:-//NH Audubon - ECPv6.15.11//NONSGML v1.0//EN
CALSCALE:GREGORIAN
METHOD:PUBLISH
X-WR-CALNAME:NH Audubon
X-ORIGINAL-URL:https://nhaudubon.org
X-WR-CALDESC:Events for NH Audubon
REFRESH-INTERVAL;VALUE=DURATION:PT1H
X-Robots-Tag:noindex
X-PUBLISHED-TTL:PT1H
BEGIN:VTIMEZONE
TZID:America/New_York
BEGIN:DAYLIGHT
TZOFFSETFROM:-0500
TZOFFSETTO:-0400
TZNAME:EDT
DTSTART:20230312T070000
END:DAYLIGHT
BEGIN:STANDARD
TZOFFSETFROM:-0400
TZOFFSETTO:-0500
TZNAME:EST
DTSTART:20231105T060000
END:STANDARD
BEGIN:DAYLIGHT
TZOFFSETFROM:-0500
TZOFFSETTO:-0400
TZNAME:EDT
DTSTART:20240310T070000
END:DAYLIGHT
BEGIN:STANDARD
TZOFFSETFROM:-0400
TZOFFSETTO:-0500
TZNAME:EST
DTSTART:20241103T060000
END:STANDARD
BEGIN:DAYLIGHT
TZOFFSETFROM:-0500
TZOFFSETTO:-0400
TZNAME:EDT
DTSTART:20250309T070000
END:DAYLIGHT
BEGIN:STANDARD
TZOFFSETFROM:-0400
TZOFFSETTO:-0500
TZNAME:EST
DTSTART:20251102T060000
END:STANDARD
END:VTIMEZONE
BEGIN:VEVENT
DTSTART;TZID=America/New_York:20240730T190000
DTEND;TZID=America/New_York:20240730T201500
DTSTAMP:20260424T081406
CREATED:20240508T155811Z
LAST-MODIFIED:20240613T145225Z
UID:10002573-1722366000-1722370500@nhaudubon.org
SUMMARY:Red Barn Speaker Series - Resurgence of Bald Eagles in New Hampshire
DESCRIPTION:2024 Red Barn Series\, Newfound Audubon\nNo registration necessary – just come and join us! \nSpeaker: Chris Martin\, NH Audubon \nThis program examines the dramatic Bald Eagle population recovery in New Hampshire and describes management efforts and partnerships that have helped eagles. Chris Martin has been a raptor biologist for NH Audubon for more than 30 years. His work focuses on recovery of the state’s endangered and threatened raptors in close collaboration with NH Fish & Game. He recruits\, trains\, and supervises an enthusiastic corps of NH Audubon volunteer field observers who monitor these species throughout the state. \nPlease park across the street at Ash Cottage. Download a map here. Note that this is now a private residence and there is no bathroom access. \nThank you to our generous sponsors: John S. Jordan Design PLLC and the Hebron Conservation Committee. \nPhoto: Bald Eagle by Chris Roberts.
URL:https://nhaudubon.org/event/red-barn-2024-bald-eagles/
LOCATION:Red Barn\, 41 North Shore Road\, Hebron\, NH\, United States
CATEGORIES:Red Barn Speaker Series
ATTACH;FMTTYPE=image/jpeg:https://nhaudubon.org/wp-content/uploads/eagle-red-barn.jpg
ORGANIZER;CN="Devin Guilfoyle":MAILTO:dguilfoyle@nhaudubon.org
END:VEVENT
END:VCALENDAR