BEGIN:VCALENDAR
VERSION:2.0
PRODID:-//NH Audubon - ECPv6.15.11//NONSGML v1.0//EN
CALSCALE:GREGORIAN
METHOD:PUBLISH
X-WR-CALNAME:NH Audubon
X-ORIGINAL-URL:https://nhaudubon.org
X-WR-CALDESC:Events for NH Audubon
REFRESH-INTERVAL;VALUE=DURATION:PT1H
X-Robots-Tag:noindex
X-PUBLISHED-TTL:PT1H
BEGIN:VTIMEZONE
TZID:America/New_York
BEGIN:DAYLIGHT
TZOFFSETFROM:-0500
TZOFFSETTO:-0400
TZNAME:EDT
DTSTART:20230312T070000
END:DAYLIGHT
BEGIN:STANDARD
TZOFFSETFROM:-0400
TZOFFSETTO:-0500
TZNAME:EST
DTSTART:20231105T060000
END:STANDARD
BEGIN:DAYLIGHT
TZOFFSETFROM:-0500
TZOFFSETTO:-0400
TZNAME:EDT
DTSTART:20240310T070000
END:DAYLIGHT
BEGIN:STANDARD
TZOFFSETFROM:-0400
TZOFFSETTO:-0500
TZNAME:EST
DTSTART:20241103T060000
END:STANDARD
BEGIN:DAYLIGHT
TZOFFSETFROM:-0500
TZOFFSETTO:-0400
TZNAME:EDT
DTSTART:20250309T070000
END:DAYLIGHT
BEGIN:STANDARD
TZOFFSETFROM:-0400
TZOFFSETTO:-0500
TZNAME:EST
DTSTART:20251102T060000
END:STANDARD
END:VTIMEZONE
BEGIN:VEVENT
DTSTART;TZID=America/New_York:20240716T190000
DTEND;TZID=America/New_York:20240716T201500
DTSTAMP:20260424T095705
CREATED:20240508T155139Z
LAST-MODIFIED:20240613T144830Z
UID:10002571-1721156400-1721160900@nhaudubon.org
SUMMARY:Red Barn Speaker Series - Entomology for the Masses: Introducing the Insects
DESCRIPTION:2024 Red Barn Series\, Newfound Audubon\nNo registration necessary – just come and join us! \nSpeaker: Dr. Pam Hunt\, NH Audubon \nThis talk is a celebration of everything with six legs. Insects are by far the most abundant and diverse group of organisms on earth\, with by some estimates well over a million species – or slightly over half of ALL species known to live on our planet. And yet what do we REALLY know about these critters? Some of the things insects do are stranger than fiction\, but rest assured that they are doing it all the time right under our noses. For example\, did you know that male dragonflies can scoop sperm from a previous male out of females’ reproductive organs? Or that some wasps lay eggs inside living caterpillars\, and the wasp larvae eat the caterpillar alive from the inside out? And then there are the more familiar stories involving metamorphosis\, pollination\, and mimicry. Join us to learn some of the basics of insect biology\, including an overview of the major groups. \nPlease park across the street at Ash Cottage. Download a map here. Note that this is now a private residence and there is no bathroom access. \nThank you to our generous sponsors: John S. Jordan Design PLLC and the Hebron Conservation Committee. \nPhoto: Six-spotted Tiger Beetle by Pam Hunt.
URL:https://nhaudubon.org/event/red-barn-2024-entomology/
LOCATION:Red Barn\, 41 North Shore Road\, Hebron\, NH\, United States
CATEGORIES:Red Barn Speaker Series
ATTACH;FMTTYPE=image/jpeg:https://nhaudubon.org/wp-content/uploads/entemology-red-barn.jpg
ORGANIZER;CN="Devin Guilfoyle":MAILTO:dguilfoyle@nhaudubon.org
END:VEVENT
END:VCALENDAR