BEGIN:VCALENDAR
VERSION:2.0
PRODID:-//NH Audubon - ECPv6.15.11//NONSGML v1.0//EN
CALSCALE:GREGORIAN
METHOD:PUBLISH
X-WR-CALNAME:NH Audubon
X-ORIGINAL-URL:https://nhaudubon.org
X-WR-CALDESC:Events for NH Audubon
REFRESH-INTERVAL;VALUE=DURATION:PT1H
X-Robots-Tag:noindex
X-PUBLISHED-TTL:PT1H
BEGIN:VTIMEZONE
TZID:America/New_York
BEGIN:DAYLIGHT
TZOFFSETFROM:-0500
TZOFFSETTO:-0400
TZNAME:EDT
DTSTART:20220313T070000
END:DAYLIGHT
BEGIN:STANDARD
TZOFFSETFROM:-0400
TZOFFSETTO:-0500
TZNAME:EST
DTSTART:20221106T060000
END:STANDARD
BEGIN:DAYLIGHT
TZOFFSETFROM:-0500
TZOFFSETTO:-0400
TZNAME:EDT
DTSTART:20230312T070000
END:DAYLIGHT
BEGIN:STANDARD
TZOFFSETFROM:-0400
TZOFFSETTO:-0500
TZNAME:EST
DTSTART:20231105T060000
END:STANDARD
BEGIN:DAYLIGHT
TZOFFSETFROM:-0500
TZOFFSETTO:-0400
TZNAME:EDT
DTSTART:20240310T070000
END:DAYLIGHT
BEGIN:STANDARD
TZOFFSETFROM:-0400
TZOFFSETTO:-0500
TZNAME:EST
DTSTART:20241103T060000
END:STANDARD
BEGIN:DAYLIGHT
TZOFFSETFROM:-0500
TZOFFSETTO:-0400
TZNAME:EDT
DTSTART:20250309T070000
END:DAYLIGHT
BEGIN:STANDARD
TZOFFSETFROM:-0400
TZOFFSETTO:-0500
TZNAME:EST
DTSTART:20251102T060000
END:STANDARD
END:VTIMEZONE
BEGIN:VEVENT
DTSTART;TZID=America/New_York:20231115T100000
DTEND;TZID=America/New_York:20231115T110000
DTSTAMP:20260419T154242
CREATED:20230925T141332Z
LAST-MODIFIED:20231023T184542Z
UID:10002243-1700042400-1700046000@nhaudubon.org
SUMMARY:Brockway Wee Explorers - Leaves\, Wonderful Leaves
DESCRIPTION:Join New Hampshire Audubon at Brockway Nature Preserve in Hopkinton for nature exploration with your 3-5 year old. Programs will be held on the first and third Wednesday of every month through May. Each program has an exciting theme regarding wildlife\, nature\, or the seasons. Programs will begin at 10 am and last about 45 minutes each. \nThis is an outdoor location with no bathroom facilities. Please dress children for the weather and be ready to walk on the trail\, sit on logs and the ground\, and dig in the dirt! Programs will be cancelled if poor weather is predicted during the program time; participants will be notified by email of cancellations. To find the meeting circle\, park at the Brockway Nature Preserve parking area along Farrington Corners Road in Hopkinton\, then follow the entrance trail across the bridge to the circle. For detailed directions\, see here. Contact Devin Guilfoyle with any questions about the program. Maximum 10 children. \nCost: Non-resident NH Audubon members: $5/family; Non-resident non-members: $10/family; Free to Hopkinton Residents* (RSVP required below)\n*Thanks to an endowment from Dorothy Brockway Osborne\, this program is free for Hopkinton Residents.
URL:https://nhaudubon.org/event/brockway-wee-explorers-leaves-wonderful-leaves-nov-15-2023/
LOCATION:Brockway Nature Preserve\, Farrington Corner Road\, Hopkinton\, NH\, United States
CATEGORIES:Preschool Aged Activity
ATTACH;FMTTYPE=image/png:https://nhaudubon.org/wp-content/uploads/boy-on-log-hillary-chapman.png
ORGANIZER;CN="Devin Guilfoyle":MAILTO:dguilfoyle@nhaudubon.org
GEO:43.171121;-71.622851
X-APPLE-STRUCTURED-LOCATION;VALUE=URI;X-ADDRESS=Brockway Nature Preserve Farrington Corner Road Hopkinton NH United States;X-APPLE-RADIUS=500;X-TITLE=Farrington Corner Road:geo:-71.622851,43.171121
END:VEVENT
BEGIN:VEVENT
DTSTART;TZID=America/New_York:20231206T100000
DTEND;TZID=America/New_York:20231206T110000
DTSTAMP:20260419T154242
CREATED:20230925T141526Z
LAST-MODIFIED:20231023T184755Z
UID:10002244-1701856800-1701860400@nhaudubon.org
SUMMARY:Brockway Wee Explorers - Hide and Seek
DESCRIPTION:Join New Hampshire Audubon at Brockway Nature Preserve in Hopkinton for nature exploration with your 3-5 year old. Programs will be held on the first and third Wednesday of every month through May. Each program has an exciting theme regarding wildlife\, nature\, or the seasons. Programs will begin at 10 am and last about 45 minutes each. \nThis is an outdoor location with no bathroom facilities. Please dress children for the weather and be ready to walk on the trail\, sit on logs and the ground\, and dig in the dirt! Programs will be cancelled if poor weather is predicted during the program time; participants will be notified by email of cancellations. To find the meeting circle\, park at the Brockway Nature Preserve parking area along Farrington Corners Road in Hopkinton\, then follow the entrance trail across the bridge to the circle. For detailed directions\, see here. Contact Devin Guilfoyle with any questions about the program. Maximum 10 children. \nCost: Non-resident NH Audubon members: $5/family; Non-resident non-members: $10/family; Free to Hopkinton Residents* (RSVP required below)\n*Thanks to an endowment from Dorothy Brockway Osborne\, this program is free for Hopkinton Residents.
URL:https://nhaudubon.org/event/brockway-wee-explorers-hide-and-seek-dec-6-2023/
LOCATION:Brockway Nature Preserve\, Farrington Corner Road\, Hopkinton\, NH\, United States
CATEGORIES:Preschool Aged Activity
ATTACH;FMTTYPE=image/png:https://nhaudubon.org/wp-content/uploads/boy-on-log-hillary-chapman.png
ORGANIZER;CN="Devin Guilfoyle":MAILTO:dguilfoyle@nhaudubon.org
GEO:43.171121;-71.622851
X-APPLE-STRUCTURED-LOCATION;VALUE=URI;X-ADDRESS=Brockway Nature Preserve Farrington Corner Road Hopkinton NH United States;X-APPLE-RADIUS=500;X-TITLE=Farrington Corner Road:geo:-71.622851,43.171121
END:VEVENT
BEGIN:VEVENT
DTSTART;TZID=America/New_York:20231220T100000
DTEND;TZID=America/New_York:20231220T110000
DTSTAMP:20260419T154242
CREATED:20230925T142110Z
LAST-MODIFIED:20231023T185046Z
UID:10002245-1703066400-1703070000@nhaudubon.org
SUMMARY:Brockway Wee Explorers - Evergreens and Cones
DESCRIPTION:Join New Hampshire Audubon at Brockway Nature Preserve in Hopkinton for nature exploration with your 3-5 year old. Programs will be held on the first and third Wednesday of every month through May. Each program has an exciting theme regarding wildlife\, nature\, or the seasons. Programs will begin at 10 am and last about 45 minutes each. \nThis is an outdoor location with no bathroom facilities. Please dress children for the weather and be ready to walk on the trail\, sit on logs and the ground\, and dig in the dirt! Programs will be cancelled if poor weather is predicted during the program time; participants will be notified by email of cancellations. To find the meeting circle\, park at the Brockway Nature Preserve parking area along Farrington Corners Road in Hopkinton\, then follow the entrance trail across the bridge to the circle. For detailed directions\, see here. Contact Devin Guilfoyle with any questions about the program. Maximum 10 children. \nCost: Non-resident NH Audubon members: $5/family; Non-resident non-members: $10/family; Free to Hopkinton Residents* (RSVP required below)\n*Thanks to an endowment from Dorothy Brockway Osborne\, this program is free for Hopkinton Residents.
URL:https://nhaudubon.org/event/brockway-wee-explorers-evergreens-and-cones-dec-20-2023/
LOCATION:Brockway Nature Preserve\, Farrington Corner Road\, Hopkinton\, NH\, United States
CATEGORIES:Preschool Aged Activity
ATTACH;FMTTYPE=image/png:https://nhaudubon.org/wp-content/uploads/boy-on-log-hillary-chapman.png
ORGANIZER;CN="Devin Guilfoyle":MAILTO:dguilfoyle@nhaudubon.org
GEO:43.171121;-71.622851
X-APPLE-STRUCTURED-LOCATION;VALUE=URI;X-ADDRESS=Brockway Nature Preserve Farrington Corner Road Hopkinton NH United States;X-APPLE-RADIUS=500;X-TITLE=Farrington Corner Road:geo:-71.622851,43.171121
END:VEVENT
BEGIN:VEVENT
DTSTART;TZID=America/New_York:20240103T100000
DTEND;TZID=America/New_York:20240103T110000
DTSTAMP:20260419T154242
CREATED:20230925T142301Z
LAST-MODIFIED:20231023T185308Z
UID:10002246-1704276000-1704279600@nhaudubon.org
SUMMARY:Brockway Wee Explorers - Wonders of Winter
DESCRIPTION:Join New Hampshire Audubon at Brockway Nature Preserve in Hopkinton for nature exploration with your 3-5 year old. Programs will be held on the first and third Wednesday of every month through May. Each program has an exciting theme regarding wildlife\, nature\, or the seasons. Programs will begin at 10 am and last about 45 minutes each. \nThis is an outdoor location with no bathroom facilities. Please dress children for the weather and be ready to walk on the trail\, sit on logs and the ground\, and dig in the dirt! Programs will be cancelled if poor weather is predicted during the program time; participants will be notified by email of cancellations. To find the meeting circle\, park at the Brockway Nature Preserve parking area along Farrington Corners Road in Hopkinton\, then follow the entrance trail across the bridge to the circle. For detailed directions\, see here. Contact Devin Guilfoyle with any questions about the program. Maximum 10 children. \nCost: Non-resident NH Audubon members: $5/family; Non-resident non-members: $10/family; Free to Hopkinton Residents* (RSVP required below)\n*Thanks to an endowment from Dorothy Brockway Osborne\, this program is free for Hopkinton Residents.
URL:https://nhaudubon.org/event/brockway-wee-explorers-wonders-of-winter-jan-3-2024/
LOCATION:Brockway Nature Preserve\, Farrington Corner Road\, Hopkinton\, NH\, United States
CATEGORIES:Preschool Aged Activity
ATTACH;FMTTYPE=image/png:https://nhaudubon.org/wp-content/uploads/boy-on-log-hillary-chapman.png
ORGANIZER;CN="Devin Guilfoyle":MAILTO:dguilfoyle@nhaudubon.org
GEO:43.171121;-71.622851
X-APPLE-STRUCTURED-LOCATION;VALUE=URI;X-ADDRESS=Brockway Nature Preserve Farrington Corner Road Hopkinton NH United States;X-APPLE-RADIUS=500;X-TITLE=Farrington Corner Road:geo:-71.622851,43.171121
END:VEVENT
BEGIN:VEVENT
DTSTART;TZID=America/New_York:20240117T100000
DTEND;TZID=America/New_York:20240117T110000
DTSTAMP:20260419T154242
CREATED:20230925T142425Z
LAST-MODIFIED:20231023T185433Z
UID:10002247-1705485600-1705489200@nhaudubon.org
SUMMARY:Brockway Wee Explorers - Who's Awake?
DESCRIPTION:Join New Hampshire Audubon at Brockway Nature Preserve in Hopkinton for nature exploration with your 3-5 year old. Programs will be held on the first and third Wednesday of every month through May. Each program has an exciting theme regarding wildlife\, nature\, or the seasons. Programs will begin at 10 am and last about 45 minutes each. \nThis is an outdoor location with no bathroom facilities. Please dress children for the weather and be ready to walk on the trail\, sit on logs and the ground\, and dig in the dirt! Programs will be cancelled if poor weather is predicted during the program time; participants will be notified by email of cancellations. To find the meeting circle\, park at the Brockway Nature Preserve parking area along Farrington Corners Road in Hopkinton\, then follow the entrance trail across the bridge to the circle. For detailed directions\, see here. Contact Devin Guilfoyle with any questions about the program. Maximum 10 children. \nCost: Non-resident NH Audubon members: $5/family; Non-resident non-members: $10/family; Free to Hopkinton Residents* (RSVP required below)\n*Thanks to an endowment from Dorothy Brockway Osborne\, this program is free for Hopkinton Residents.
URL:https://nhaudubon.org/event/brockway-wee-explorers-whos-awake-jan-17-2024/
LOCATION:Brockway Nature Preserve\, Farrington Corner Road\, Hopkinton\, NH\, United States
CATEGORIES:Preschool Aged Activity
ATTACH;FMTTYPE=image/png:https://nhaudubon.org/wp-content/uploads/boy-on-log-hillary-chapman.png
ORGANIZER;CN="Devin Guilfoyle":MAILTO:dguilfoyle@nhaudubon.org
GEO:43.171121;-71.622851
X-APPLE-STRUCTURED-LOCATION;VALUE=URI;X-ADDRESS=Brockway Nature Preserve Farrington Corner Road Hopkinton NH United States;X-APPLE-RADIUS=500;X-TITLE=Farrington Corner Road:geo:-71.622851,43.171121
END:VEVENT
BEGIN:VEVENT
DTSTART;TZID=America/New_York:20240207T100000
DTEND;TZID=America/New_York:20240207T110000
DTSTAMP:20260419T154242
CREATED:20230925T142553Z
LAST-MODIFIED:20231023T185511Z
UID:10002248-1707300000-1707303600@nhaudubon.org
SUMMARY:Brockway Wee Explorers - Who Made That Track?
DESCRIPTION:Join New Hampshire Audubon at Brockway Nature Preserve in Hopkinton for nature exploration with your 3-5 year old. Programs will be held on the first and third Wednesday of every month through May. Each program has an exciting theme regarding wildlife\, nature\, or the seasons. Programs will begin at 10 am and last about 45 minutes each. \nThis is an outdoor location with no bathroom facilities. Please dress children for the weather and be ready to walk on the trail\, sit on logs and the ground\, and dig in the dirt! Programs will be cancelled if poor weather is predicted during the program time; participants will be notified by email of cancellations. To find the meeting circle\, park at the Brockway Nature Preserve parking area along Farrington Corners Road in Hopkinton\, then follow the entrance trail across the bridge to the circle. For detailed directions\, see here. Contact Devin Guilfoyle with any questions about the program. Maximum 10 children. \nCost: Non-resident NH Audubon members: $5/family; Non-resident non-members: $10/family; Free to Hopkinton Residents* (RSVP required below)\n*Thanks to an endowment from Dorothy Brockway Osborne\, this program is free for Hopkinton Residents.
URL:https://nhaudubon.org/event/brockway-wee-explorers-who-made-that-track-feb-7-2024/
LOCATION:Brockway Nature Preserve\, Farrington Corner Road\, Hopkinton\, NH\, United States
CATEGORIES:Preschool Aged Activity
ATTACH;FMTTYPE=image/png:https://nhaudubon.org/wp-content/uploads/boy-on-log-hillary-chapman.png
ORGANIZER;CN="Devin Guilfoyle":MAILTO:dguilfoyle@nhaudubon.org
GEO:43.171121;-71.622851
X-APPLE-STRUCTURED-LOCATION;VALUE=URI;X-ADDRESS=Brockway Nature Preserve Farrington Corner Road Hopkinton NH United States;X-APPLE-RADIUS=500;X-TITLE=Farrington Corner Road:geo:-71.622851,43.171121
END:VEVENT
BEGIN:VEVENT
DTSTART;TZID=America/New_York:20240221T100000
DTEND;TZID=America/New_York:20240221T110000
DTSTAMP:20260419T154242
CREATED:20230925T142705Z
LAST-MODIFIED:20231023T185550Z
UID:10002249-1708509600-1708513200@nhaudubon.org
SUMMARY:Brockway Wee Explorers - Wildlife Homes
DESCRIPTION:Join New Hampshire Audubon at Brockway Nature Preserve in Hopkinton for nature exploration with your 3-5 year old. Programs will be held on the first and third Wednesday of every month through May. Each program has an exciting theme regarding wildlife\, nature\, or the seasons. Programs will begin at 10 am and last about 45 minutes each. \nThis is an outdoor location with no bathroom facilities. Please dress children for the weather and be ready to walk on the trail\, sit on logs and the ground\, and dig in the dirt! Programs will be cancelled if poor weather is predicted during the program time; participants will be notified by email of cancellations. To find the meeting circle\, park at the Brockway Nature Preserve parking area along Farrington Corners Road in Hopkinton\, then follow the entrance trail across the bridge to the circle. For detailed directions\, see here. Contact Devin Guilfoyle with any questions about the program. Maximum 10 children. \nCost: Non-resident NH Audubon members: $5/family; Non-resident non-members: $10/family; Free to Hopkinton Residents* (RSVP required below)\n*Thanks to an endowment from Dorothy Brockway Osborne\, this program is free for Hopkinton Residents.
URL:https://nhaudubon.org/event/brockway-wee-explorers-wildlife-homes-feb-21-2024/
LOCATION:Brockway Nature Preserve\, Farrington Corner Road\, Hopkinton\, NH\, United States
CATEGORIES:Preschool Aged Activity
ATTACH;FMTTYPE=image/png:https://nhaudubon.org/wp-content/uploads/boy-on-log-hillary-chapman.png
ORGANIZER;CN="Devin Guilfoyle":MAILTO:dguilfoyle@nhaudubon.org
GEO:43.171121;-71.622851
X-APPLE-STRUCTURED-LOCATION;VALUE=URI;X-ADDRESS=Brockway Nature Preserve Farrington Corner Road Hopkinton NH United States;X-APPLE-RADIUS=500;X-TITLE=Farrington Corner Road:geo:-71.622851,43.171121
END:VEVENT
BEGIN:VEVENT
DTSTART;TZID=America/New_York:20240306T100000
DTEND;TZID=America/New_York:20240306T110000
DTSTAMP:20260419T154242
CREATED:20230925T142941Z
LAST-MODIFIED:20231023T185627Z
UID:10002250-1709719200-1709722800@nhaudubon.org
SUMMARY:Brockway Wee Explorers - Animal Babies
DESCRIPTION:Join New Hampshire Audubon at Brockway Nature Preserve in Hopkinton for nature exploration with your 3-5 year old. Programs will be held on the first and third Wednesday of every month through May. Each program has an exciting theme regarding wildlife\, nature\, or the seasons. Programs will begin at 10 am and last about 45 minutes each. \nThis is an outdoor location with no bathroom facilities. Please dress children for the weather and be ready to walk on the trail\, sit on logs and the ground\, and dig in the dirt! Programs will be cancelled if poor weather is predicted during the program time; participants will be notified by email of cancellations. To find the meeting circle\, park at the Brockway Nature Preserve parking area along Farrington Corners Road in Hopkinton\, then follow the entrance trail across the bridge to the circle. For detailed directions\, see here. Contact Devin Guilfoyle with any questions about the program. Maximum 10 children. \nCost: Non-resident NH Audubon members: $5/family; Non-resident non-members: $10/family; Free to Hopkinton Residents* (RSVP required below)\n*Thanks to an endowment from Dorothy Brockway Osborne\, this program is free for Hopkinton Residents.
URL:https://nhaudubon.org/event/brockway-wee-explorers-animal-babies-mar-6-2024/
LOCATION:Brockway Nature Preserve\, Farrington Corner Road\, Hopkinton\, NH\, United States
CATEGORIES:Preschool Aged Activity
ATTACH;FMTTYPE=image/png:https://nhaudubon.org/wp-content/uploads/boy-on-log-hillary-chapman.png
ORGANIZER;CN="Devin Guilfoyle":MAILTO:dguilfoyle@nhaudubon.org
GEO:43.171121;-71.622851
X-APPLE-STRUCTURED-LOCATION;VALUE=URI;X-ADDRESS=Brockway Nature Preserve Farrington Corner Road Hopkinton NH United States;X-APPLE-RADIUS=500;X-TITLE=Farrington Corner Road:geo:-71.622851,43.171121
END:VEVENT
BEGIN:VEVENT
DTSTART;TZID=America/New_York:20240320T100000
DTEND;TZID=America/New_York:20240320T110000
DTSTAMP:20260419T154242
CREATED:20230925T143158Z
LAST-MODIFIED:20240305T190204Z
UID:10002251-1710928800-1710932400@nhaudubon.org
SUMMARY:Brockway Wee Explorers - Busy Beavers
DESCRIPTION:Join New Hampshire Audubon at Brockway Nature Preserve in Hopkinton for nature exploration with your 3-5 year old. Programs will be held on the first and third Wednesday of every month through May. Each program has an exciting theme regarding wildlife\, nature\, or the seasons. Programs will begin at 10 am and last about 45 minutes each. \nThis is an outdoor location with no bathroom facilities. Please dress children for the weather and be ready to walk on the trail\, sit on logs and the ground\, and dig in the dirt! Programs will be cancelled if poor weather is predicted during the program time; participants will be notified by email of cancellations. To find the meeting circle\, park at the Brockway Nature Preserve parking area along Farrington Corners Road in Hopkinton\, then follow the entrance trail across the bridge to the circle. For detailed directions\, see here. Contact Devin Guilfoyle with any questions about the program. Maximum 10 children. \nCost: Non-resident NH Audubon members: $5/family; Non-resident non-members: $10/family; Free to Hopkinton Residents* (RSVP required below)\n*Thanks to an endowment from Dorothy Brockway Osborne\, this program is free for Hopkinton Residents.
URL:https://nhaudubon.org/event/brockway-wee-explorers-busy-beavers-mar-20-2024/
LOCATION:Brockway Nature Preserve\, Farrington Corner Road\, Hopkinton\, NH\, United States
CATEGORIES:Preschool Aged Activity
ATTACH;FMTTYPE=image/png:https://nhaudubon.org/wp-content/uploads/boy-on-log-hillary-chapman.png
ORGANIZER;CN="Devin Guilfoyle":MAILTO:dguilfoyle@nhaudubon.org
GEO:43.171121;-71.622851
X-APPLE-STRUCTURED-LOCATION;VALUE=URI;X-ADDRESS=Brockway Nature Preserve Farrington Corner Road Hopkinton NH United States;X-APPLE-RADIUS=500;X-TITLE=Farrington Corner Road:geo:-71.622851,43.171121
END:VEVENT
BEGIN:VEVENT
DTSTART;TZID=America/New_York:20240403T100000
DTEND;TZID=America/New_York:20240403T110000
DTSTAMP:20260419T154242
CREATED:20230925T143332Z
LAST-MODIFIED:20240305T190329Z
UID:10002252-1712138400-1712142000@nhaudubon.org
SUMMARY:Brockway Wee Explorers - Spring Fling
DESCRIPTION:Join New Hampshire Audubon at Brockway Nature Preserve in Hopkinton for nature exploration with your 3-5 year old. Programs will be held on the first and third Wednesday of every month through May. Each program has an exciting theme regarding wildlife\, nature\, or the seasons. Programs will begin at 10 am and last about 45 minutes each. \nThis is an outdoor location with no bathroom facilities. Please dress children for the weather and be ready to walk on the trail\, sit on logs and the ground\, and dig in the dirt! Programs will be cancelled if poor weather is predicted during the program time; participants will be notified by email of cancellations. To find the meeting circle\, park at the Brockway Nature Preserve parking area along Farrington Corners Road in Hopkinton\, then follow the entrance trail across the bridge to the circle. For detailed directions\, see here. Contact Devin Guilfoyle with any questions about the program. Maximum 10 children. \nCost: Non-resident NH Audubon members: $5/family; Non-resident non-members: $10/family; Free to Hopkinton Residents* (RSVP required below)\n*Thanks to an endowment from Dorothy Brockway Osborne\, this program is free for Hopkinton Residents.
URL:https://nhaudubon.org/event/brockway-wee-explorers-spring-fling-apr-3-2024/
LOCATION:Brockway Nature Preserve\, Farrington Corner Road\, Hopkinton\, NH\, United States
CATEGORIES:Preschool Aged Activity
ATTACH;FMTTYPE=image/png:https://nhaudubon.org/wp-content/uploads/boy-on-log-hillary-chapman.png
ORGANIZER;CN="Devin Guilfoyle":MAILTO:dguilfoyle@nhaudubon.org
GEO:43.171121;-71.622851
X-APPLE-STRUCTURED-LOCATION;VALUE=URI;X-ADDRESS=Brockway Nature Preserve Farrington Corner Road Hopkinton NH United States;X-APPLE-RADIUS=500;X-TITLE=Farrington Corner Road:geo:-71.622851,43.171121
END:VEVENT
BEGIN:VEVENT
DTSTART;TZID=America/New_York:20240417T100000
DTEND;TZID=America/New_York:20240417T110000
DTSTAMP:20260419T154242
CREATED:20230925T143627Z
LAST-MODIFIED:20240305T190411Z
UID:10002253-1713348000-1713351600@nhaudubon.org
SUMMARY:Brockway Wee Explorers - Scales\, Skins\, and Scutes
DESCRIPTION:Join New Hampshire Audubon at Brockway Nature Preserve in Hopkinton for nature exploration with your 3-5 year old. Programs will be held on the first and third Wednesday of every month through May. Each program has an exciting theme regarding wildlife\, nature\, or the seasons. Programs will begin at 10 am and last about 45 minutes each. \nThis is an outdoor location with no bathroom facilities. Please dress children for the weather and be ready to walk on the trail\, sit on logs and the ground\, and dig in the dirt! Programs will be cancelled if poor weather is predicted during the program time; participants will be notified by email of cancellations. To find the meeting circle\, park at the Brockway Nature Preserve parking area along Farrington Corners Road in Hopkinton\, then follow the entrance trail across the bridge to the circle. For detailed directions\, see here. Contact Devin Guilfoyle with any questions about the program. Maximum 10 children. \nCost: Non-resident NH Audubon members: $5/family; Non-resident non-members: $10/family; Free to Hopkinton Residents* (RSVP required below)\n*Thanks to an endowment from Dorothy Brockway Osborne\, this program is free for Hopkinton Residents.
URL:https://nhaudubon.org/event/brockway-wee-explorers-scales-skins-scutes-apr-17-2024/
LOCATION:Brockway Nature Preserve\, Farrington Corner Road\, Hopkinton\, NH\, United States
CATEGORIES:Preschool Aged Activity
ATTACH;FMTTYPE=image/png:https://nhaudubon.org/wp-content/uploads/boy-on-log-hillary-chapman.png
ORGANIZER;CN="Devin Guilfoyle":MAILTO:dguilfoyle@nhaudubon.org
GEO:43.171121;-71.622851
X-APPLE-STRUCTURED-LOCATION;VALUE=URI;X-ADDRESS=Brockway Nature Preserve Farrington Corner Road Hopkinton NH United States;X-APPLE-RADIUS=500;X-TITLE=Farrington Corner Road:geo:-71.622851,43.171121
END:VEVENT
BEGIN:VEVENT
DTSTART;TZID=America/New_York:20240501T100000
DTEND;TZID=America/New_York:20240501T110000
DTSTAMP:20260419T154242
CREATED:20230925T143801Z
LAST-MODIFIED:20240305T190508Z
UID:10002254-1714557600-1714561200@nhaudubon.org
SUMMARY:Brockway Wee Explorers - Who Lives in the Pond?
DESCRIPTION:Join New Hampshire Audubon at Brockway Nature Preserve in Hopkinton for nature exploration with your 3-5 year old. Programs will be held on the first and third Wednesday of every month through May. Each program has an exciting theme regarding wildlife\, nature\, or the seasons. Programs will begin at 10 am and last about 45 minutes each. \nThis is an outdoor location with no bathroom facilities. Please dress children for the weather and be ready to walk on the trail\, sit on logs and the ground\, and dig in the dirt! Programs will be cancelled if poor weather is predicted during the program time; participants will be notified by email of cancellations. To find the meeting circle\, park at the Brockway Nature Preserve parking area along Farrington Corners Road in Hopkinton\, then follow the entrance trail across the bridge to the circle. For detailed directions\, see here. Contact Devin Guilfoyle with any questions about the program. Maximum 10 children. \nCost: Non-resident NH Audubon members: $5/family; Non-resident non-members: $10/family; Free to Hopkinton Residents* (RSVP required below)\n*Thanks to an endowment from Dorothy Brockway Osborne\, this program is free for Hopkinton Residents.
URL:https://nhaudubon.org/event/brockway-wee-explorers-who-lives-in-the-pond-may-1-2024/
LOCATION:Brockway Nature Preserve\, Farrington Corner Road\, Hopkinton\, NH\, United States
CATEGORIES:Preschool Aged Activity
ATTACH;FMTTYPE=image/png:https://nhaudubon.org/wp-content/uploads/boy-on-log-hillary-chapman.png
ORGANIZER;CN="Devin Guilfoyle":MAILTO:dguilfoyle@nhaudubon.org
GEO:43.171121;-71.622851
X-APPLE-STRUCTURED-LOCATION;VALUE=URI;X-ADDRESS=Brockway Nature Preserve Farrington Corner Road Hopkinton NH United States;X-APPLE-RADIUS=500;X-TITLE=Farrington Corner Road:geo:-71.622851,43.171121
END:VEVENT
BEGIN:VEVENT
DTSTART;TZID=America/New_York:20240515T100000
DTEND;TZID=America/New_York:20240515T110000
DTSTAMP:20260419T154242
CREATED:20230925T143937Z
LAST-MODIFIED:20240305T190555Z
UID:10002255-1715767200-1715770800@nhaudubon.org
SUMMARY:Brockway Wee Explorers - Insect Investigators
DESCRIPTION:Join New Hampshire Audubon at Brockway Nature Preserve in Hopkinton for nature exploration with your 3-5 year old. Programs will be held on the first and third Wednesday of every month through May. Each program has an exciting theme regarding wildlife\, nature\, or the seasons. Programs will begin at 10 am and last about 45 minutes each. \nThis is an outdoor location with no bathroom facilities. Please dress children for the weather and be ready to walk on the trail\, sit on logs and the ground\, and dig in the dirt! Programs will be cancelled if poor weather is predicted during the program time; participants will be notified by email of cancellations. To find the meeting circle\, park at the Brockway Nature Preserve parking area along Farrington Corners Road in Hopkinton\, then follow the entrance trail across the bridge to the circle. For detailed directions\, see here. Contact Devin Guilfoyle with any questions about the program. Maximum 10 children. \nCost: Non-resident NH Audubon members: $5/family; Non-resident non-members: $10/family; Free to Hopkinton Residents* (RSVP required below)\n*Thanks to an endowment from Dorothy Brockway Osborne\, this program is free for Hopkinton Residents.
URL:https://nhaudubon.org/event/brockway-wee-explorers-insect-investigators-may-15-2024/
LOCATION:Brockway Nature Preserve\, Farrington Corner Road\, Hopkinton\, NH\, United States
CATEGORIES:Preschool Aged Activity
ATTACH;FMTTYPE=image/png:https://nhaudubon.org/wp-content/uploads/boy-on-log-hillary-chapman.png
ORGANIZER;CN="Devin Guilfoyle":MAILTO:dguilfoyle@nhaudubon.org
GEO:43.171121;-71.622851
X-APPLE-STRUCTURED-LOCATION;VALUE=URI;X-ADDRESS=Brockway Nature Preserve Farrington Corner Road Hopkinton NH United States;X-APPLE-RADIUS=500;X-TITLE=Farrington Corner Road:geo:-71.622851,43.171121
END:VEVENT
END:VCALENDAR