BEGIN:VCALENDAR
VERSION:2.0
PRODID:-//NH Audubon - ECPv6.15.11//NONSGML v1.0//EN
CALSCALE:GREGORIAN
METHOD:PUBLISH
X-ORIGINAL-URL:https://nhaudubon.org
X-WR-CALDESC:Events for NH Audubon
REFRESH-INTERVAL;VALUE=DURATION:PT1H
X-Robots-Tag:noindex
X-PUBLISHED-TTL:PT1H
BEGIN:VTIMEZONE
TZID:America/New_York
BEGIN:DAYLIGHT
TZOFFSETFROM:-0500
TZOFFSETTO:-0400
TZNAME:EDT
DTSTART:20220313T070000
END:DAYLIGHT
BEGIN:STANDARD
TZOFFSETFROM:-0400
TZOFFSETTO:-0500
TZNAME:EST
DTSTART:20221106T060000
END:STANDARD
BEGIN:DAYLIGHT
TZOFFSETFROM:-0500
TZOFFSETTO:-0400
TZNAME:EDT
DTSTART:20230312T070000
END:DAYLIGHT
BEGIN:STANDARD
TZOFFSETFROM:-0400
TZOFFSETTO:-0500
TZNAME:EST
DTSTART:20231105T060000
END:STANDARD
BEGIN:DAYLIGHT
TZOFFSETFROM:-0500
TZOFFSETTO:-0400
TZNAME:EDT
DTSTART:20240310T070000
END:DAYLIGHT
BEGIN:STANDARD
TZOFFSETFROM:-0400
TZOFFSETTO:-0500
TZNAME:EST
DTSTART:20241103T060000
END:STANDARD
END:VTIMEZONE
BEGIN:VEVENT
DTSTART;TZID=America/New_York:20230617T080000
DTEND;TZID=America/New_York:20230617T093000
DTSTAMP:20260420T080319
CREATED:20230502T135107Z
LAST-MODIFIED:20230502T142931Z
UID:10001415-1686988800-1686994200@nhaudubon.org
SUMMARY:Birding Walk at Massabesic Center
DESCRIPTION:There are multiple time slots available during the Enchanted Forest – this is for the 6:45pm tour\, on Saturday\, October 26\, 2024. Ticket sales end at 1pm on Saturday\, October 26\, or until sold out. No walk-ins\, please. For full event details and links to all of the time slots\, see the Enchanted Forest page.
URL:https://nhaudubon.org/event/birding-walk-june-17-2023/
LOCATION:Massabesic Center\, 26 Audubon Way\, Auburn\, NH\, United States
CATEGORIES:Bird Walk,Featured,Nature Walk
ATTACH;FMTTYPE=image/gif:https://nhaudubon.org/wp-content/uploads/RBWO-m5-E-Haven-CT-11-Oct-15-sm-267x300-1.gif
ORGANIZER;CN="Slater Roosa":MAILTO:sroosa@nhaudubon.org
END:VEVENT
END:VCALENDAR