BEGIN:VCALENDAR
VERSION:2.0
PRODID:-//NH Audubon - ECPv6.15.11//NONSGML v1.0//EN
CALSCALE:GREGORIAN
METHOD:PUBLISH
X-ORIGINAL-URL:https://nhaudubon.org
X-WR-CALDESC:Events for NH Audubon
REFRESH-INTERVAL;VALUE=DURATION:PT1H
X-Robots-Tag:noindex
X-PUBLISHED-TTL:PT1H
BEGIN:VTIMEZONE
TZID:America/New_York
BEGIN:DAYLIGHT
TZOFFSETFROM:-0500
TZOFFSETTO:-0400
TZNAME:EDT
DTSTART:20220313T070000
END:DAYLIGHT
BEGIN:STANDARD
TZOFFSETFROM:-0400
TZOFFSETTO:-0500
TZNAME:EST
DTSTART:20221106T060000
END:STANDARD
BEGIN:DAYLIGHT
TZOFFSETFROM:-0500
TZOFFSETTO:-0400
TZNAME:EDT
DTSTART:20230312T070000
END:DAYLIGHT
BEGIN:STANDARD
TZOFFSETFROM:-0400
TZOFFSETTO:-0500
TZNAME:EST
DTSTART:20231105T060000
END:STANDARD
BEGIN:DAYLIGHT
TZOFFSETFROM:-0500
TZOFFSETTO:-0400
TZNAME:EDT
DTSTART:20240310T070000
END:DAYLIGHT
BEGIN:STANDARD
TZOFFSETFROM:-0400
TZOFFSETTO:-0500
TZNAME:EST
DTSTART:20241103T060000
END:STANDARD
END:VTIMEZONE
BEGIN:VEVENT
DTSTART;TZID=America/New_York:20230507T130000
DTEND;TZID=America/New_York:20230507T150000
DTSTAMP:20260420T091706
CREATED:20230429T161237Z
LAST-MODIFIED:20230429T161237Z
UID:10001407-1683464400-1683471600@nhaudubon.org
SUMMARY:Raised Bed Gardens - The Why and How
DESCRIPTION:Are you interested in creating raised bed gardens but don’t know where to start? Join Sean O’Brien\, UNH Extension’s Home Horticulture Assistant Program Manager\, for a two-part workshop\, including an introduction to the benefits of raised bed gardens and an in-person\, hands-on session to build wooden raised bed gardens. You’ll go away with skills and knowledge about location\, material selection\, construction methods\, and how to grow various plants in raised beds. \nPart 1 \nThe first part of the workshop will be virtual\, and is available at no cost.  There is no registration limit for the webinar\, but you must sign up by May 1st.  Participation in the virtual introduction session is required in order to attend the second session. \nPart 2 \nThe in-person\, hands-on portion has a limited capacity of 20 participants. If you are not able to attend the required webinar live\, you must still register for Part 1 and view the recorded presentation before you arrive to the workshop. The outdoor workshop will take place outdoors\, rain or shine.  Dress for the weather\, with waterproof footwear recommended for primarily grassy\, flat but uneven terrain. \nCost:\n$10 for NH Audubon members and UNH Ext Master Gardeners\n$15 for non-members \nREGISTER HERE \nRegistration Required by May 1\, 2023 \nFor accessibility requests\, please contact Massabesic Center Director\, Kimmie Whiteman\, at kwhiteman@nhaudubon.org. \nThis program is brought to you through an ongoing partnership between New Hampshire Audubon and University of New Hampshire Extension’s Master Gardener Program. The Demonstration Gardens at NH Audubon’s Massabesic Center provide a place for sharing best practices in eco-friendly home and community gardening\, to benefit human health and well-being\, and wildlife habitat. \nPhoto Credit: Stock photo
URL:https://nhaudubon.org/event/raised-bed-gardens-may-2023/2023-05-07/
LOCATION:Massabesic Center\, 26 Audubon Way\, Auburn\, NH\, United States
CATEGORIES:Demonstration Garden,Featured,Hands-on workshop,Pollinators,Presentation/Lecture,Volunteering,Webinar,Zoom Talk
ATTACH;FMTTYPE=image/jpeg:https://nhaudubon.org/wp-content/uploads/raised-bed-4392783_960_720.jpg
ORGANIZER;CN="Kimmie Whiteman":MAILTO:kwhiteman@nhaudubon.org
END:VEVENT
END:VCALENDAR