BEGIN:VCALENDAR
VERSION:2.0
PRODID:-//NH Audubon - ECPv6.15.11//NONSGML v1.0//EN
CALSCALE:GREGORIAN
METHOD:PUBLISH
X-ORIGINAL-URL:https://nhaudubon.org
X-WR-CALDESC:Events for NH Audubon
REFRESH-INTERVAL;VALUE=DURATION:PT1H
X-Robots-Tag:noindex
X-PUBLISHED-TTL:PT1H
BEGIN:VTIMEZONE
TZID:America/New_York
BEGIN:DAYLIGHT
TZOFFSETFROM:-0500
TZOFFSETTO:-0400
TZNAME:EDT
DTSTART:20210314T070000
END:DAYLIGHT
BEGIN:STANDARD
TZOFFSETFROM:-0400
TZOFFSETTO:-0500
TZNAME:EST
DTSTART:20211107T060000
END:STANDARD
BEGIN:DAYLIGHT
TZOFFSETFROM:-0500
TZOFFSETTO:-0400
TZNAME:EDT
DTSTART:20220313T070000
END:DAYLIGHT
BEGIN:STANDARD
TZOFFSETFROM:-0400
TZOFFSETTO:-0500
TZNAME:EST
DTSTART:20221106T060000
END:STANDARD
BEGIN:DAYLIGHT
TZOFFSETFROM:-0500
TZOFFSETTO:-0400
TZNAME:EDT
DTSTART:20230312T070000
END:DAYLIGHT
BEGIN:STANDARD
TZOFFSETFROM:-0400
TZOFFSETTO:-0500
TZNAME:EST
DTSTART:20231105T060000
END:STANDARD
END:VTIMEZONE
BEGIN:VEVENT
DTSTART;TZID=America/New_York:20220908T150000
DTEND;TZID=America/New_York:20220908T190000
DTSTAMP:20260421T113042
CREATED:20220808T181252Z
LAST-MODIFIED:20230118T200304Z
UID:10001115-1662649200-1662663600@nhaudubon.org
SUMMARY:Native Plant Sale
DESCRIPTION:Join us for the Massabesic Center Native Plant Sale! \nBagley Pond Perennials will be at the center with a wide selection of native plants and shrubs for purchase. Bagley Pond is a native perennial farm that follows organic practices. Their goal is to provide home gardeners with pollinator safe\, native plants and shrubs to support our native pollinators and wildlife. Bagley Ponds will be graciously donating a portion of sales to NH Audubon\, to support our mission of protecting NH’s environment for wildlife and for people. \nNH Audubon Staff and Garden Volunteers\, including UNH-Extension Master Gardeners\, will be available to answer your questions about gardening\, pollinators\, native wildlife\, and native plants. \nWhile browsing\, be sure to tour our Massabesic Center gardens. \nPhoto: Cardinal Flower (Diane DeLuca)
URL:https://nhaudubon.org/event/plant-sale-massabesic-9-8-22/
LOCATION:Massabesic Center\, 26 Audubon Way\, Auburn\, NH\, United States
CATEGORIES:Demonstration Garden,Featured,Pollinators,Wildlife Sanctuary Event
ATTACH;FMTTYPE=image/jpeg:https://nhaudubon.org/wp-content/uploads/Cardinal-Flower-DDLuca-sm-225x300-1.jpg
ORGANIZER;CN="Kimmie Whiteman":MAILTO:kwhiteman@nhaudubon.org
END:VEVENT
END:VCALENDAR