BEGIN:VCALENDAR
VERSION:2.0
PRODID:-//NH Audubon - ECPv6.15.11//NONSGML v1.0//EN
CALSCALE:GREGORIAN
METHOD:PUBLISH
X-WR-CALNAME:NH Audubon
X-ORIGINAL-URL:https://nhaudubon.org
X-WR-CALDESC:Events for NH Audubon
REFRESH-INTERVAL;VALUE=DURATION:PT1H
X-Robots-Tag:noindex
X-PUBLISHED-TTL:PT1H
BEGIN:VTIMEZONE
TZID:America/New_York
BEGIN:DAYLIGHT
TZOFFSETFROM:-0500
TZOFFSETTO:-0400
TZNAME:EDT
DTSTART:20210314T070000
END:DAYLIGHT
BEGIN:STANDARD
TZOFFSETFROM:-0400
TZOFFSETTO:-0500
TZNAME:EST
DTSTART:20211107T060000
END:STANDARD
BEGIN:DAYLIGHT
TZOFFSETFROM:-0500
TZOFFSETTO:-0400
TZNAME:EDT
DTSTART:20220313T070000
END:DAYLIGHT
BEGIN:STANDARD
TZOFFSETFROM:-0400
TZOFFSETTO:-0500
TZNAME:EST
DTSTART:20221106T060000
END:STANDARD
BEGIN:DAYLIGHT
TZOFFSETFROM:-0500
TZOFFSETTO:-0400
TZNAME:EDT
DTSTART:20230312T070000
END:DAYLIGHT
BEGIN:STANDARD
TZOFFSETFROM:-0400
TZOFFSETTO:-0500
TZNAME:EST
DTSTART:20231105T060000
END:STANDARD
END:VTIMEZONE
BEGIN:VEVENT
DTSTART;TZID=America/New_York:20220802T170000
DTEND;TZID=America/New_York:20220802T183000
DTSTAMP:20260421T144244
CREATED:20220719T181632Z
LAST-MODIFIED:20230118T200334Z
UID:10001109-1659459600-1659465000@nhaudubon.org
SUMMARY:Garden Insects: Friends and Foes
DESCRIPTION:Insects in the garden can be a problem – eating leaves\, piercing fruits\, or chewing roots. But some insects provide important benefits such as pollination and predation. We will search for insects\, explore identification techniques and resources\, learn how to discern friend from foe\, and gain skills to become an insect detective. A few tips on how to manage insect pests will also be discussed. This workshop will include some prework in preparation for the outdoor\, hands-on session.  Stay for an optional extension of the class until 7:00 p.m.\, which will include additional capture and ID techniques. \nLocation: Demonstration and Teaching Garden at NH Audubon’s Massabesic Center \n26 Audubon Way\, Auburn\, NH \nFee: $15/person; $10/NH Audubon member or UNH Extension volunteer \nREGISTER HERE \nAdvance registration required. Registration deadline extended to: July 29\, 2022. \nIf the event is sold out\, please email Jacob.Winn@unh.edu to be added to the waitlist. \nTo request a reasonable accommodation\, please contact: Ruth Smith at ruth.smith@unh.edu or 603-355-2718. \nThe Demonstration and Teaching Garden is a partnership program between UNH Extension and NH Audubon\, which provides the public with research-based\, sustainable gardening information and skills that benefit our environment for wildlife and for people.
URL:https://nhaudubon.org/event/massabesic-insects-aug2-2022/
LOCATION:Massabesic Center\, 26 Audubon Way\, Auburn\, NH\, United States
CATEGORIES:Demonstration Garden,Hands-on workshop,Presentation/Lecture
ATTACH;FMTTYPE=image/jpeg:https://nhaudubon.org/wp-content/uploads/tomato-hornworm-cropped.jpg
ORGANIZER;CN="Kimmie Whiteman":MAILTO:kwhiteman@nhaudubon.org
END:VEVENT
END:VCALENDAR