BEGIN:VCALENDAR
VERSION:2.0
PRODID:-//NH Audubon - ECPv6.15.11//NONSGML v1.0//EN
CALSCALE:GREGORIAN
METHOD:PUBLISH
X-WR-CALNAME:NH Audubon
X-ORIGINAL-URL:https://nhaudubon.org
X-WR-CALDESC:Events for NH Audubon
REFRESH-INTERVAL;VALUE=DURATION:PT1H
X-Robots-Tag:noindex
X-PUBLISHED-TTL:PT1H
BEGIN:VTIMEZONE
TZID:America/New_York
BEGIN:DAYLIGHT
TZOFFSETFROM:-0500
TZOFFSETTO:-0400
TZNAME:EDT
DTSTART:20210314T070000
END:DAYLIGHT
BEGIN:STANDARD
TZOFFSETFROM:-0400
TZOFFSETTO:-0500
TZNAME:EST
DTSTART:20211107T060000
END:STANDARD
BEGIN:DAYLIGHT
TZOFFSETFROM:-0500
TZOFFSETTO:-0400
TZNAME:EDT
DTSTART:20220313T070000
END:DAYLIGHT
BEGIN:STANDARD
TZOFFSETFROM:-0400
TZOFFSETTO:-0500
TZNAME:EST
DTSTART:20221106T060000
END:STANDARD
BEGIN:DAYLIGHT
TZOFFSETFROM:-0500
TZOFFSETTO:-0400
TZNAME:EDT
DTSTART:20230312T070000
END:DAYLIGHT
BEGIN:STANDARD
TZOFFSETFROM:-0400
TZOFFSETTO:-0500
TZNAME:EST
DTSTART:20231105T060000
END:STANDARD
END:VTIMEZONE
BEGIN:VEVENT
DTSTART;TZID=America/New_York:20220523T160000
DTEND;TZID=America/New_York:20220523T180000
DTSTAMP:20260421T212937
CREATED:20220413T185810Z
LAST-MODIFIED:20230118T201030Z
UID:10000855-1653321600-1653328800@nhaudubon.org
SUMMARY:Watering Your Garden with Drip Irrigation
DESCRIPTION:Learn to conserve water\, uniformly irrigate\, reduce weed and disease pressure\, and save time. \nJoin us for a workshop on how to install a drip irrigation system for a vegetable or annual flower garden. Find out how to design and construct an irrigation system\, what materials are needed\, best practices for water management\, maintaining and troubleshooting a system\, and how to take advantage of drip irrigation to grow healthy and productive plants. This workshop will include hands-on demonstration of setting up a drip irrigation system. Open to the gardening public. \nInstructor- Pamela Hargest\, Horticulture Professional for UMaine Cooperative Extension in Cumberland County \nSpace is limited to 30 participants \nFee: $15/person; $10/NHA member or Extension volunteer \nRegister here: https://learnforlife.unh.edu/portal/events/reg/participantTypeSelection.do?method=load&entityId=223565407 \n 
URL:https://nhaudubon.org/event/watering-your-garden-with-drip-irrigation/
LOCATION:Massabesic Center\, 26 Audubon Way\, Auburn\, NH\, United States
CATEGORIES:Demonstration Garden,Hands-on workshop
ATTACH;FMTTYPE=image/png:https://nhaudubon.org/wp-content/uploads/irrigation.png
ORGANIZER;CN="Kimmie Whiteman":MAILTO:kwhiteman@nhaudubon.org
END:VEVENT
END:VCALENDAR