BEGIN:VCALENDAR
VERSION:2.0
PRODID:-//NH Audubon - ECPv6.15.11//NONSGML v1.0//EN
CALSCALE:GREGORIAN
METHOD:PUBLISH
X-ORIGINAL-URL:https://nhaudubon.org
X-WR-CALDESC:Events for NH Audubon
REFRESH-INTERVAL;VALUE=DURATION:PT1H
X-Robots-Tag:noindex
X-PUBLISHED-TTL:PT1H
BEGIN:VTIMEZONE
TZID:America/New_York
BEGIN:DAYLIGHT
TZOFFSETFROM:-0500
TZOFFSETTO:-0400
TZNAME:EDT
DTSTART:20210314T070000
END:DAYLIGHT
BEGIN:STANDARD
TZOFFSETFROM:-0400
TZOFFSETTO:-0500
TZNAME:EST
DTSTART:20211107T060000
END:STANDARD
BEGIN:DAYLIGHT
TZOFFSETFROM:-0500
TZOFFSETTO:-0400
TZNAME:EDT
DTSTART:20220313T070000
END:DAYLIGHT
BEGIN:STANDARD
TZOFFSETFROM:-0400
TZOFFSETTO:-0500
TZNAME:EST
DTSTART:20221106T060000
END:STANDARD
BEGIN:DAYLIGHT
TZOFFSETFROM:-0500
TZOFFSETTO:-0400
TZNAME:EDT
DTSTART:20230312T070000
END:DAYLIGHT
BEGIN:STANDARD
TZOFFSETFROM:-0400
TZOFFSETTO:-0500
TZNAME:EST
DTSTART:20231105T060000
END:STANDARD
END:VTIMEZONE
BEGIN:VEVENT
DTSTART;TZID=America/New_York:20220216T183000
DTEND;TZID=America/New_York:20220216T200000
DTSTAMP:20260422T024215
CREATED:20220124T183931Z
LAST-MODIFIED:20230118T201225Z
UID:10000949-1645036200-1645041600@nhaudubon.org
SUMMARY:Seed Starting for Gardeners
DESCRIPTION:This workshop is the first in a series of participatory workshops that will be held at least monthly at the Massabesic Audubon Center (MAC) in Auburn. The Demonstration/Teaching gardens at MAC are managed in partnership with the UNH Extension Master Gardener Program. All workshops are open to the public as a way to share best practices in gardening. See below for future workshop information. \nSeed Starting for Gardeners – February 16\, 6:30-8:00 pm \nAt the Massabesic Audubon Center in Auburn or via Zoom (in-person participation limited to 20 people) \nDuring this workshop attendees will learn the benefits and best practices for starting plants from seeds and cuttings. Attendees will learn about how to get started\, successful germination requirements\, different growing methods and mediums\, light and temperature requirements\, overcoming common problems\, hardening off seedlings for transplanting into the garden\, and best practices to ensure seedlings successfully grow into healthy mature plants. \nThis workshop is designed for beginning gardeners or gardeners who are new to raising plants from seeds. Pre-registration is required. Sign up for either in-person or online at https://signup.com/go/MPbROUg \nFee: This workshop is free\, but donations are welcome to support the new Demonstration Garden Partnership between UNH Extension and NH Audubon. Details will be provided to participants. \nPresenter: Sarah Marcoux has been a UNH Extension Master Gardener since 2016. She is an active member of the Master Gardener Speakers Bureau\, sharing her knowledge with other gardeners across the state. Her special interests are in herb gardens\, working with children and educational gardens. She also has experience with vegetables and pollinator gardens. \n***Additional workshops in this series. Watch for more details***
URL:https://nhaudubon.org/event/seed-starting-for-gardeners/
LOCATION:Massabesic Center\, 26 Audubon Way\, Auburn\, NH\, United States
CATEGORIES:Demonstration Garden,Featured,Hands-on workshop,Zoom Talk
ATTACH;FMTTYPE=image/jpeg:https://nhaudubon.org/wp-content/uploads/seed-starting-istockimage.jpg
END:VEVENT
END:VCALENDAR