BEGIN:VCALENDAR
VERSION:2.0
PRODID:-//NH Audubon - ECPv6.15.11//NONSGML v1.0//EN
CALSCALE:GREGORIAN
METHOD:PUBLISH
X-ORIGINAL-URL:https://nhaudubon.org
X-WR-CALDESC:Events for NH Audubon
REFRESH-INTERVAL;VALUE=DURATION:PT1H
X-Robots-Tag:noindex
X-PUBLISHED-TTL:PT1H
BEGIN:VTIMEZONE
TZID:America/New_York
BEGIN:DAYLIGHT
TZOFFSETFROM:-0500
TZOFFSETTO:-0400
TZNAME:EDT
DTSTART:20230312T070000
END:DAYLIGHT
BEGIN:STANDARD
TZOFFSETFROM:-0400
TZOFFSETTO:-0500
TZNAME:EST
DTSTART:20231105T060000
END:STANDARD
BEGIN:DAYLIGHT
TZOFFSETFROM:-0500
TZOFFSETTO:-0400
TZNAME:EDT
DTSTART:20240310T070000
END:DAYLIGHT
BEGIN:STANDARD
TZOFFSETFROM:-0400
TZOFFSETTO:-0500
TZNAME:EST
DTSTART:20241103T060000
END:STANDARD
BEGIN:DAYLIGHT
TZOFFSETFROM:-0500
TZOFFSETTO:-0400
TZNAME:EDT
DTSTART:20250309T070000
END:DAYLIGHT
BEGIN:STANDARD
TZOFFSETFROM:-0400
TZOFFSETTO:-0500
TZNAME:EST
DTSTART:20251102T060000
END:STANDARD
END:VTIMEZONE
BEGIN:VEVENT
DTSTART;TZID=America/New_York:20240217T093000
DTEND;TZID=America/New_York:20240217T110000
DTSTAMP:20260419T124135
CREATED:20240104T225055Z
LAST-MODIFIED:20240104T225055Z
UID:10002376-1708162200-1708167600@nhaudubon.org
SUMMARY:Garden Strong – How to Stay Healthy as a Gardener
DESCRIPTION:Are you a gardener who spends so much time digging\, weeding\, watering\, and hauling mulch that you are sore and tired at the end of the day? Learn some simple and important techniques for reducing stress on your body so you can garden without pain or injury. You’ll also be introduced to some adaptive tools that will make gardening easier for anyone. Gardening strong and smart is the key to being able to continue to grow plants for many years. \nPresenter: \nPatti Buck\, retired Physical Therapist and UNH Extension Master Gardener and Doris Buco\, certified Therapeutic Horticulturalist and UNH Extension Master Gardener \nCost:  \n$10 for NH Audubon members and UNH Extension Master Gardeners\n$15 for non-members (Join or renew your membership today! Not sure of your membership status? Email our member services department or call (603) 224-9909 x310.) \nRegister here. Registration required by February 15\, 2023. \nFor accessibility requests\, please contact Massabesic Center Director\, Kimmie Whiteman via email. \nThis program is brought to you through an ongoing partnership between New Hampshire Audubon and University of New Hampshire Extension’s Master Gardener Program. The Demonstration Gardens at NH Audubon’s Massabesic Center provide a place for sharing best practices in eco-friendly home and community gardening\, to benefit human health and well-being\, and wildlife habitat.
URL:https://nhaudubon.org/event/garden-strong-feb-2024/
LOCATION:Massabesic Center\, 26 Audubon Way\, Auburn\, NH\, United States
CATEGORIES:Demonstration Garden,Featured,Presentation/Lecture
ATTACH;FMTTYPE=image/jpeg:https://nhaudubon.org/wp-content/uploads/unh-garden-strong.jpg
ORGANIZER;CN="Kimmie Whiteman":MAILTO:kwhiteman@nhaudubon.org
END:VEVENT
END:VCALENDAR