BEGIN:VCALENDAR
VERSION:2.0
PRODID:-//NH Audubon - ECPv6.15.11//NONSGML v1.0//EN
CALSCALE:GREGORIAN
METHOD:PUBLISH
X-WR-CALNAME:NH Audubon
X-ORIGINAL-URL:https://nhaudubon.org
X-WR-CALDESC:Events for NH Audubon
REFRESH-INTERVAL;VALUE=DURATION:PT1H
X-Robots-Tag:noindex
X-PUBLISHED-TTL:PT1H
BEGIN:VTIMEZONE
TZID:America/New_York
BEGIN:DAYLIGHT
TZOFFSETFROM:-0500
TZOFFSETTO:-0400
TZNAME:EDT
DTSTART:20210314T070000
END:DAYLIGHT
BEGIN:STANDARD
TZOFFSETFROM:-0400
TZOFFSETTO:-0500
TZNAME:EST
DTSTART:20211107T060000
END:STANDARD
BEGIN:DAYLIGHT
TZOFFSETFROM:-0500
TZOFFSETTO:-0400
TZNAME:EDT
DTSTART:20220313T070000
END:DAYLIGHT
BEGIN:STANDARD
TZOFFSETFROM:-0400
TZOFFSETTO:-0500
TZNAME:EST
DTSTART:20221106T060000
END:STANDARD
BEGIN:DAYLIGHT
TZOFFSETFROM:-0500
TZOFFSETTO:-0400
TZNAME:EDT
DTSTART:20230312T070000
END:DAYLIGHT
BEGIN:STANDARD
TZOFFSETFROM:-0400
TZOFFSETTO:-0500
TZNAME:EST
DTSTART:20231105T060000
END:STANDARD
END:VTIMEZONE
BEGIN:VEVENT
DTSTART;TZID=America/New_York:20220628T163000
DTEND;TZID=America/New_York:20220628T180000
DTSTAMP:20260421T174950
CREATED:20220623T160137Z
LAST-MODIFIED:20230118T200453Z
UID:10001068-1656433800-1656439200@nhaudubon.org
SUMMARY:Weed Management in the Vegetable Garden - cancelled
DESCRIPTION:This event has been cancelled. \nPurslane and crabgrass and chickweed\, Oh my! Weeds can be a real problem in gardens\, robbing preferred plants of nutrients\, space\, water and sunlight. Managing weeds can be a backbreaking and time-consuming chore. In this workshop you’ll learn techniques that reduce the need to weed so you can spend more time tending and enjoying the plants that you WANT to grow.  You’ll also learn about and be able to try different weeding tools that make the job easier and more effective. \nJoin UNH Extension Master Gardener Will Lowenthal and Master Gardener Program Manager Ruth Smith at the next in-person workshop at the UNH Extension Demonstration Garden located at NH Audubon’s Massabesic Center at 26 Audubon Way in Auburn. \nSpace is limited to 30 participants\, pre-registration is required \nFee: $15/person; $10/NH Audubon member or Extension volunteer \nClick this link to register \nRegistration deadline: Monday June 27 at 9:00 a.m. \nTo request a reasonable accommodation\, please email ruth.smith@unh.edu or call 603-355-2718 \nThis workshop is offered through a partnership with UNH Extension and NH Audubon.
URL:https://nhaudubon.org/event/weed-management-in-the-vegetable-garden/
LOCATION:Massabesic Center\, 26 Audubon Way\, Auburn\, NH\, United States
CATEGORIES:Demonstration Garden,Hands-on workshop
ATTACH;FMTTYPE=image/jpeg:https://nhaudubon.org/wp-content/uploads/weeds-image-1.jpg
ORGANIZER;CN="Kimmie Whiteman":MAILTO:kwhiteman@nhaudubon.org
END:VEVENT
END:VCALENDAR