BEGIN:VCALENDAR
VERSION:2.0
PRODID:-//NH Audubon - ECPv6.15.11//NONSGML v1.0//EN
CALSCALE:GREGORIAN
METHOD:PUBLISH
X-WR-CALNAME:NH Audubon
X-ORIGINAL-URL:https://nhaudubon.org
X-WR-CALDESC:Events for NH Audubon
REFRESH-INTERVAL;VALUE=DURATION:PT1H
X-Robots-Tag:noindex
X-PUBLISHED-TTL:PT1H
BEGIN:VTIMEZONE
TZID:America/New_York
BEGIN:DAYLIGHT
TZOFFSETFROM:-0500
TZOFFSETTO:-0400
TZNAME:EDT
DTSTART:20250309T070000
END:DAYLIGHT
BEGIN:STANDARD
TZOFFSETFROM:-0400
TZOFFSETTO:-0500
TZNAME:EST
DTSTART:20251102T060000
END:STANDARD
BEGIN:DAYLIGHT
TZOFFSETFROM:-0500
TZOFFSETTO:-0400
TZNAME:EDT
DTSTART:20260308T070000
END:DAYLIGHT
BEGIN:STANDARD
TZOFFSETFROM:-0400
TZOFFSETTO:-0500
TZNAME:EST
DTSTART:20261101T060000
END:STANDARD
BEGIN:DAYLIGHT
TZOFFSETFROM:-0500
TZOFFSETTO:-0400
TZNAME:EDT
DTSTART:20270314T070000
END:DAYLIGHT
BEGIN:STANDARD
TZOFFSETFROM:-0400
TZOFFSETTO:-0500
TZNAME:EST
DTSTART:20271107T060000
END:STANDARD
END:VTIMEZONE
BEGIN:VEVENT
DTSTART;TZID=America/New_York:20260420T080000
DTEND;TZID=America/New_York:20260420T100000
DTSTAMP:20260420T013605
CREATED:20260310T172842Z
LAST-MODIFIED:20260310T172842Z
UID:10003751-1776672000-1776679200@nhaudubon.org
SUMMARY:Birding Outing with the Society for the Protection of New Hampshire’s Forests
DESCRIPTION:Back by popular demand\, join NH Audubon and The Society for the Protection of New Hampshire’s Forests for a birding outing at the Merrimack River Outdoor Education & Conservation Area (a.k.a. “The Floodplain”) in Concord! Emily Peters\, NH Audubon’s School Programs Coordinator\, will talk about spotting and identifying birds in a variety of NH forest habitats\, while Matt Scaccia\, the Forest Society’s Recreation & Community Relations Manager\, will talk about the unique land features of The Floodplain. Birds spotted in this area in mid-April include Hooded Mergansers\, Great Blue Herons\, and a variety of woodpeckers. \nWe will meet in the parking lot of The Floodplain to begin the walk. This location is just down the road from the Forest Society’s headquarters on Portsmouth Street in Concord\, and can be found on Google Maps by searching “Les Clark Nature Trailhead”. \nThis is a free event with binocular rentals available. Please dress for the weather with sturdy shoes. Expect to walk between 1-2 miles over mostly flat\, but uneven trails through grassy and wooded terrain. Trails may be soggy or muddy depending on weather conditions. Dogs are not allowed on this walk. Please contact Director of Education Lauren Betz with any questions. \nBy attending this event\, you and anyone you register on behalf of agree to NH Audubon’s Outdoor Education Program Liability Release & Agreement Waiver.
URL:https://nhaudubon.org/event/birding-outing-with-forest-society-apr-2026/
LOCATION:Merrimack River Outdoor Education & Conservation Area\, 2-82 Portsmouth Street\, Concord\, NH\, 03103\, United States
CATEGORIES:Bird Walk
ATTACH;FMTTYPE=image/jpeg:https://nhaudubon.org/wp-content/uploads/Birding-Outing-4.jpg
ORGANIZER;CN="Lauren Betz":MAILTO:lbetz@nhaudubon.org
END:VEVENT
END:VCALENDAR