BEGIN:VCALENDAR
VERSION:2.0
PRODID:-//NH Audubon - ECPv6.15.11//NONSGML v1.0//EN
CALSCALE:GREGORIAN
METHOD:PUBLISH
X-WR-CALNAME:NH Audubon
X-ORIGINAL-URL:https://nhaudubon.org
X-WR-CALDESC:Events for NH Audubon
REFRESH-INTERVAL;VALUE=DURATION:PT1H
X-Robots-Tag:noindex
X-PUBLISHED-TTL:PT1H
BEGIN:VTIMEZONE
TZID:America/New_York
BEGIN:DAYLIGHT
TZOFFSETFROM:-0500
TZOFFSETTO:-0400
TZNAME:EDT
DTSTART:20240310T070000
END:DAYLIGHT
BEGIN:STANDARD
TZOFFSETFROM:-0400
TZOFFSETTO:-0500
TZNAME:EST
DTSTART:20241103T060000
END:STANDARD
BEGIN:DAYLIGHT
TZOFFSETFROM:-0500
TZOFFSETTO:-0400
TZNAME:EDT
DTSTART:20250309T070000
END:DAYLIGHT
BEGIN:STANDARD
TZOFFSETFROM:-0400
TZOFFSETTO:-0500
TZNAME:EST
DTSTART:20251102T060000
END:STANDARD
BEGIN:DAYLIGHT
TZOFFSETFROM:-0500
TZOFFSETTO:-0400
TZNAME:EDT
DTSTART:20260308T070000
END:DAYLIGHT
BEGIN:STANDARD
TZOFFSETFROM:-0400
TZOFFSETTO:-0500
TZNAME:EST
DTSTART:20261101T060000
END:STANDARD
END:VTIMEZONE
BEGIN:VEVENT
DTSTART;TZID=America/New_York:20250531T090000
DTEND;TZID=America/New_York:20250531T110000
DTSTAMP:20260424T113352
CREATED:20250408T160125Z
LAST-MODIFIED:20250529T143301Z
UID:10003173-1748682000-1748689200@nhaudubon.org
SUMMARY:Black Birders Week 2025 Tour with Black Heritage Trail of New Hampshire
DESCRIPTION:May 31\, 2025 –In honor of Black Birders Week\, NH Audubon and the Black Heritage Trail of New Hampshire are partnering for a guided tour in Portsmouth. We will begin at the BHTNH office\, meander through gardens\, and end at the water. Learn about the rich and often forgotten African-American history of New Hampshire while keeping an eye out for birds and other local wildlife! Expect to see swifts darting between buildings\, sparrows collecting nesting materials\, and multiple species of gull. Please arrive 15 minutes prior to start of the trail tour. Free parking is available at the Parrott Ave. Parking Lot and along streets nearby. All ages are welcome. Space is limited and registration is required. \nAll proceeds from ticket sales will benefit the Black Heritage Trail of New Hampshire. \nPlease review NH Audubon’s Outdoor Education Program Liability Release & Agreement Waiver before registering.
URL:https://nhaudubon.org/event/black-birders-week-2025-tour/
LOCATION:Black Heritage Trail of NH\, 222 Court St.\, Portsmouth\, NH\, 03801\, United States
ATTACH;FMTTYPE=image/jpeg:https://nhaudubon.org/wp-content/uploads/BHT-e1715023191556.jpg
ORGANIZER;CN="Anita Fernandez":MAILTO:afernandez@nhaudubon.org
END:VEVENT
BEGIN:VEVENT
DTSTART;TZID=America/New_York:20250531T100000
DTEND;TZID=America/New_York:20250531T120000
DTSTAMP:20260424T113352
CREATED:20250527T205918Z
LAST-MODIFIED:20250530T172324Z
UID:10003222-1748685600-1748692800@nhaudubon.org
SUMMARY:Guided Hike with the Newfound Audubon Center: Birds of Paradise Point
DESCRIPTION:Open new realms each week as our Lead Naturalist helps participants focus their senses on different fascinating elements of their surroundings such as birds\, trees\, ferns\, wildflowers\, and more. For this guided hike\, learn about the beautiful birds that call Paradise Point home. Please meet at the Paradise Point Nature Center. Limited pairs of binoculars are available for use. Participants are encouraged to bring their own binoculars and/or field guides for further exploration. \nPlease review NH Audubon’s Outdoor Education Program Liability Release & Agreement Waiver before registering.
URL:https://nhaudubon.org/event/guided-hike-2025-1/
LOCATION:Paradise Point Nature Center\, 290 Northshore Road\, Hebron\, 03241\, United States
ATTACH;FMTTYPE=image/jpeg:https://nhaudubon.org/wp-content/uploads/newfound-events-2025.jpg
ORGANIZER;CN="Devin Guilfoyle":MAILTO:dguilfoyle@nhaudubon.org
END:VEVENT
BEGIN:VEVENT
DTSTART;TZID=America/New_York:20250531T110000
DTEND;TZID=America/New_York:20250531T170000
DTSTAMP:20260424T113352
CREATED:20250303T192307Z
LAST-MODIFIED:20250303T192307Z
UID:10003112-1748689200-1748710800@nhaudubon.org
SUMMARY:McLane Center Pollinator Garden in Pictures Exhibit
DESCRIPTION:Visit the McLane Center May 7-June 27 to see Kate Osgood’s McLane Center Pollinator Garden in Pictures Exhibit. \n“The pollinator garden at McLane Center is an ever-evolving mosaic of flora and fauna. As a volunteer\, working in the gardens has afforded me the wonderful experience of getting to know the plants and the critters that coexist. My photography attempts to highlight these interactions and to share with human visitors the beauty and the importance of the gardens.” \n  \nBio: Kate Osgood is a landscape architect and nature photographer. Originally from Exeter\, she lived and worked out west for many years before returning to the area. Her work and photography is rooted in natural systems and a deep love of nature.  \n“The protection and enhancement of natural systems and wildlife ecology is the driving force behind my designs and photography. I believe that the more people experience the beauty of nature\, the more likely they are to become invested in its protection and thus foster stewardship for future generations.” \n  \nArt exhibit viewing access may be restricted during private event rentals. Calling ahead to confirm is recommended.
URL:https://nhaudubon.org/event/mclane-center-pollinator-garden-in-pictures-exhibit-may-31/
LOCATION:McLane Center\, 84 Silk Farm Road\, Concord\, NH\, 03301\, United States
CATEGORIES:Art Exhibit
ORGANIZER;CN="Lauren Kraemer":MAILTO:lkraemer@nhaudubon.org
END:VEVENT
BEGIN:VEVENT
DTSTART;TZID=America/New_York:20250531T110000
DTEND;TZID=America/New_York:20250531T170000
DTSTAMP:20260424T113352
CREATED:20250318T143459Z
LAST-MODIFIED:20250318T143459Z
UID:10003149-1748689200-1748710800@nhaudubon.org
SUMMARY:Creative Nature Ventures Exhibit
DESCRIPTION:This exhibit highlights the nature-inspired work of a group of local artists\, led by Bill Turner\, that meets once a week at Creative Ventures\, located in Milford\, NH. During these sessions\, typically 8-10 artists bring their work (either an in-progress or a completed work). Each piece is displayed before the group and generates a friendly discussion centered on suggestions that help lead to a more exciting work of art. The main focus of the work is realism\, however\, abstract artists also benefit from the feedback process. Recently\, there has been a nature focus within the group\, including many paintings of bird species\, in particular. Collaborating with NH Audubon to display these pieces is a natural connection. We look forward to generating interest and excitement for our works with other art-\, bird-\, and nature- enthusiasts. \n \nThe exhibit will be on display in the Massabesic Center’s large function room during regular operating hours. Viewing access may be restricted during private event rentals and education programs. Calling ahead to confirm is recommended.
URL:https://nhaudubon.org/event/creative-nature-ventures-exhibit-may-31/
LOCATION:Massabesic Center\, 26 Audubon Way\, Auburn\, NH\, United States
CATEGORIES:Art Exhibit
ORGANIZER;CN="Kimmie Whiteman":MAILTO:kwhiteman@nhaudubon.org
END:VEVENT
END:VCALENDAR