BEGIN:VCALENDAR
VERSION:2.0
PRODID:-//NH Audubon - ECPv6.15.11//NONSGML v1.0//EN
CALSCALE:GREGORIAN
METHOD:PUBLISH
X-WR-CALNAME:NH Audubon
X-ORIGINAL-URL:https://nhaudubon.org
X-WR-CALDESC:Events for NH Audubon
REFRESH-INTERVAL;VALUE=DURATION:PT1H
X-Robots-Tag:noindex
X-PUBLISHED-TTL:PT1H
BEGIN:VTIMEZONE
TZID:America/New_York
BEGIN:DAYLIGHT
TZOFFSETFROM:-0500
TZOFFSETTO:-0400
TZNAME:EDT
DTSTART:20240310T070000
END:DAYLIGHT
BEGIN:STANDARD
TZOFFSETFROM:-0400
TZOFFSETTO:-0500
TZNAME:EST
DTSTART:20241103T060000
END:STANDARD
BEGIN:DAYLIGHT
TZOFFSETFROM:-0500
TZOFFSETTO:-0400
TZNAME:EDT
DTSTART:20250309T070000
END:DAYLIGHT
BEGIN:STANDARD
TZOFFSETFROM:-0400
TZOFFSETTO:-0500
TZNAME:EST
DTSTART:20251102T060000
END:STANDARD
BEGIN:DAYLIGHT
TZOFFSETFROM:-0500
TZOFFSETTO:-0400
TZNAME:EDT
DTSTART:20260308T070000
END:DAYLIGHT
BEGIN:STANDARD
TZOFFSETFROM:-0400
TZOFFSETTO:-0500
TZNAME:EST
DTSTART:20261101T060000
END:STANDARD
END:VTIMEZONE
BEGIN:VEVENT
DTSTART;TZID=America/New_York:20250521T110000
DTEND;TZID=America/New_York:20250521T170000
DTSTAMP:20260424T113716
CREATED:20250303T191942Z
LAST-MODIFIED:20250303T191942Z
UID:10003105-1747825200-1747846800@nhaudubon.org
SUMMARY:McLane Center Pollinator Garden in Pictures Exhibit
DESCRIPTION:Visit the McLane Center May 7-June 27 to see Kate Osgood’s McLane Center Pollinator Garden in Pictures Exhibit. \n“The pollinator garden at McLane Center is an ever-evolving mosaic of flora and fauna. As a volunteer\, working in the gardens has afforded me the wonderful experience of getting to know the plants and the critters that coexist. My photography attempts to highlight these interactions and to share with human visitors the beauty and the importance of the gardens.” \n  \nBio: Kate Osgood is a landscape architect and nature photographer. Originally from Exeter\, she lived and worked out west for many years before returning to the area. Her work and photography is rooted in natural systems and a deep love of nature.  \n“The protection and enhancement of natural systems and wildlife ecology is the driving force behind my designs and photography. I believe that the more people experience the beauty of nature\, the more likely they are to become invested in its protection and thus foster stewardship for future generations.” \n  \nArt exhibit viewing access may be restricted during private event rentals. Calling ahead to confirm is recommended.
URL:https://nhaudubon.org/event/mclane-center-pollinator-garden-in-pictures-exhibit-may-21/
LOCATION:McLane Center\, 84 Silk Farm Road\, Concord\, NH\, 03301\, United States
CATEGORIES:Art Exhibit
ORGANIZER;CN="Lauren Kraemer":MAILTO:lkraemer@nhaudubon.org
END:VEVENT
BEGIN:VEVENT
DTSTART;TZID=America/New_York:20250521T110000
DTEND;TZID=America/New_York:20250521T170000
DTSTAMP:20260424T113716
CREATED:20250318T143231Z
LAST-MODIFIED:20250318T143231Z
UID:10003142-1747825200-1747846800@nhaudubon.org
SUMMARY:Creative Nature Ventures Exhibit
DESCRIPTION:This exhibit highlights the nature-inspired work of a group of local artists\, led by Bill Turner\, that meets once a week at Creative Ventures\, located in Milford\, NH. During these sessions\, typically 8-10 artists bring their work (either an in-progress or a completed work). Each piece is displayed before the group and generates a friendly discussion centered on suggestions that help lead to a more exciting work of art. The main focus of the work is realism\, however\, abstract artists also benefit from the feedback process. Recently\, there has been a nature focus within the group\, including many paintings of bird species\, in particular. Collaborating with NH Audubon to display these pieces is a natural connection. We look forward to generating interest and excitement for our works with other art-\, bird-\, and nature- enthusiasts. \n \nThe exhibit will be on display in the Massabesic Center’s large function room during regular operating hours. Viewing access may be restricted during private event rentals and education programs. Calling ahead to confirm is recommended.
URL:https://nhaudubon.org/event/creative-nature-ventures-exhibit-may-21/
LOCATION:Massabesic Center\, 26 Audubon Way\, Auburn\, NH\, United States
CATEGORIES:Art Exhibit
ORGANIZER;CN="Kimmie Whiteman":MAILTO:kwhiteman@nhaudubon.org
END:VEVENT
BEGIN:VEVENT
DTSTART;TZID=America/New_York:20250521T173000
DTEND;TZID=America/New_York:20250521T190000
DTSTAMP:20260424T113716
CREATED:20241227T174644Z
LAST-MODIFIED:20241227T174644Z
UID:10002943-1747848600-1747854000@nhaudubon.org
SUMMARY:Massabesic Gardens Tour
DESCRIPTION:Join us for an intimate guided tour of the gardens at the Massabesic Center in Auburn. We will lead you on a fun ramble of the grounds\, and dig into the history\, upkeep\, and future of each of our unique garden spaces. \nYou’ll learn about NH Audubon’s partnership with the University of New Hampshire Extension’s Master Gardener Program to create Demonstration Gardens that provide a place for sharing best practices in eco-friendly home and community gardening\, for human health and well-being and wildlife habitat. These gardens include spaces for pollinators\, birds\, butterflies\, veggies\, rainwater\, and an ornamental space that serves as the backdrop for wedding ceremonies. \nYou’ll also learn about our community partnership with the Massabesic Garden Club and their efforts to rehabilitate the space lovingly called the Barn Garden. \nLast but not least\, discover our plan for expanding the Garden for the Senses\, and take a peaceful pause in the Cathy Small Memorial Garden. \nYou’ll leave with an appreciation for the hard work that goes into our spaces by the team of over 40 volunteers who maintain our grounds. We’ll provide information for upcoming educational workshops and ways you can get involved with volunteering in our gardens. \nDress for walking in short grass on flat but uneven terrain. Bring your camera\, sunscreen\, bug spray\, and questions about creating pollinator habitat at your home. \nThis event is free to attend. Please RSVP to help us get a headcount of how many people to expect. This event will be cancelled if severe inclement weather is forecasted. \nSupport our programs and join or renew your membership today! Not sure of your membership status? Email our member services department or call (603) 224-9909 x310. \nFor mobility\, sensory\, behavioral\, or other accessibility accommodations\, please contact Massabesic Center Director\, Kimmie Whiteman. \nPhoto: Garden Room with a View by Walt Swist
URL:https://nhaudubon.org/event/massabesic-gardens-tour-may-2025/
LOCATION:Massabesic Center\, 26 Audubon Way\, Auburn\, NH\, United States
CATEGORIES:Demonstration Garden
ATTACH;FMTTYPE=image/jpeg:https://nhaudubon.org/wp-content/uploads/garden-room-with-a-view.jpg
ORGANIZER;CN="Kimmie Whiteman":MAILTO:kwhiteman@nhaudubon.org
END:VEVENT
END:VCALENDAR