BEGIN:VCALENDAR
VERSION:2.0
PRODID:-//NH Audubon - ECPv6.15.11//NONSGML v1.0//EN
CALSCALE:GREGORIAN
METHOD:PUBLISH
X-ORIGINAL-URL:https://nhaudubon.org
X-WR-CALDESC:Events for NH Audubon
REFRESH-INTERVAL;VALUE=DURATION:PT1H
X-Robots-Tag:noindex
X-PUBLISHED-TTL:PT1H
BEGIN:VTIMEZONE
TZID:America/New_York
BEGIN:DAYLIGHT
TZOFFSETFROM:-0500
TZOFFSETTO:-0400
TZNAME:EDT
DTSTART:20240310T070000
END:DAYLIGHT
BEGIN:STANDARD
TZOFFSETFROM:-0400
TZOFFSETTO:-0500
TZNAME:EST
DTSTART:20241103T060000
END:STANDARD
BEGIN:DAYLIGHT
TZOFFSETFROM:-0500
TZOFFSETTO:-0400
TZNAME:EDT
DTSTART:20250309T070000
END:DAYLIGHT
BEGIN:STANDARD
TZOFFSETFROM:-0400
TZOFFSETTO:-0500
TZNAME:EST
DTSTART:20251102T060000
END:STANDARD
BEGIN:DAYLIGHT
TZOFFSETFROM:-0500
TZOFFSETTO:-0400
TZNAME:EDT
DTSTART:20260308T070000
END:DAYLIGHT
BEGIN:STANDARD
TZOFFSETFROM:-0400
TZOFFSETTO:-0500
TZNAME:EST
DTSTART:20261101T060000
END:STANDARD
END:VTIMEZONE
BEGIN:VEVENT
DTSTART;TZID=America/New_York:20250518T070000
DTEND;TZID=America/New_York:20250518T120000
DTSTAMP:20260424T113410
CREATED:20250128T184830Z
LAST-MODIFIED:20250128T184830Z
UID:10003075-1747551600-1747569600@nhaudubon.org
SUMMARY:BBW: Strafford County Farm
DESCRIPTION:With habitat for water birds\, raptors and song birds\, this walk will include the Don Black Trail and the hedgerows around the fields of the conserved property. The walk will last as long as participants choose\, but not beyond noon. Meet at 8:00 across from the Strafford County Work Program at 266 County Farm Road; follow County Farm Road and take a left at the stop sign and then an immediate left to continue along behind the jail to the parking lot across from the entrance to the Strafford County Work Program. Contact: Dan Hubbard or 603-978-0218. \nThis field trip will be limited to 25 participants. As the trip nears\, please revisit this website to sign up. \n  \n(The NH Audubon Seacoast Chapter will have eight Beginner Bird Walks (BBW) this spring. Although these walks are geared with the beginner birder in mind\, birders of all levels of expertise are encouraged to participate and share their experiences. Children are gladly welcome with an adult. Participants are encouraged to bring binoculars\, water\, insect repellent\, and sunscreen.)
URL:https://nhaudubon.org/event/bbw-strafford-county-farm-2025/
LOCATION:NH
CATEGORIES:Chapter Field Trip
ATTACH;FMTTYPE=image/png:https://nhaudubon.org/wp-content/uploads/seacoast-chapter-logo.png
ORGANIZER;CN="Zoe Dawson":MAILTO:zdawson@nhaudubon.org
END:VEVENT
BEGIN:VEVENT
DTSTART;TZID=America/New_York:20250518T070000
DTEND;TZID=America/New_York:20250518T120000
DTSTAMP:20260424T113411
CREATED:20250403T212804Z
LAST-MODIFIED:20250403T212805Z
UID:10003172-1747551600-1747569600@nhaudubon.org
SUMMARY:Annual Surry Birds and Blooms Walk
DESCRIPTION:Join local birder Dave Hoitt and birder-wildflower enthusiast Wendy Ward on this moderate walk looking for birds and wildflowers in open field\, wetland\, and woodland habitats. Meet at the Surry Town Hall parking lot at 7:00 am. The trip should end by noon. Bring field guides\, binoculars\, drinks\, snacks\, and bug/tick repellant. Cost: free. \n\n\nFor more info contact weward0@yahoo.com or 603-352-0987 (Dave). \n\nPhoto: Clay-colored Sparrow\, by Steve Mirick.
URL:https://nhaudubon.org/event/annual-surry-birds-and-blooms-walk-2025/
LOCATION:NH
ATTACH;FMTTYPE=image/jpeg:https://nhaudubon.org/wp-content/uploads/Clay-colored-sparrow-Steve-Mirick.jpg
END:VEVENT
END:VCALENDAR