BEGIN:VCALENDAR
VERSION:2.0
PRODID:-//NH Audubon - ECPv6.15.11//NONSGML v1.0//EN
CALSCALE:GREGORIAN
METHOD:PUBLISH
X-ORIGINAL-URL:https://nhaudubon.org
X-WR-CALDESC:Events for NH Audubon
REFRESH-INTERVAL;VALUE=DURATION:PT1H
X-Robots-Tag:noindex
X-PUBLISHED-TTL:PT1H
BEGIN:VTIMEZONE
TZID:America/New_York
BEGIN:DAYLIGHT
TZOFFSETFROM:-0500
TZOFFSETTO:-0400
TZNAME:EDT
DTSTART:20240310T070000
END:DAYLIGHT
BEGIN:STANDARD
TZOFFSETFROM:-0400
TZOFFSETTO:-0500
TZNAME:EST
DTSTART:20241103T060000
END:STANDARD
BEGIN:DAYLIGHT
TZOFFSETFROM:-0500
TZOFFSETTO:-0400
TZNAME:EDT
DTSTART:20250309T070000
END:DAYLIGHT
BEGIN:STANDARD
TZOFFSETFROM:-0400
TZOFFSETTO:-0500
TZNAME:EST
DTSTART:20251102T060000
END:STANDARD
BEGIN:DAYLIGHT
TZOFFSETFROM:-0500
TZOFFSETTO:-0400
TZNAME:EDT
DTSTART:20260308T070000
END:DAYLIGHT
BEGIN:STANDARD
TZOFFSETFROM:-0400
TZOFFSETTO:-0500
TZNAME:EST
DTSTART:20261101T060000
END:STANDARD
END:VTIMEZONE
BEGIN:VEVENT
DTSTART;TZID=America/New_York:20250511T070000
DTEND;TZID=America/New_York:20250511T120000
DTSTAMP:20260424T113410
CREATED:20250128T184257Z
LAST-MODIFIED:20250128T184257Z
UID:10003072-1746946800-1746964800@nhaudubon.org
SUMMARY:BBW: Pickering Ponds
DESCRIPTION:An encore of the very popular Pickering Ponds walk on May 7th. Meet at the Pickering Ponds parking area at 7:00 AM. Contact: Dan Hubbard or 603-978-0218. \nThis field trip will be limited to 25 participants. As the trip nears\, please revisit this website to sign up. \n  \n(The NH Audubon Seacoast Chapter will have eight Beginner Bird Walks (BBW) this spring. Although these walks are geared with the beginner birder in mind\, birders of all levels of expertise are encouraged to participate and share their experiences. Children are gladly welcome with an adult. Participants are encouraged to bring binoculars\, water\, insect repellent\, and sunscreen.)
URL:https://nhaudubon.org/event/bbw-pickering-ponds-2025-2/
LOCATION:NH
CATEGORIES:Chapter Field Trip
ATTACH;FMTTYPE=image/png:https://nhaudubon.org/wp-content/uploads/seacoast-chapter-logo.png
ORGANIZER;CN="Zoe Dawson":MAILTO:zdawson@nhaudubon.org
END:VEVENT
END:VCALENDAR