BEGIN:VCALENDAR
VERSION:2.0
PRODID:-//NH Audubon - ECPv6.15.11//NONSGML v1.0//EN
CALSCALE:GREGORIAN
METHOD:PUBLISH
X-ORIGINAL-URL:https://nhaudubon.org
X-WR-CALDESC:Events for NH Audubon
REFRESH-INTERVAL;VALUE=DURATION:PT1H
X-Robots-Tag:noindex
X-PUBLISHED-TTL:PT1H
BEGIN:VTIMEZONE
TZID:America/New_York
BEGIN:DAYLIGHT
TZOFFSETFROM:-0500
TZOFFSETTO:-0400
TZNAME:EDT
DTSTART:20240310T070000
END:DAYLIGHT
BEGIN:STANDARD
TZOFFSETFROM:-0400
TZOFFSETTO:-0500
TZNAME:EST
DTSTART:20241103T060000
END:STANDARD
BEGIN:DAYLIGHT
TZOFFSETFROM:-0500
TZOFFSETTO:-0400
TZNAME:EDT
DTSTART:20250309T070000
END:DAYLIGHT
BEGIN:STANDARD
TZOFFSETFROM:-0400
TZOFFSETTO:-0500
TZNAME:EST
DTSTART:20251102T060000
END:STANDARD
BEGIN:DAYLIGHT
TZOFFSETFROM:-0500
TZOFFSETTO:-0400
TZNAME:EDT
DTSTART:20260308T070000
END:DAYLIGHT
BEGIN:STANDARD
TZOFFSETFROM:-0400
TZOFFSETTO:-0500
TZNAME:EST
DTSTART:20261101T060000
END:STANDARD
END:VTIMEZONE
BEGIN:VEVENT
DTSTART;TZID=America/New_York:20250209T000000
DTEND;TZID=America/New_York:20250209T235900
DTSTAMP:20260424T184924
CREATED:20241217T205949Z
LAST-MODIFIED:20241217T205959Z
UID:10002941-1739059200-1739145540@nhaudubon.org
SUMMARY:Backyard Winter Bird Survey
DESCRIPTION:Join NH Audubon this winter for the 38th annual Backyard Winter Bird Survey on February 8th and 9th\, 2025! This statewide effort invites participants to observe and report the birds visiting their backyards\, helping us track winter bird populations and trends across New Hampshire. \nHow does it work? It’s simple! Watch your backyard birds for as long as you’d like over the survey weekend\, record the species you see\, and submit your findings (see the online form on this webpage). Whether you spend fifteen minutes or several hours\, your observations make a difference.
URL:https://nhaudubon.org/event/backyard-winter-bird-survey/
LOCATION:NH
ATTACH;FMTTYPE=image/jpeg:https://nhaudubon.org/wp-content/uploads/BWBS2.jpg
ORGANIZER;CN="Grace McCulloch":MAILTO:gmcculloch@nhaudubon.org
END:VEVENT
END:VCALENDAR