BEGIN:VCALENDAR
VERSION:2.0
PRODID:-//NH Audubon - ECPv6.15.11//NONSGML v1.0//EN
CALSCALE:GREGORIAN
METHOD:PUBLISH
X-WR-CALNAME:NH Audubon
X-ORIGINAL-URL:https://nhaudubon.org
X-WR-CALDESC:Events for NH Audubon
REFRESH-INTERVAL;VALUE=DURATION:PT1H
X-Robots-Tag:noindex
X-PUBLISHED-TTL:PT1H
BEGIN:VTIMEZONE
TZID:America/New_York
BEGIN:DAYLIGHT
TZOFFSETFROM:-0500
TZOFFSETTO:-0400
TZNAME:EDT
DTSTART:20240310T070000
END:DAYLIGHT
BEGIN:STANDARD
TZOFFSETFROM:-0400
TZOFFSETTO:-0500
TZNAME:EST
DTSTART:20241103T060000
END:STANDARD
BEGIN:DAYLIGHT
TZOFFSETFROM:-0500
TZOFFSETTO:-0400
TZNAME:EDT
DTSTART:20250309T070000
END:DAYLIGHT
BEGIN:STANDARD
TZOFFSETFROM:-0400
TZOFFSETTO:-0500
TZNAME:EST
DTSTART:20251102T060000
END:STANDARD
BEGIN:DAYLIGHT
TZOFFSETFROM:-0500
TZOFFSETTO:-0400
TZNAME:EDT
DTSTART:20260308T070000
END:DAYLIGHT
BEGIN:STANDARD
TZOFFSETFROM:-0400
TZOFFSETTO:-0500
TZNAME:EST
DTSTART:20261101T060000
END:STANDARD
END:VTIMEZONE
BEGIN:VEVENT
DTSTART;TZID=America/New_York:20250127T090000
DTEND;TZID=America/New_York:20250127T100000
DTSTAMP:20260424T030447
CREATED:20250110T154856Z
LAST-MODIFIED:20250117T194658Z
UID:10002972-1737968400-1737972000@nhaudubon.org
SUMMARY:Backyard Winter Bird Survey Practice Walk
DESCRIPTION:Practice your bird identification skills in anticipation of the Backyard Winter Bird Survey! Join Devin Guilfoyle\, Newfound Center coordinator\, as we look for common winter birds in NH and learn tricks to identify them. Grace McCulloch\, community science project leader and organizer of the Backyard Winter Bird Survey\, will also be around to answer any questions about the survey. \nWe will meet at the front doors of the Massabesic Center’s main building. This is an informal walk intended for novice birdwatchers\, but experienced birdwatchers are also welcome to share their experience. The Massabesic Sanctuary is home to many woodland and grassland birds. Species seen recently include Eastern Bluebird\, Red-shouldered Hawk\, and Common Raven. \nThis is a free event with binocular rentals available. Please dress for the weather\, with sturdy shoes. Expect to walk between 1-2 miles over mostly flat\, but uneven trails through grassy and wooded terrain. Trails may be soggy or muddy. Dogs are not allowed on this walk.
URL:https://nhaudubon.org/event/backyard-winter-bird-survey-practice-walk/
LOCATION:Massabesic Center\, 26 Audubon Way\, Auburn\, NH\, United States
CATEGORIES:Bird Walk
ATTACH;FMTTYPE=image/jpeg:https://nhaudubon.org/wp-content/uploads/Backyard-Winter-Bird-Survey-Practice-Walk-1.jpg
ORGANIZER;CN="Devin Guilfoyle":MAILTO:dguilfoyle@nhaudubon.org
END:VEVENT
END:VCALENDAR