BEGIN:VCALENDAR
VERSION:2.0
PRODID:-//NH Audubon - ECPv6.15.11//NONSGML v1.0//EN
CALSCALE:GREGORIAN
METHOD:PUBLISH
X-WR-CALNAME:NH Audubon
X-ORIGINAL-URL:https://nhaudubon.org
X-WR-CALDESC:Events for NH Audubon
REFRESH-INTERVAL;VALUE=DURATION:PT1H
X-Robots-Tag:noindex
X-PUBLISHED-TTL:PT1H
BEGIN:VTIMEZONE
TZID:America/New_York
BEGIN:DAYLIGHT
TZOFFSETFROM:-0500
TZOFFSETTO:-0400
TZNAME:EDT
DTSTART:20230312T070000
END:DAYLIGHT
BEGIN:STANDARD
TZOFFSETFROM:-0400
TZOFFSETTO:-0500
TZNAME:EST
DTSTART:20231105T060000
END:STANDARD
BEGIN:DAYLIGHT
TZOFFSETFROM:-0500
TZOFFSETTO:-0400
TZNAME:EDT
DTSTART:20240310T070000
END:DAYLIGHT
BEGIN:STANDARD
TZOFFSETFROM:-0400
TZOFFSETTO:-0500
TZNAME:EST
DTSTART:20241103T060000
END:STANDARD
BEGIN:DAYLIGHT
TZOFFSETFROM:-0500
TZOFFSETTO:-0400
TZNAME:EDT
DTSTART:20250309T070000
END:DAYLIGHT
BEGIN:STANDARD
TZOFFSETFROM:-0400
TZOFFSETTO:-0500
TZNAME:EST
DTSTART:20251102T060000
END:STANDARD
END:VTIMEZONE
BEGIN:VEVENT
DTSTART;TZID=America/New_York:20240820T100000
DTEND;TZID=America/New_York:20240820T120000
DTSTAMP:20260424T011844
CREATED:20240514T194017Z
LAST-MODIFIED:20240602T201314Z
UID:10002593-1724148000-1724155200@nhaudubon.org
SUMMARY:Guided Paddle at Paradise Point
DESCRIPTION:Choose from a canoe\, kayak\, or paddleboard as we travel along the route of the Newfound Lake Water Trail with a Naturalist. We will visit as many stops as time allows while learning more about the geology and ecology of Newfound Lake. Children under the age of 16 must be accompanied by a parent or guardian.  \nFor details on boat rental prices\, navigate to the Newfound Center page under the “Centers and Events” tab.   \nRSVP below – Payment for boat rentals will be collected at the center before the paddle.
URL:https://nhaudubon.org/event/guided-paddle-august-20/
LOCATION:Paradise Point Nature Center\, 290 Northshore Road\, Hebron\, 03241\, United States
ATTACH;FMTTYPE=image/jpeg:https://nhaudubon.org/wp-content/uploads/Guided-Paddle.jpg
ORGANIZER;CN="Newfound Audubon Center":MAILTO:newfoundaud@nhaudubon.org
END:VEVENT
BEGIN:VEVENT
DTSTART;TZID=America/New_York:20240820T190000
DTEND;TZID=America/New_York:20240820T201500
DTSTAMP:20260424T011844
CREATED:20240508T161319Z
LAST-MODIFIED:20240613T145629Z
UID:10002576-1724180400-1724184900@nhaudubon.org
SUMMARY:Red Barn Speaker Series - Nature In Focus: Images of Flora\, Fauna and Landscapes of New England
DESCRIPTION:2024 Red Barn Series\, Newfound Audubon\nNo registration necessary – just come and join us! \nSpeaker: Bob Fleck\, Author/Photographer \n“In all things of Nature\, there is something of the marvelous.” ~ Aristotle \nThe selection of photographic images to be presented in this lecture portray the artist’s interpretation of Aristotle’s ancient words. Curated from photographs taken by Bob Fleck over the past decade\, the overarching theme of the lecture is “finding the marvelous” available to us to witness in the natural world and bringing it into focus via photography and patience (plus a little luck!). We need not travel beyond New Hampshire and New England to be in awe. \nAs we ponder the images presented\, we will search for the details\, the “marvelous”\, the overall beauty that abounds in nature. Many instances presented by the photographer were but a moment in time\, yet a memory forever. The presentation represents such a small fraction of what is discoverable\, if we only take the time to look and see (and sometimes lucky enough to capture) “something of the marvelous”. Bob will also discuss some of his equipment and how some of the images were captured. Questions are encouraged throughout the session. \nMany of the images from his book\, “Seasons At A New England Bog – A Photographic Essay”\, as well as many other examples of the “marvels” of nature will be shared during the lecture/discussion. \nA musical montage of pages from the book will start shortly prior to the main presentation as people are arriving. Copies of the book will be available for purchase and inscribing by Bob. \nPlease park across the street at Ash Cottage. Download a map here. Note that this is now a private residence and there is no bathroom access. \nThank you to our generous sponsors: John S. Jordan Design PLLC and the Hebron Conservation Committee. \nPhoto: Pink Lady’s Slippers by Bob Fleck.
URL:https://nhaudubon.org/event/red-barn-2024-nature-in-focus/
LOCATION:Red Barn\, 41 North Shore Road\, Hebron\, NH\, United States
CATEGORIES:Red Barn Speaker Series
ATTACH;FMTTYPE=image/jpeg:https://nhaudubon.org/wp-content/uploads/bob-fleck-red-barn.jpg
ORGANIZER;CN="Devin Guilfoyle":MAILTO:dguilfoyle@nhaudubon.org
END:VEVENT
END:VCALENDAR