BEGIN:VCALENDAR
VERSION:2.0
PRODID:-//NH Audubon - ECPv6.15.11//NONSGML v1.0//EN
CALSCALE:GREGORIAN
METHOD:PUBLISH
X-ORIGINAL-URL:https://nhaudubon.org
X-WR-CALDESC:Events for NH Audubon
REFRESH-INTERVAL;VALUE=DURATION:PT1H
X-Robots-Tag:noindex
X-PUBLISHED-TTL:PT1H
BEGIN:VTIMEZONE
TZID:America/New_York
BEGIN:DAYLIGHT
TZOFFSETFROM:-0500
TZOFFSETTO:-0400
TZNAME:EDT
DTSTART:20230312T070000
END:DAYLIGHT
BEGIN:STANDARD
TZOFFSETFROM:-0400
TZOFFSETTO:-0500
TZNAME:EST
DTSTART:20231105T060000
END:STANDARD
BEGIN:DAYLIGHT
TZOFFSETFROM:-0500
TZOFFSETTO:-0400
TZNAME:EDT
DTSTART:20240310T070000
END:DAYLIGHT
BEGIN:STANDARD
TZOFFSETFROM:-0400
TZOFFSETTO:-0500
TZNAME:EST
DTSTART:20241103T060000
END:STANDARD
BEGIN:DAYLIGHT
TZOFFSETFROM:-0500
TZOFFSETTO:-0400
TZNAME:EDT
DTSTART:20250309T070000
END:DAYLIGHT
BEGIN:STANDARD
TZOFFSETFROM:-0400
TZOFFSETTO:-0500
TZNAME:EST
DTSTART:20251102T060000
END:STANDARD
END:VTIMEZONE
BEGIN:VEVENT
DTSTART;TZID=America/New_York:20240723T100000
DTEND;TZID=America/New_York:20240723T120000
DTSTAMP:20260419T091152
CREATED:20240514T193440Z
LAST-MODIFIED:20240723T131530Z
UID:10002590-1721728800-1721736000@nhaudubon.org
SUMMARY:Guided Paddle at Paradise Point
DESCRIPTION:Choose from a canoe\, kayak\, or paddleboard as we travel along the route of the Newfound Lake Water Trail with a Naturalist. We will visit as many stops as time allows while learning more about the geology and ecology of Newfound Lake. Children under the age of 16 must be accompanied by a parent or guardian.  \nFor details on boat rental prices\, navigate to the Newfound Center page under the “Centers and Events” tab.   \nRSVP below – Payment for boat rentals will be collected at the center before the paddle.
URL:https://nhaudubon.org/event/guided-paddle-july-23/
LOCATION:Paradise Point Nature Center\, 290 Northshore Road\, Hebron\, 03241\, United States
ATTACH;FMTTYPE=image/jpeg:https://nhaudubon.org/wp-content/uploads/Guided-Paddle.jpg
ORGANIZER;CN="Newfound Audubon Center":MAILTO:newfoundaud@nhaudubon.org
END:VEVENT
BEGIN:VEVENT
DTSTART;TZID=America/New_York:20240723T190000
DTEND;TZID=America/New_York:20240723T201500
DTSTAMP:20260419T091152
CREATED:20240508T155450Z
LAST-MODIFIED:20240613T145035Z
UID:10002572-1721761200-1721765700@nhaudubon.org
SUMMARY:Red Barn Speaker Series - State of the Lake: Summer Update
DESCRIPTION:2024 Red Barn Series\, Newfound Audubon\nNo registration necessary – just come and join us! \nSpeaker: Paul Pellissier\, Newfound Lake Region Association \nSince 1986\, Newfound Lake Region Association (NLRA) volunteers have been monitoring the health of Newfound Lake. Join NLRA Conservation Program Manager\, Paul Pellissier as he unpacks this trove of data to discuss Newfound Lake’s current water quality and how it has changed over time. Understanding how these trends give us valuable insights into threats to lake health. The presentation also explores how water moves through Newfound’s landscapes\, how what it picks along the way impacts the lake\, and the new initiatives NLRA is rolling out to ensure Newfound remains a vibrant ecosystem into the future. \nThe Summer update builds off of NLRA’s annual State of the Lake presentation\, given each year in February\, and includes important topics and observations that have happened over the course of the summer. \nPlease park across the street at Ash Cottage. Download a map here. Note that this is now a private residence and there is no bathroom access. \nThank you to our generous sponsors: John S. Jordan Design PLLC and the Hebron Conservation Committee. \nPhoto: Wellington State Park by Paul Pellissier.
URL:https://nhaudubon.org/event/red-barn-2024-lake-update/
LOCATION:Red Barn\, 41 North Shore Road\, Hebron\, NH\, United States
CATEGORIES:Red Barn Speaker Series
ATTACH;FMTTYPE=image/jpeg:https://nhaudubon.org/wp-content/uploads/lake-red-barn.jpg
ORGANIZER;CN="Devin Guilfoyle":MAILTO:dguilfoyle@nhaudubon.org
END:VEVENT
END:VCALENDAR