BEGIN:VCALENDAR
VERSION:2.0
PRODID:-//NH Audubon - ECPv6.15.11//NONSGML v1.0//EN
CALSCALE:GREGORIAN
METHOD:PUBLISH
X-WR-CALNAME:NH Audubon
X-ORIGINAL-URL:https://nhaudubon.org
X-WR-CALDESC:Events for NH Audubon
REFRESH-INTERVAL;VALUE=DURATION:PT1H
X-Robots-Tag:noindex
X-PUBLISHED-TTL:PT1H
BEGIN:VTIMEZONE
TZID:America/New_York
BEGIN:DAYLIGHT
TZOFFSETFROM:-0500
TZOFFSETTO:-0400
TZNAME:EDT
DTSTART:20230312T070000
END:DAYLIGHT
BEGIN:STANDARD
TZOFFSETFROM:-0400
TZOFFSETTO:-0500
TZNAME:EST
DTSTART:20231105T060000
END:STANDARD
BEGIN:DAYLIGHT
TZOFFSETFROM:-0500
TZOFFSETTO:-0400
TZNAME:EDT
DTSTART:20240310T070000
END:DAYLIGHT
BEGIN:STANDARD
TZOFFSETFROM:-0400
TZOFFSETTO:-0500
TZNAME:EST
DTSTART:20241103T060000
END:STANDARD
BEGIN:DAYLIGHT
TZOFFSETFROM:-0500
TZOFFSETTO:-0400
TZNAME:EDT
DTSTART:20250309T070000
END:DAYLIGHT
BEGIN:STANDARD
TZOFFSETFROM:-0400
TZOFFSETTO:-0500
TZNAME:EST
DTSTART:20251102T060000
END:STANDARD
END:VTIMEZONE
BEGIN:VEVENT
DTSTART;TZID=America/New_York:20240525T070000
DTEND;TZID=America/New_York:20240525T090000
DTSTAMP:20260421T175338
CREATED:20240214T155248Z
LAST-MODIFIED:20240214T155248Z
UID:10002460-1716620400-1716627600@nhaudubon.org
SUMMARY:Beginner Bird Walk: Piscassic River WMA\, Cuba Rd Section
DESCRIPTION:With fields\, forests\, and\, of course\, a river\, the Cuba Road section of the Piscassic River Wildlife Management Area is a great spot to look for birds. Join trip leader Greg Tillman as we take a walk down and back on this old Class 6 road. Meet at the end of the drive-able portion of Cuba road (opposite 322 Piscassic Rd) in Newfields at 7:00 am. Contact: Greg Tillman with questions. \nThe trip is limited to 20 participants. As the event nears\, visit the Seacoast Chapter website to sign-up. Although these walks are geared with the beginner birder in mind\, birders of all levels of expertise are encouraged to participate and share their experiences. Children are gladly welcome with an adult. Participants are encouraged to bring binoculars\, water\, insect repellent\, and sunscreen.
URL:https://nhaudubon.org/event/beginner-bird-walk-piscassic-river-may-2024/
LOCATION:NH
CATEGORIES:Chapter Field Trip
ATTACH;FMTTYPE=image/png:https://nhaudubon.org/wp-content/uploads/seacoast-chapter-logo.png
END:VEVENT
BEGIN:VEVENT
DTSTART;TZID=America/New_York:20240525T100000
DTEND;TZID=America/New_York:20240525T120000
DTSTAMP:20260421T175338
CREATED:20240514T203919Z
LAST-MODIFIED:20240524T132349Z
UID:10002581-1716631200-1716638400@nhaudubon.org
SUMMARY:ID Hike with the Newfound Center
DESCRIPTION:Open new realms each week as our Lead Naturalist helps participants of all ages focus their senses on different fascinating elements of their surroundings. Limited pairs of binoculars are available for use. Participants are encouraged to bring their own binoculars and/or field guides for further exploration. \nThis week our Lead Naturalist will be sharing some personal tips and tricks on identifying all flora and fauna at Paradise Point. ID bird calls\, animal tracks\, wildflowers\, trees\, and more. Feel free to asks as many questions as you’d like!
URL:https://nhaudubon.org/event/id-hike-may-25/
LOCATION:Paradise Point Nature Center\, 290 Northshore Road\, Hebron\, 03241\, United States
ATTACH;FMTTYPE=image/jpeg:https://nhaudubon.org/wp-content/uploads/ID-Hike.jpg
ORGANIZER;CN="Newfound Audubon Center":MAILTO:newfoundaud@nhaudubon.org
END:VEVENT
BEGIN:VEVENT
DTSTART;TZID=America/New_York:20240525T110000
DTEND;TZID=America/New_York:20240525T170000
DTSTAMP:20260421T175338
CREATED:20240326T142901Z
LAST-MODIFIED:20240326T142901Z
UID:10002510-1716634800-1716656400@nhaudubon.org
SUMMARY:Earth Day Exhibition 2024 - A Nature Inspired Show
DESCRIPTION:Each year\, NH Audubon holds a day-long\, family-friendly Earth Day celebration at the Massabesic Center. As a part of the 2024 celebration\, the Center is partnering with the League of NH Craftsmen to feature original work from League artists in a special two month exhibition which includes photography\, prints\, and fiber art. \nAn example from the exhibit – Birches by Ron Bowman.\nThis is a wonderful opportunity to enjoy nature-themed artwork produced by some of New Hampshire’s finest craftsmen\, displayed in the peaceful setting of this beautiful wildlife sanctuary. The exhibition will be open during regular Center hours from April 5-May 31. A reception hosted by the League\, and open to the public\, will be held on April 21 from 2-4pm. \nAbout the League of NH Craftsmen: For over 90 years\, the League has enriched New Hampshire communities through its mission to advance\, cultivate and champion fine craft. The League offers a wide-range of educational programs for adults and children\, and outstanding hand-made craft is available for purchase at seven affiliated Fine Craft Galleries throughout the state.
URL:https://nhaudubon.org/event/earth-day-exhibition-2024-may-25/
LOCATION:Massabesic Center\, 26 Audubon Way\, Auburn\, NH\, United States
CATEGORIES:Art Exhibit
ORGANIZER;CN="Kimmie Whiteman":MAILTO:kwhiteman@nhaudubon.org
END:VEVENT
END:VCALENDAR