BEGIN:VCALENDAR
VERSION:2.0
PRODID:-//NH Audubon - ECPv6.15.11//NONSGML v1.0//EN
CALSCALE:GREGORIAN
METHOD:PUBLISH
X-WR-CALNAME:NH Audubon
X-ORIGINAL-URL:https://nhaudubon.org
X-WR-CALDESC:Events for NH Audubon
REFRESH-INTERVAL;VALUE=DURATION:PT1H
X-Robots-Tag:noindex
X-PUBLISHED-TTL:PT1H
BEGIN:VTIMEZONE
TZID:America/New_York
BEGIN:DAYLIGHT
TZOFFSETFROM:-0500
TZOFFSETTO:-0400
TZNAME:EDT
DTSTART:20230312T070000
END:DAYLIGHT
BEGIN:STANDARD
TZOFFSETFROM:-0400
TZOFFSETTO:-0500
TZNAME:EST
DTSTART:20231105T060000
END:STANDARD
BEGIN:DAYLIGHT
TZOFFSETFROM:-0500
TZOFFSETTO:-0400
TZNAME:EDT
DTSTART:20240310T070000
END:DAYLIGHT
BEGIN:STANDARD
TZOFFSETFROM:-0400
TZOFFSETTO:-0500
TZNAME:EST
DTSTART:20241103T060000
END:STANDARD
BEGIN:DAYLIGHT
TZOFFSETFROM:-0500
TZOFFSETTO:-0400
TZNAME:EDT
DTSTART:20250309T070000
END:DAYLIGHT
BEGIN:STANDARD
TZOFFSETFROM:-0400
TZOFFSETTO:-0500
TZNAME:EST
DTSTART:20251102T060000
END:STANDARD
END:VTIMEZONE
BEGIN:VEVENT
DTSTART;TZID=America/New_York:20240519T063000
DTEND;TZID=America/New_York:20240519T093000
DTSTAMP:20260422T062755
CREATED:20240214T154950Z
LAST-MODIFIED:20240214T154950Z
UID:10002459-1716100200-1716111000@nhaudubon.org
SUMMARY:Beginner Bird Walk: Marsh Birds of World End Pond
DESCRIPTION:World End Pond is one of the top birding hotspots in southeast New Hampshire and it is home to many specialties not easily found elsewhere in the state. At almost 100 acres\, one of the best ways to discover its birdlife is by kayak. Bring your own kayak or canoe and join Kyle Wilmarth as he leads a trip paddling through the pond and marsh. Meet at the boat launch at the end of Theresa Avenue in Salem. Contact: Kyle Wilmarth. \nThe trip is limited to 7 participants. As the event nears\, visit the Seacoast Chapter website to sign-up. Although these walks are geared with the beginner birder in mind\, birders of all levels of expertise are encouraged to participate and share their experiences. Children are gladly welcome with an adult. Participants are encouraged to bring binoculars\, water\, insect repellent\, and sunscreen.
URL:https://nhaudubon.org/event/beginner-bird-walk-world-end-pond-may-2024/
LOCATION:NH
CATEGORIES:Chapter Field Trip
ATTACH;FMTTYPE=image/png:https://nhaudubon.org/wp-content/uploads/seacoast-chapter-logo.png
END:VEVENT
BEGIN:VEVENT
DTSTART;TZID=America/New_York:20240519T070000
DTEND;TZID=America/New_York:20240519T120000
DTSTAMP:20260422T062755
CREATED:20240214T154812Z
LAST-MODIFIED:20240214T154812Z
UID:10002458-1716102000-1716120000@nhaudubon.org
SUMMARY:Beginner Bird Walk: Strafford County Farm
DESCRIPTION:With habitat for water birds\, raptors and song birds\, this walk will include the Don Black Trail and the hedgerows around the fields of the conserved property. The walk will last as long as participants choose\, but not beyond noon. Meet at 8:00 across from the Strafford County Work Program at 266 County Farm Road; follow County Farm Road and take a left at the stop sign and then an immediate left to continue along behind the jail to the parking lot across from the entrance to the Strafford County Work Program. Contact: Dan Hubbard or 603-978-0218. \nThe trip is limited to 20 participants. As the event nears\, visit the Seacoast Chapter website to sign-up. Although these walks are geared with the beginner birder in mind\, birders of all levels of expertise are encouraged to participate and share their experiences. Children are gladly welcome with an adult. Participants are encouraged to bring binoculars\, water\, insect repellent\, and sunscreen.
URL:https://nhaudubon.org/event/beginner-bird-strafford-county-farm-may-2024/
LOCATION:NH
CATEGORIES:Chapter Field Trip
ATTACH;FMTTYPE=image/png:https://nhaudubon.org/wp-content/uploads/seacoast-chapter-logo.png
END:VEVENT
BEGIN:VEVENT
DTSTART;TZID=America/New_York:20240519T070000
DTEND;TZID=America/New_York:20240519T120000
DTSTAMP:20260422T062755
CREATED:20240415T141612Z
LAST-MODIFIED:20240415T141612Z
UID:10002532-1716102000-1716120000@nhaudubon.org
SUMMARY:Annual Surry Birds and Blooms Walk
DESCRIPTION:Join local birder Dave Hoitt and wildflower enthusiast Wendy Ward on this moderate walk looking for birds and wildflowers in open field\, wetland\, and woodland habitats. Meet at the Surry Town Hall parking lot at 7:00 am. The trip should end by noon. Bring field guides\, binoculars\, drink\, snack and bug/tick repellant. Cost: free. \nFor more info contact Dave at weward0@yahoo.com or 603-352-0987. \n  \nPhoto: Clay-colored Sparrow\, by Steve Mirick.
URL:https://nhaudubon.org/event/annual-surry-birds-and-blooms-walk-2024/
LOCATION:NH
CATEGORIES:Bird Count,Chapter Field Trip,Field Trip
ATTACH;FMTTYPE=image/jpeg:https://nhaudubon.org/wp-content/uploads/Clay-colored-sparrow-Steve-Mirick.jpg
END:VEVENT
END:VCALENDAR