BEGIN:VCALENDAR
VERSION:2.0
PRODID:-//NH Audubon - ECPv6.15.11//NONSGML v1.0//EN
CALSCALE:GREGORIAN
METHOD:PUBLISH
X-ORIGINAL-URL:https://nhaudubon.org
X-WR-CALDESC:Events for NH Audubon
REFRESH-INTERVAL;VALUE=DURATION:PT1H
X-Robots-Tag:noindex
X-PUBLISHED-TTL:PT1H
BEGIN:VTIMEZONE
TZID:America/New_York
BEGIN:DAYLIGHT
TZOFFSETFROM:-0500
TZOFFSETTO:-0400
TZNAME:EDT
DTSTART:20230312T070000
END:DAYLIGHT
BEGIN:STANDARD
TZOFFSETFROM:-0400
TZOFFSETTO:-0500
TZNAME:EST
DTSTART:20231105T060000
END:STANDARD
BEGIN:DAYLIGHT
TZOFFSETFROM:-0500
TZOFFSETTO:-0400
TZNAME:EDT
DTSTART:20240310T070000
END:DAYLIGHT
BEGIN:STANDARD
TZOFFSETFROM:-0400
TZOFFSETTO:-0500
TZNAME:EST
DTSTART:20241103T060000
END:STANDARD
BEGIN:DAYLIGHT
TZOFFSETFROM:-0500
TZOFFSETTO:-0400
TZNAME:EDT
DTSTART:20250309T070000
END:DAYLIGHT
BEGIN:STANDARD
TZOFFSETFROM:-0400
TZOFFSETTO:-0500
TZNAME:EST
DTSTART:20251102T060000
END:STANDARD
END:VTIMEZONE
BEGIN:VEVENT
DTSTART;TZID=America/New_York:20240511T060000
DTEND;TZID=America/New_York:20240511T080000
DTSTAMP:20260419T211935
CREATED:20240411T205509Z
LAST-MODIFIED:20240507T202258Z
UID:10002527-1715407200-1715414400@nhaudubon.org
SUMMARY:Pondicherry Migratory Bird Day: Outing One
DESCRIPTION:The 22nd Annual Pondicherry Migratory Bird Day is Saturday\, May 11\, 2024. Two consecutive walks are free and open to the public. The first event\, which starts at 6 am and ends at 8 am\, meets at the overlook at Airport Marsh on Airport Road (adjacent to the Mt. Washington Regional Airport) in Whitefield\, NH. Airport Marsh has a mix of water\, wetland\, shrub\, and grassland habitat. Over the past several years\, 183 species have been recorded at Airport Marsh\, although we will be happy with 40 species. \nThe second event starts at the Pondicherry Trailhead at 289 Airport Road in Whitefield\, NH\, at 8 am. We will walk the rail trail to Cherry Pond\, a distance of 1.5 miles. We will look and listen for various warblers and other species. From the Tudor Richard Observation Platform at Cherry Pond\, guides will lead walks to Little Cherry Pond\, searching for black-backed woodpeckers and migrating warblers. We will also visit Moorhen Marsh for wetland species\, including marsh wrens and swamp sparrows. We have several expert volunteer guides to help us find and identify species. \nWe generally finish around 2 pm\, although birders can stay longer or leave earlier. The total walking distance for the Cherry and Little Cherry Ponds walk is around 5 miles with an elevation change of only 20 feet. Bring binoculars\, lunch\, water\, and dress for the weather. We may encounter a few black flies. This particular date is often the birdiest weekend of the migration season. The event is free and is sponsored by the Ammonoosuc Chapter of NH Audubon\, Friends of Pondicherry\, and the Silvio Conte National Fish and Wildlife Refuge. \nThe theme for World Migratory Bird Day 2024 is “Protect Insects\, Protect Birds.” Free educational posters featuring this theme will be available. \nThe Friends of Pondicherry website. \nIf you have any questions\, contact the organizer David Govatski at David.Govatski@gmail.com
URL:https://nhaudubon.org/event/pondicherry-migratory-bird-day-1/
LOCATION:Airport Marsh Overlook\, Airport Rd.\, Whitefield\, NH\, United States
CATEGORIES:Bird Walk
ATTACH;FMTTYPE=image/jpeg:https://nhaudubon.org/wp-content/uploads/wmbd-2024.jpg
ORGANIZER;CN="David Govatski":MAILTO:David.Govatski@gmail.com
GEO:44.3669125;-71.5547004
X-APPLE-STRUCTURED-LOCATION;VALUE=URI;X-ADDRESS=Airport Marsh Overlook Airport Rd. Whitefield NH United States;X-APPLE-RADIUS=500;X-TITLE=Airport Rd.:geo:-71.5547004,44.3669125
END:VEVENT
BEGIN:VEVENT
DTSTART;TZID=America/New_York:20240511T080000
DTEND;TZID=America/New_York:20240511T093000
DTSTAMP:20260419T211935
CREATED:20240404T182053Z
LAST-MODIFIED:20240510T165521Z
UID:10002523-1715414400-1715419800@nhaudubon.org
SUMMARY:Birding Outing at Thompson Wildlife Sanctuary
DESCRIPTION:Celebrate World Migratory Bird Day by joining NH Audubon for a birding outing along the trails at Thompson Wildlife Sanctuary! \nThis is an informal birding outing that begins at the parking lot on Beede Flats Road/Route 113 in Sandwich and explores the trails with Devin Guilfoyle\, Newfound Center Coordinator. All ages and skill levels of birders are welcome. If you are new to birding\, come and learn the basics! If you are an avid birder\, come to learn new techniques\, network with other birders\, or share your expertise with the group. \nBinocular rental included with ticket. Please dress for the weather\, with sturdy shoes. This walk will go over a boardwalk\, with the option of going through the sanctuary’s wilderness loop if time allows. Expect to walk between 1-2 miles over mostly flat\, but uneven trails through grassy terrain. Trails may be soggy or muddy in the rainy season.
URL:https://nhaudubon.org/event/birding-outing-at-thompson-wildlife-sanctuary/
LOCATION:Thompson Wildlife Sanctuary\, Beede Flats Road/Rt. 113\, North Sandwich\, NH\, 03259\, United States
ATTACH;FMTTYPE=image/jpeg:https://nhaudubon.org/wp-content/uploads/wmbd-2024.jpg
ORGANIZER;CN="Devin Guilfoyle":MAILTO:dguilfoyle@nhaudubon.org
END:VEVENT
BEGIN:VEVENT
DTSTART;TZID=America/New_York:20240511T080000
DTEND;TZID=America/New_York:20240511T100000
DTSTAMP:20260419T211935
CREATED:20240214T153748Z
LAST-MODIFIED:20240214T153748Z
UID:10002454-1715414400-1715421600@nhaudubon.org
SUMMARY:Beginner Bird Walk: Kwaks Wildlife Sanctuary
DESCRIPTION:Join New Hampshire Audubon President Doug Bechtel in exploring NH Audubon’s  Kwaks Wildlife Sanctuary in Newmarket.  We will look for early spring migratory song birds and learn a bit about the plants and habitats that make the Kwaks Sanctuary\, an important part of the Follett’s Brook Watershed. Meet at 8:00 AM at the parking lot. Contact Holly Bauer with questions. \nThe trip is limited to 20 participants. As the event nears\, visit the Seacoast Chapter website to sign-up. Although these walks are geared with the beginner birder in mind\, birders of all levels of expertise are encouraged to participate and share their experiences. Children are gladly welcome with an adult. Participants are encouraged to bring binoculars\, water\, insect repellent\, and sunscreen.
URL:https://nhaudubon.org/event/beginner-bird-walk-kwaks-wildlife-sanctuary-may-2024/
LOCATION:NH
CATEGORIES:Chapter Field Trip
ATTACH;FMTTYPE=image/png:https://nhaudubon.org/wp-content/uploads/seacoast-chapter-logo.png
END:VEVENT
BEGIN:VEVENT
DTSTART;TZID=America/New_York:20240511T080000
DTEND;TZID=America/New_York:20240511T140000
DTSTAMP:20260419T211935
CREATED:20240411T205749Z
LAST-MODIFIED:20240424T213846Z
UID:10002528-1715414400-1715436000@nhaudubon.org
SUMMARY:Pondicherry Migratory Bird Day: Outing Two
DESCRIPTION:The 22nd Annual Pondicherry Migratory Bird Day is Saturday\, May 11\, 2024. Two consecutive walks are free and open to the public. The first event\, which starts at 6 am and ends at 8 am\, meets at the overlook at Airport Marsh on Airport Road in Whitefield\, NH. Airport Marsh has a mix of water\, wetland\, shrub\, and grassland habitat. Over the past several years\, 183 species have been recorded at Airport Marsh\, although we will be happy with 40 species. \nThe second event starts at the Pondicherry Trailhead at 289 Airport Road in Whitefield\, NH\, at 8 am. We will walk the rail trail to Cherry Pond\, a distance of 1.5 miles. We will look and listen for various warblers and other species. From the Tudor Richard Observation Platform at Cherry Pond\, guides will lead walks to Little Cherry Pond\, searching for black-backed woodpeckers and migrating warblers. We will also visit Moorhen Marsh for wetland species\, including marsh wrens and swamp sparrows. We have several expert volunteer guides to help us find and identify species. \nWe generally finish around 2 pm\, although birders can stay longer or leave earlier. The total walking distance for the Cherry and Little Cherry Ponds walk is around 5 miles with an elevation change of only 20 feet. Bring binoculars\, lunch\, water\, and dress for the weather. We may encounter a few black flies. This particular date is often the birdiest weekend of the migration season. The event is free and is sponsored by the Ammonoosuc Chapter of NH Audubon\, Friends of Pondicherry\, and the Silvio Conte National Fish and Wildlife Refuge. \nThe theme for World Migratory Bird Day 2024 is “Protect Insects\, Protect Birds.” Free educational posters featuring this theme will be available. \nThe Friends of Pondicherry website. \nIf you have any questions\, contact the organizer David Govatski at David.Govatski@gmail.com
URL:https://nhaudubon.org/event/pondicherry-migratory-bird-day-2/
LOCATION:Pondicherry Wildlife Sanctuary\, Presidential Rail Trail\, 289 Airport Road\, Whitefield\, NH\, 03598\, United States
CATEGORIES:Bird Walk
ATTACH;FMTTYPE=image/jpeg:https://nhaudubon.org/wp-content/uploads/wmbd-2024.jpg
ORGANIZER;CN="David Govatski":MAILTO:David.Govatski@gmail.com
END:VEVENT
BEGIN:VEVENT
DTSTART;TZID=America/New_York:20240511T083000
DTEND;TZID=America/New_York:20240511T100000
DTSTAMP:20260419T211935
CREATED:20240411T212434Z
LAST-MODIFIED:20240411T212435Z
UID:10002531-1715416200-1715421600@nhaudubon.org
SUMMARY:World Migratory Bird Day: Bird Outing at Massabesic Center
DESCRIPTION:Celebrate World Migratory Bird Day with NH Audubon this year! We will be hosting a few different outings across the state on May 11th to celebrate and enjoy our feathered friends. \nThis is an informal birding outing that begins at the Massabesic Center in Auburn and explores the trails with local birder and Massabesic Center Advisory Committee member\, Joe Mahoney. All ages and skill levels of birders are welcome. If you are new to birding\, come and learn the basics! If you are an avid birder\, come to learn new techniques\, network with other birders\, or share your expertise with the group. \nCost is $8/members or $10/non-members\, please contact Slater Roosa if this may be a barrier for your participation. Binocular rental included with ticket. Please dress for the weather\, with sturdy shoes. Expect to walk between 1-2 miles over mostly flat\, but uneven trails through grassy and wooded terrain. Trails may be soggy or muddy in the rainy season. Dogs are not allowed on this walk.
URL:https://nhaudubon.org/event/world-migratory-bird-day-bird-outing-at-massabesic-center/
LOCATION:Massabesic Center\, 26 Audubon Way\, Auburn\, NH\, United States
CATEGORIES:Bird Walk
ATTACH;FMTTYPE=image/jpeg:https://nhaudubon.org/wp-content/uploads/wmbd-2024.jpg
ORGANIZER;CN="Slater Roosa":MAILTO:sroosa@nhaudubon.org
END:VEVENT
BEGIN:VEVENT
DTSTART;TZID=America/New_York:20240511T083000
DTEND;TZID=America/New_York:20240511T100000
DTSTAMP:20260419T211935
CREATED:20240509T132819Z
LAST-MODIFIED:20240509T194720Z
UID:10002578-1715416200-1715421600@nhaudubon.org
SUMMARY:Jack Gleason Memorial Nature Walk
DESCRIPTION:In celebration of World Migratory Bird Day\, a guided nature walk at Ponemah Bog Wildlife Sanctuary.
URL:https://nhaudubon.org/event/jack-gleason-memorial-nature-walk-2024/
LOCATION:Ponemah Bog Wildlife Sanctuary\, Rhodora Drive\, Amherst\, NH\, United States
CATEGORIES:Bird Walk
ATTACH;FMTTYPE=image/jpeg:https://nhaudubon.org/wp-content/uploads/wmbd-2024.jpg
ORGANIZER;CN="George Rollend":MAILTO:grollend@comcast.net
END:VEVENT
BEGIN:VEVENT
DTSTART;TZID=America/New_York:20240511T093000
DTEND;TZID=America/New_York:20240511T103000
DTSTAMP:20260419T211935
CREATED:20240131T160121Z
LAST-MODIFIED:20240227T190702Z
UID:10002435-1715419800-1715423400@nhaudubon.org
SUMMARY:Kids & Cucumbers: Family Gardening Ideas & Activities
DESCRIPTION:Gardening appeals to all ages and stages and can be used as a tool to spark curiosity\, improve focus\, boost self-esteem\, and establish lifelong relationships with food\, nutrition\, wildlife\, and the environment. In this hands-on\, outdoor program\, we will focus on engaging children in the home garden with activities geared towards growing not only food and flowers but cultivating confidence as well. This program is best suited for families with children ages 5-14. \nPresenter: \nWilla Coroka\, Project Implementation Specialist with NH Audubon. \nCost:\n$10 for NH Audubon members/Extension Master Gardeners\n$15 for non-members \nRegistration required by May 9. \nFor mobility\, sensory\, behavioral\, or other accessibility accommodations\, please contact Massabesic Center Director\, Kimmie Whiteman. \nThis program is brought to you through an ongoing partnership between the University of New Hampshire Extension’s Master Gardener Program and New Hampshire Audubon. “The Demonstration Gardens at NH Audubon’s Massabesic Center” provide a place for sharing best practices in eco-friendly home and community gardening\, to benefit human health and well-being\, and wildlife habitat.
URL:https://nhaudubon.org/event/family-gardening-ideas-may-2024/
LOCATION:Massabesic Center\, 26 Audubon Way\, Auburn\, NH\, United States
CATEGORIES:Demonstration Garden
ATTACH;FMTTYPE=image/jpeg:https://nhaudubon.org/wp-content/uploads/kids-gardening.jpg
ORGANIZER;CN="Kimmie Whiteman":MAILTO:kwhiteman@nhaudubon.org
END:VEVENT
BEGIN:VEVENT
DTSTART;TZID=America/New_York:20240511T110000
DTEND;TZID=America/New_York:20240511T170000
DTSTAMP:20260419T211935
CREATED:20240326T141904Z
LAST-MODIFIED:20240326T141904Z
UID:10002500-1715425200-1715446800@nhaudubon.org
SUMMARY:Earth Day Exhibition 2024 - A Nature Inspired Show
DESCRIPTION:Each year\, NH Audubon holds a day-long\, family-friendly Earth Day celebration at the Massabesic Center. As a part of the 2024 celebration\, the Center is partnering with the League of NH Craftsmen to feature original work from League artists in a special two month exhibition which includes photography\, prints\, and fiber art. \nAn example from the exhibit – Birches by Ron Bowman.\nThis is a wonderful opportunity to enjoy nature-themed artwork produced by some of New Hampshire’s finest craftsmen\, displayed in the peaceful setting of this beautiful wildlife sanctuary. The exhibition will be open during regular Center hours from April 5-May 31. A reception hosted by the League\, and open to the public\, will be held on April 21 from 2-4pm. \nAbout the League of NH Craftsmen: For over 90 years\, the League has enriched New Hampshire communities through its mission to advance\, cultivate and champion fine craft. The League offers a wide-range of educational programs for adults and children\, and outstanding hand-made craft is available for purchase at seven affiliated Fine Craft Galleries throughout the state.
URL:https://nhaudubon.org/event/earth-day-exhibition-2024-may-11/
LOCATION:Massabesic Center\, 26 Audubon Way\, Auburn\, NH\, United States
CATEGORIES:Art Exhibit
ORGANIZER;CN="Kimmie Whiteman":MAILTO:kwhiteman@nhaudubon.org
END:VEVENT
END:VCALENDAR