BEGIN:VCALENDAR
VERSION:2.0
PRODID:-//NH Audubon - ECPv6.15.11//NONSGML v1.0//EN
CALSCALE:GREGORIAN
METHOD:PUBLISH
X-WR-CALNAME:NH Audubon
X-ORIGINAL-URL:https://nhaudubon.org
X-WR-CALDESC:Events for NH Audubon
REFRESH-INTERVAL;VALUE=DURATION:PT1H
X-Robots-Tag:noindex
X-PUBLISHED-TTL:PT1H
BEGIN:VTIMEZONE
TZID:America/New_York
BEGIN:DAYLIGHT
TZOFFSETFROM:-0500
TZOFFSETTO:-0400
TZNAME:EDT
DTSTART:20230312T070000
END:DAYLIGHT
BEGIN:STANDARD
TZOFFSETFROM:-0400
TZOFFSETTO:-0500
TZNAME:EST
DTSTART:20231105T060000
END:STANDARD
BEGIN:DAYLIGHT
TZOFFSETFROM:-0500
TZOFFSETTO:-0400
TZNAME:EDT
DTSTART:20240310T070000
END:DAYLIGHT
BEGIN:STANDARD
TZOFFSETFROM:-0400
TZOFFSETTO:-0500
TZNAME:EST
DTSTART:20241103T060000
END:STANDARD
BEGIN:DAYLIGHT
TZOFFSETFROM:-0500
TZOFFSETTO:-0400
TZNAME:EDT
DTSTART:20250309T070000
END:DAYLIGHT
BEGIN:STANDARD
TZOFFSETFROM:-0400
TZOFFSETTO:-0500
TZNAME:EST
DTSTART:20251102T060000
END:STANDARD
END:VTIMEZONE
BEGIN:VEVENT
DTSTART;TZID=America/New_York:20240410T110000
DTEND;TZID=America/New_York:20240410T170000
DTSTAMP:20260421T060055
CREATED:20240129T173147Z
LAST-MODIFIED:20240329T134712Z
UID:10002404-1712746800-1712768400@nhaudubon.org
SUMMARY:Human / Nature
DESCRIPTION:Elderglass by Jackie Hanson.\nIn this ongoing series\, artist Jackie Hanson uses pastels to paint immersive landscapes that feature both well-known and overlooked vantages\, often (but not exclusively) from New Hampshire and Maine. While pleasant to the eye\, these works help her to think about the tangled relationship between humans and nature. This relationship is both one of forces opposed to each other and inexplicably tied together. Humans can have a devastating impact on our environment\, but in many everyday cases\, you can observe the Earth reclaiming where humans have moved on. Meanwhile\, the human race is beholden to time and ultimately to our planet as well. Jackie’s paintings explore the beauty of the balance between human activity and the Earth’s reciprocity\, and the sublime power nature holds. (Recommended reading: Braiding Sweetgrass by Robin Wall Kimmerer.) \nBio: Jackie Hanson spent her childhood in the Lakes Region of New Hampshire\, raised in a family where art and creativity were always encouraged. While growing up\, she became familiar with the beauty of the outdoors in New England: lakes\, mountains\, small farms\, and plenty of day trips to the ocean. After first using pastels in high school\, she rediscovered her love for them while in college\, and the way they made her feel the same excitement in the studio as when exploring the natural world. Jackie graduated from New England College’s Institute of Art and Design in 2022 with her Bachelor of Fine Arts degree and plans to continue her art practice as a career. \nAn Artist’s Reception has been rescheduled to April 24\, 4-6pm at the McLane Center.
URL:https://nhaudubon.org/event/human-nature-apr-10-2024/
LOCATION:McLane Center\, 84 Silk Farm Road\, Concord\, NH\, 03301\, United States
CATEGORIES:Art Exhibit
ORGANIZER;CN="Lauren Kraemer":MAILTO:lkraemer@nhaudubon.org
END:VEVENT
BEGIN:VEVENT
DTSTART;TZID=America/New_York:20240410T110000
DTEND;TZID=America/New_York:20240410T170000
DTSTAMP:20260421T060055
CREATED:20240326T140515Z
LAST-MODIFIED:20240326T140515Z
UID:10002477-1712746800-1712768400@nhaudubon.org
SUMMARY:Earth Day Exhibition 2024 - A Nature Inspired Show
DESCRIPTION:Each year\, NH Audubon holds a day-long\, family-friendly Earth Day celebration at the Massabesic Center. As a part of the 2024 celebration\, the Center is partnering with the League of NH Craftsmen to feature original work from League artists in a special two month exhibition which includes photography\, prints\, and fiber art. \nAn example from the exhibit – Birches by Ron Bowman.\nThis is a wonderful opportunity to enjoy nature-themed artwork produced by some of New Hampshire’s finest craftsmen\, displayed in the peaceful setting of this beautiful wildlife sanctuary. The exhibition will be open during regular Center hours from April 5-May 31. A reception hosted by the League\, and open to the public\, will be held on April 21 from 2-4pm. \nAbout the League of NH Craftsmen: For over 90 years\, the League has enriched New Hampshire communities through its mission to advance\, cultivate and champion fine craft. The League offers a wide-range of educational programs for adults and children\, and outstanding hand-made craft is available for purchase at seven affiliated Fine Craft Galleries throughout the state.
URL:https://nhaudubon.org/event/earth-day-exhibition-2024-apr-10/
LOCATION:Massabesic Center\, 26 Audubon Way\, Auburn\, NH\, United States
CATEGORIES:Art Exhibit
ORGANIZER;CN="Kimmie Whiteman":MAILTO:kwhiteman@nhaudubon.org
END:VEVENT
BEGIN:VEVENT
DTSTART;TZID=America/New_York:20240410T180000
DTEND;TZID=America/New_York:20240410T193000
DTSTAMP:20260421T060055
CREATED:20240131T155320Z
LAST-MODIFIED:20240131T155320Z
UID:10002434-1712772000-1712777400@nhaudubon.org
SUMMARY:Climate-Resilient Gardens: Gardening for Extreme Weather Conditions
DESCRIPTION:As home and community gardeners\, how do we prepare and adapt our practices to make our gardens more climate-resilient? From seasonal temperature shifts and extreme temperature swings to excess moisture or drought\, we’ll talk about some practical strategies to address these challenges\, and what it means to grow a climate-resilient garden that can not only “weather” these changes\, but also reduce your environmental footprint. \nPresenter: \nSteph Sosinski\, Home Horticulture Program Manager for UNH Extension. \nSean O’Brien\, Home Horticulture Program Manager for UNH Extension. \nCost:\n$10 for NH Audubon members/Extension Master Gardeners\n$15 for non-members \nRegister here. Registration required by April 8. \nFor mobility\, sensory\, behavioral\, or other accessibility accommodations\, please contact Massabesic Center Director\, Kimmie Whiteman. \nThis program is brought to you through an ongoing partnership between the University of New Hampshire Extension’s Master Gardener Program and New Hampshire Audubon. “The Demonstration Gardens at NH Audubon’s Massabesic Center” provide a place for sharing best practices in eco-friendly home and community gardening\, to benefit human health and well-being\, and wildlife habitat.
URL:https://nhaudubon.org/event/climate-resilient-gardens-apr-2024/
LOCATION:Massabesic Center\, 26 Audubon Way\, Auburn\, NH\, United States
CATEGORIES:Demonstration Garden
ATTACH;FMTTYPE=image/jpeg:https://nhaudubon.org/wp-content/uploads/rain-in-garden.jpg
ORGANIZER;CN="Kimmie Whiteman":MAILTO:kwhiteman@nhaudubon.org
END:VEVENT
BEGIN:VEVENT
DTSTART;TZID=America/New_York:20240410T183000
DTEND;TZID=America/New_York:20240410T193000
DTSTAMP:20260421T060055
CREATED:20240209T181822Z
LAST-MODIFIED:20240209T181822Z
UID:10002448-1712773800-1712777400@nhaudubon.org
SUMMARY:Become a Volunteer Guide: NH Butterfly Monitoring Network
DESCRIPTION:The NH Butterfly Monitoring Network (NHBMN) is relatively new collaborative effort\, led by NH Fish & Game and UNH Extension\, to engage volunteers in counting and identifying butterflies across New Hampshire. Data collected by volunteers can contribute to our understanding of long-term trends in butterfly populations and inform conservation actions for both common and declining species. An important part of this work involves promoting volunteer participation in July Butterfly Counts\, currently held in 6 locations across the state each year. There is growing interest from volunteers in helping at these fun\, day-long counts\, but we need volunteers to lead groups to increase our capacity and help us collect more useful data. \nJoin us for this training to learn more about becoming a Volunteer Guide for the NH Butterfly Monitoring Network’s July Butterfly Counts. We’ll provide an overview of the survey process\, describe the role of a Volunteer Guide\, and share tips for leading a group outdoors. Participants will also be introduced to documenting butterfly species and best practices for data collection. Following the training\, we’ll connect you with the coordinator of a local count circle who will provide opportunities for field-based learning and will coordinate with you as a Volunteer Guide for the July Butterfly Count. \nYou don’t need to be an expert in butterfly identification to be a Volunteer Guide for the NH Butterfly Monitoring Network! Photographs can be taken to identify butterflies later on\, using the help of technology and the support of experts already involved in the counts. Volunteer Guides just need to be excited about butterflies\, willing to lead a small group outdoors\, and interested in learning more. \nThis training is part of a series of six webinars hosted by the NH Butterfly Monitoring Network\, a collaborative effort led by NH Fish & Game Department to engage volunteers in counting and identifying butterflies across New Hampshire. The series will provide information on butterflies in New Hampshire\, butterfly biology and identification\, and how to get involved with the NH Butterfly Monitoring Network. For more information and to register for the session(s) you want to attend (you don’t need to attend them all)\, visit naturegroupie.org. All butterfly enthusiasts are welcome\, with or without prior experience! \nContact:\nHeidi Holman\, NH Fish and Game: 603-271-3018\nHaley Andreozzi\, UNH Cooperative Extension: 603-862-5327\, haley.andreozzi@unh.edu \nPhoto by Anita Fernandez.
URL:https://nhaudubon.org/event/become-a-volunteer-guide/
LOCATION:NH
CATEGORIES:Butterfly Monitoring,Zoom Talk
ATTACH;FMTTYPE=image/jpeg:https://nhaudubon.org/wp-content/uploads/Butterfly-Field-Training_Scanning-for-butterflies_AFernandez_05.18.2023-1.jpg
END:VEVENT
BEGIN:VEVENT
DTSTART;TZID=America/New_York:20240410T190000
DTEND;TZID=America/New_York:20240410T203000
DTSTAMP:20260421T060055
CREATED:20240130T172108Z
LAST-MODIFIED:20240130T172108Z
UID:10002429-1712775600-1712781000@nhaudubon.org
SUMMARY:Exploring the Wonders of a Pollinator Garden through its Insects
DESCRIPTION:Join the NH Audubon Seacoast Chapter for their in person April program: Exploring the Wonders of a Pollinator Garden through its Insects. \nSometimes\, you don’t have to leave your backyard to explore the wonders of the natural world. Join Paul Lacourse on his quest to understand the ecology of his pollinator garden through its insects. He will introduce you to the diversity of the plants and insects that inhabit a pollinator garden and the role they play in it. It’s a beautiful and sometimes creepy look at an often overlooked world within an arm’s reach. \nPaul Lacourse taught Life Science\, including a Study of NH Birds course\, at Winnicunnet High School for 30 years. He is a former President/Vice President and field trip leader of the Seacoast Chapter of NH Audubon. Over the last 8 years\, he has immersed himself in creating and studying a very productive pollinator garden that incorporates many native plants. \nThe Seacoast Chapter meets monthly on the second Wednesday except the months of July and August unless there is a special program. Refreshments are served at 7pm and the meetings begin at 7:30pm unless otherwise noted (entrance doors locked at 7:45pm). The public is welcome free of charge. In person meetings are held at the Seacoast Science Center at Odiorne State Park\, Route 1A\, Rye\, NH. Wheelchair accessible. For more information on chapter programs\, please contact: Dan Hubbard\, (603) 332-4093 or danielhubbard@peoplepc.com. Cancellations will be posted on The Seacoast Chapter website.
URL:https://nhaudubon.org/event/pollinator-garden-through-insects-apr-2024/
LOCATION:Seacoast Science Center\, Odiorne State Park\, Route 1A\, Rye\, NH\, United States
CATEGORIES:Chapter Program
ATTACH;FMTTYPE=image/png:https://nhaudubon.org/wp-content/uploads/seacoast-chapter-logo.png
ORGANIZER;CN="Seacoast Chapter":MAILTO:danielhubbard@peoplepc.com
END:VEVENT
END:VCALENDAR