BEGIN:VCALENDAR
VERSION:2.0
PRODID:-//NH Audubon - ECPv6.15.11//NONSGML v1.0//EN
CALSCALE:GREGORIAN
METHOD:PUBLISH
X-ORIGINAL-URL:https://nhaudubon.org
X-WR-CALDESC:Events for NH Audubon
REFRESH-INTERVAL;VALUE=DURATION:PT1H
X-Robots-Tag:noindex
X-PUBLISHED-TTL:PT1H
BEGIN:VTIMEZONE
TZID:America/New_York
BEGIN:DAYLIGHT
TZOFFSETFROM:-0500
TZOFFSETTO:-0400
TZNAME:EDT
DTSTART:20230312T070000
END:DAYLIGHT
BEGIN:STANDARD
TZOFFSETFROM:-0400
TZOFFSETTO:-0500
TZNAME:EST
DTSTART:20231105T060000
END:STANDARD
BEGIN:DAYLIGHT
TZOFFSETFROM:-0500
TZOFFSETTO:-0400
TZNAME:EDT
DTSTART:20240310T070000
END:DAYLIGHT
BEGIN:STANDARD
TZOFFSETFROM:-0400
TZOFFSETTO:-0500
TZNAME:EST
DTSTART:20241103T060000
END:STANDARD
BEGIN:DAYLIGHT
TZOFFSETFROM:-0500
TZOFFSETTO:-0400
TZNAME:EDT
DTSTART:20250309T070000
END:DAYLIGHT
BEGIN:STANDARD
TZOFFSETFROM:-0400
TZOFFSETTO:-0500
TZNAME:EST
DTSTART:20251102T060000
END:STANDARD
END:VTIMEZONE
BEGIN:VEVENT
DTSTART;TZID=America/New_York:20240118T110000
DTEND;TZID=America/New_York:20240118T170000
DTSTAMP:20260421T074433
CREATED:20231114T160712Z
LAST-MODIFIED:20231114T160712Z
UID:10002274-1705575600-1705597200@nhaudubon.org
SUMMARY:Nature In Focus: Images of Flora\, Fauna\, and Landscapes of New England
DESCRIPTION:An Exhibition of Nature Photography by Bob Fleck\, N.H. Author and Photographer \n“In all things of Nature\, there is something of the marvelous.” – Aristotle \nPhoto one: Ruby-throated Hummingbird by Bob Fleck; Photo two: Pink Lady’s Slippers by Bob Fleck.\nThe selections of photography in this exhibition portray the artist’s interpretation of Aristotle’s ancient words. Curated from images photographed by Bob Fleck – Author and Photographer over the past decade\, the overarching theme of the exhibit is “finding the marvelous” available to us in the natural world and bringing it into focus via photography. We need not travel beyond New Hampshire and New England to be in awe. \nAs you ponder the images presented\, search for the details\, the “marvelous”\, the overall beauty that abounds in nature. Many instances presented by the photographer were but a moment in time\, yet a memory forever. The collection represents such a small fraction of what is discoverable\, if we only take the time to look and see (and sometimes lucky enough to capture) “something of the marvelous.”
URL:https://nhaudubon.org/event/nature-in-focus-jan-18-2024/
LOCATION:McLane Center\, 84 Silk Farm Road\, Concord\, NH\, 03301\, United States
CATEGORIES:Art Exhibit
ORGANIZER;CN="Lauren Kraemer":MAILTO:lkraemer@nhaudubon.org
END:VEVENT
BEGIN:VEVENT
DTSTART;TZID=America/New_York:20240118T190000
DTEND;TZID=America/New_York:20240118T203000
DTSTAMP:20260421T074433
CREATED:20240108T193843Z
LAST-MODIFIED:20240108T193843Z
UID:10002382-1705604400-1705609800@nhaudubon.org
SUMMARY:Ospreys of the Lakes Region: NH Audubon Lakes Region Chapter Program
DESCRIPTION:Join the Lakes Region Chapter of NH Audubon for this presentation by Iain MacLeod. Iain will provide a detailed overview of his 25+ years of monitoring nesting Ospreys in the NH Lakes Region. Since the first post-DDT nest was located in the region in 1997\, the population has grown and Iain has dedicated countless hours to finding new nests and following their annual outcomes. Now many pairs are choosing man-made structures – like cell towers and also now have to compete with the growing Bald Eagle Population. \nLPC is hosting this event for the Lakes Region Chapter of NH Audubon at The Loon Center (183 Lees Mill Road in Moultonborough\, NH) at 7 PM. \nPhoto by Iain MacLeod\, adult female osprey guarding her nest in the Lakes Region.
URL:https://nhaudubon.org/event/ospreys-of-the-lakes-region-nh-audubon-lakes-region-chapter-program/
LOCATION:The Loon Center\, 183 Lees Mill Road\, Moultonborough\, NH\, 03254\, United States
CATEGORIES:Chapter Program
ATTACH;FMTTYPE=image/jpeg:https://nhaudubon.org/wp-content/uploads/iain-macleod-osprey.jpg
END:VEVENT
END:VCALENDAR