BEGIN:VCALENDAR
VERSION:2.0
PRODID:-//NH Audubon - ECPv6.15.11//NONSGML v1.0//EN
CALSCALE:GREGORIAN
METHOD:PUBLISH
X-WR-CALNAME:NH Audubon
X-ORIGINAL-URL:https://nhaudubon.org
X-WR-CALDESC:Events for NH Audubon
REFRESH-INTERVAL;VALUE=DURATION:PT1H
X-Robots-Tag:noindex
X-PUBLISHED-TTL:PT1H
BEGIN:VTIMEZONE
TZID:America/New_York
BEGIN:DAYLIGHT
TZOFFSETFROM:-0500
TZOFFSETTO:-0400
TZNAME:EDT
DTSTART:20220313T070000
END:DAYLIGHT
BEGIN:STANDARD
TZOFFSETFROM:-0400
TZOFFSETTO:-0500
TZNAME:EST
DTSTART:20221106T060000
END:STANDARD
BEGIN:DAYLIGHT
TZOFFSETFROM:-0500
TZOFFSETTO:-0400
TZNAME:EDT
DTSTART:20230312T070000
END:DAYLIGHT
BEGIN:STANDARD
TZOFFSETFROM:-0400
TZOFFSETTO:-0500
TZNAME:EST
DTSTART:20231105T060000
END:STANDARD
BEGIN:DAYLIGHT
TZOFFSETFROM:-0500
TZOFFSETTO:-0400
TZNAME:EDT
DTSTART:20240310T070000
END:DAYLIGHT
BEGIN:STANDARD
TZOFFSETFROM:-0400
TZOFFSETTO:-0500
TZNAME:EST
DTSTART:20241103T060000
END:STANDARD
END:VTIMEZONE
BEGIN:VEVENT
DTSTART;TZID=America/New_York:20231108T110000
DTEND;TZID=America/New_York:20231108T170000
DTSTAMP:20260423T125028
CREATED:20230921T174930Z
LAST-MODIFIED:20230921T174930Z
UID:10002217-1699441200-1699462800@nhaudubon.org
SUMMARY:The Balm for the Wounds We Bear Exhibit
DESCRIPTION:Visit the McLane Center to see “The Balm for the Wounds We Bear” exhibit by Kathleen H. Peters! Kathleen works with many mediums as an artist – such as pottery\, pastels\, paint\, cement\, wood\, metal\, and glass. This exhibit showcases her paintings and appreciation for the beauty of simple things. Kathleen shares that her technical background in engineering has lead to her understanding material properties of the mediums she works with\, allowing her to be precise and produce high quality works of art. She believes this skill allows her to fulfill her “greatest desire: to enrich the lives of others.” This exhibit will be in Concord from September 20\, 2023 to December 20\, 2023. \nThe Rookery by Kathleen Peters.\nVisit Kathleen’s website for more information on her background and art. \n 
URL:https://nhaudubon.org/event/the-balm-for-the-wounds-we-bear-exhibit-november-8-2023/
LOCATION:McLane Center\, 84 Silk Farm Road\, Concord\, NH\, 03301\, United States
CATEGORIES:Art Exhibit
ORGANIZER;CN="Michelle Varga":MAILTO:mvarga@nhaudubon.org
END:VEVENT
BEGIN:VEVENT
DTSTART;TZID=America/New_York:20231108T190000
DTEND;TZID=America/New_York:20231108T203000
DTSTAMP:20260423T125028
CREATED:20230906T141507Z
LAST-MODIFIED:20230906T141507Z
UID:10002172-1699470000-1699475400@nhaudubon.org
SUMMARY:Something Wild Stories
DESCRIPTION:Join the NH Audubon Seacoast Chapter for their November in-person program: “Something Wild” Stories \nNew Hampshire Public Radio’s (NHPR) “Something Wild” has been exploring the intricacies of nature in NH for 25 years! Chris Martin and Dave Anderson have teamed up as the show’s co-hosts for the past 15 years. Together\, in short radio essays\, these two have taken listeners to ‘see’ some of the state’s most interesting birds\, explored many unique Granite State habitats and asked lots of local nature experts how they were first bitten by the nature bug. Join us for a peek behind the recording studio curtain. It’s sure to be an evening filled with several true stories and lots of tall tales! \nChris Martin is a Senior Biologist with NH Audubon. He has coordinated various raptor monitoring and management projects for Audubon for over 33 years\, working with volunteers and with state and federal partners to aid the recovery of Bald Eagles\, Peregrine Falcons\, Northern Harriers and Ospreys. He has also been Audubon’s voice on NHPR’s Something Wild since 2009. Chris started out wanting to be a forester\, but was always distracted by birds and eventually they became the focus of his professional career. \nDave Anderson is Senior Director of Education for the Society for the Protection of NH Forests. He joined the Forest Society in 1990. He is responsible for design\, development and delivery of conservation education programs. He is a well-known naturalist\, guiding field trips on Forest Society properties and teaching about forest ecology\, wildlife habitats and land conservation. Anderson is a co-author of the “Forest Journal” column in the statewide NH Sunday News. He has co-hosted NHPR’s Something Wild since 2008. He knows his birds well\, but knows his trees even better! \nIn person meetings are held at the Seacoast Science Center at Odiorne State Park\, Route 1A\, Rye\, NH. Wheelchair accessible. For more information on chapter programs\, please contact: Dan Hubbard. Cancellations will be posted on the Seacoast Chapter website. To attend remotely\, please register in advance for the Zoom program at the chapter website. Zoom programs begin at 7:30 pm\, but feel free to sign on early after 7:15 pm to socialize. You can register right up through the start time. After registering\, you will receive a confirmation email containing information about joining the program.
URL:https://nhaudubon.org/event/something-wild-stores-november-2023/
LOCATION:Seacoast Science Center\, Odiorne State Park\, Route 1A\, Rye\, NH\, United States
CATEGORIES:Chapter Program
ATTACH;FMTTYPE=image/png:https://nhaudubon.org/wp-content/uploads/seacoast-chapter-logo.png
ORGANIZER;CN="Seacoast Chapter":MAILTO:danielhubbard@peoplepc.com
END:VEVENT
END:VCALENDAR