BEGIN:VCALENDAR
VERSION:2.0
PRODID:-//NH Audubon - ECPv6.15.11//NONSGML v1.0//EN
CALSCALE:GREGORIAN
METHOD:PUBLISH
X-ORIGINAL-URL:https://nhaudubon.org
X-WR-CALDESC:Events for NH Audubon
REFRESH-INTERVAL;VALUE=DURATION:PT1H
X-Robots-Tag:noindex
X-PUBLISHED-TTL:PT1H
BEGIN:VTIMEZONE
TZID:America/New_York
BEGIN:DAYLIGHT
TZOFFSETFROM:-0500
TZOFFSETTO:-0400
TZNAME:EDT
DTSTART:20220313T070000
END:DAYLIGHT
BEGIN:STANDARD
TZOFFSETFROM:-0400
TZOFFSETTO:-0500
TZNAME:EST
DTSTART:20221106T060000
END:STANDARD
BEGIN:DAYLIGHT
TZOFFSETFROM:-0500
TZOFFSETTO:-0400
TZNAME:EDT
DTSTART:20230312T070000
END:DAYLIGHT
BEGIN:STANDARD
TZOFFSETFROM:-0400
TZOFFSETTO:-0500
TZNAME:EST
DTSTART:20231105T060000
END:STANDARD
BEGIN:DAYLIGHT
TZOFFSETFROM:-0500
TZOFFSETTO:-0400
TZNAME:EDT
DTSTART:20240310T070000
END:DAYLIGHT
BEGIN:STANDARD
TZOFFSETFROM:-0400
TZOFFSETTO:-0500
TZNAME:EST
DTSTART:20241103T060000
END:STANDARD
END:VTIMEZONE
BEGIN:VEVENT
DTSTART;TZID=America/New_York:20231010T100000
DTEND;TZID=America/New_York:20231010T140000
DTSTAMP:20260423T070309
CREATED:20231005T182232Z
LAST-MODIFIED:20231005T182444Z
UID:10002258-1696932000-1696946400@nhaudubon.org
SUMMARY:Seacoast Chapter Field Trip - Hawk Watch at Pack Monadnock
DESCRIPTION:Join Phil Brown\, the Harris Center’s Bird Conservation Director\, for a half day of hawk watching at the Pack Monadnock Raptor Observatory in Peterborough. We will hope for a good mid-season migration flight which\, in mid-October\, can include several species of hawks and falcons as well as flocks of migrant Canada Geese\, songbirds\, and even scoters! \nLearn hawk watching ID tips from the experts and learn about the different migration strategies and behaviors of up to 15 migratory raptor species. During a visit to the hawk watch\, you’ll experience NH’s birding culture and immerse yourself in a long-standing community science project that is a partnership between the Harris Center and NH Audubon. \nMeet at the Observatory for the 10 am start time\, and stay as long as you’d like. The park usually closes by 4 pm in mid-October. Weather conditions may cancel. \nState park reservations with Miller State Park and a small fee are required for visiting Pack Monadnock. For more information on park fees and reservations\, as well as accessibility\, visit here. For more information on this outing\, contact Phil Brown at brown@harriscenter.org. \nThis field trip will be limited to 15 participants. As the event nears\, visit the Seacoast Chapter site for more information and to sign-up.
URL:https://nhaudubon.org/event/seacoast-chapter-field-trip-hawk-walk-pack-monadnock-october-10-2023/
LOCATION:NH
CATEGORIES:Chapter Field Trip
ATTACH;FMTTYPE=image/png:https://nhaudubon.org/wp-content/uploads/seacoast-chapter-logo.png
END:VEVENT
BEGIN:VEVENT
DTSTART;TZID=America/New_York:20231010T110000
DTEND;TZID=America/New_York:20231010T170000
DTSTAMP:20260423T070309
CREATED:20230921T171806Z
LAST-MODIFIED:20230921T174032Z
UID:10002199-1696935600-1696957200@nhaudubon.org
SUMMARY:The Balm for the Wounds We Bear Exhibit
DESCRIPTION:Visit the McLane Center to see “The Balm for the Wounds We Bear” exhibit by Kathleen H. Peters! Kathleen works with many mediums as an artist – such as pottery\, pastels\, paint\, cement\, wood\, metal\, and glass. This exhibit showcases her paintings and appreciation for the beauty of simple things. Kathleen shares that her technical background in engineering has lead to her understanding material properties of the mediums she works with\, allowing her to be precise and produce high quality works of art. She believes this skill allows her to fulfill her “greatest desire: to enrich the lives of others.” This exhibit will be in Concord from September 20\, 2023 to December 20\, 2023. \nThe Rookery by Kathleen Peters.\nVisit Kathleen’s website for more information on her background and art. \n 
URL:https://nhaudubon.org/event/the-balm-for-the-wounds-we-bear-exhibit-october-10-2023/
LOCATION:McLane Center\, 84 Silk Farm Road\, Concord\, NH\, 03301\, United States
CATEGORIES:Art Exhibit
ORGANIZER;CN="Michelle Varga":MAILTO:mvarga@nhaudubon.org
END:VEVENT
END:VCALENDAR