BEGIN:VCALENDAR
VERSION:2.0
PRODID:-//NH Audubon - ECPv6.15.11//NONSGML v1.0//EN
CALSCALE:GREGORIAN
METHOD:PUBLISH
X-WR-CALNAME:NH Audubon
X-ORIGINAL-URL:https://nhaudubon.org
X-WR-CALDESC:Events for NH Audubon
REFRESH-INTERVAL;VALUE=DURATION:PT1H
X-Robots-Tag:noindex
X-PUBLISHED-TTL:PT1H
BEGIN:VTIMEZONE
TZID:America/New_York
BEGIN:DAYLIGHT
TZOFFSETFROM:-0500
TZOFFSETTO:-0400
TZNAME:EDT
DTSTART:20220313T070000
END:DAYLIGHT
BEGIN:STANDARD
TZOFFSETFROM:-0400
TZOFFSETTO:-0500
TZNAME:EST
DTSTART:20221106T060000
END:STANDARD
BEGIN:DAYLIGHT
TZOFFSETFROM:-0500
TZOFFSETTO:-0400
TZNAME:EDT
DTSTART:20230312T070000
END:DAYLIGHT
BEGIN:STANDARD
TZOFFSETFROM:-0400
TZOFFSETTO:-0500
TZNAME:EST
DTSTART:20231105T060000
END:STANDARD
BEGIN:DAYLIGHT
TZOFFSETFROM:-0500
TZOFFSETTO:-0400
TZNAME:EDT
DTSTART:20240310T070000
END:DAYLIGHT
BEGIN:STANDARD
TZOFFSETFROM:-0400
TZOFFSETTO:-0500
TZNAME:EST
DTSTART:20241103T060000
END:STANDARD
END:VTIMEZONE
BEGIN:VEVENT
DTSTART;TZID=America/New_York:20231006T110000
DTEND;TZID=America/New_York:20231006T170000
DTSTAMP:20260422T024358
CREATED:20230921T171707Z
LAST-MODIFIED:20230921T173941Z
UID:10002198-1696590000-1696611600@nhaudubon.org
SUMMARY:The Balm for the Wounds We Bear Exhibit
DESCRIPTION:Visit the McLane Center to see “The Balm for the Wounds We Bear” exhibit by Kathleen H. Peters! Kathleen works with many mediums as an artist – such as pottery\, pastels\, paint\, cement\, wood\, metal\, and glass. This exhibit showcases her paintings and appreciation for the beauty of simple things. Kathleen shares that her technical background in engineering has lead to her understanding material properties of the mediums she works with\, allowing her to be precise and produce high quality works of art. She believes this skill allows her to fulfill her “greatest desire: to enrich the lives of others.” This exhibit will be in Concord from September 20\, 2023 to December 20\, 2023. \nThe Rookery by Kathleen Peters.\nVisit Kathleen’s website for more information on her background and art. \n 
URL:https://nhaudubon.org/event/the-balm-for-the-wounds-we-bear-exhibit-october-6-2023/
LOCATION:McLane Center\, 84 Silk Farm Road\, Concord\, NH\, 03301\, United States
CATEGORIES:Art Exhibit
ORGANIZER;CN="Michelle Varga":MAILTO:mvarga@nhaudubon.org
END:VEVENT
BEGIN:VEVENT
DTSTART;TZID=America/New_York:20231006T200000
DTEND;TZID=America/New_York:20231006T210000
DTSTAMP:20260422T024358
CREATED:20230815T171656Z
LAST-MODIFIED:20230816T190340Z
UID:10002159-1696622400-1696626000@nhaudubon.org
SUMMARY:Introduction to Pelagic Wildlife
DESCRIPTION:Join NH Audubon for a deep dive into pelagic wildlife watching! The word pelagic references the ocean. In this webinar\, we will focus on birds often seen at sea. We’ll discuss frequent and hoped-for sightings associated with NH Audubon’s biannual Pelagic Trip\, which sets sail every spring and fall. Whether you’re joining us on the boat this fall\, or planning a seafaring adventure of your own\, this webinar will teach you the basics of identifying common pelagic birds (and whales) found off NH’s coast.   \nThis workshop is free to all Pelagic Trip attendees.  \nPresenter:\nNH Audubon volunteer and avid birder Jon Woolf will give an introductory webinar on Friday\, October 6th\, 8pm-9pm   \n For mobility\, sensory\, behavioral\, or other accessibility accommodations\, please contact Massabesic Center Director Kimmie Whiteman \nCost:\nFREE for registered Pelagic Trip attendees\n$5 for NHA Members \n$6 for Non-members (Join or renew your membership today! Not sure of your membership status? Email our member services department or call (603) 224-9909 x310.)  \nRegistration Required.\nNH Audubon’s ticket system utilizes PayPal to process payments. Users are not required to use PayPal to check out; a guest option is provided. PayPal is a trusted way to pay online.   \nZoom links for the webinar will be sent to all participants one day before the webinar\, and again one hour before the webinar. \n  \nPhoto: Great Shearwater\, Amanda Boyd\, USFWS 
URL:https://nhaudubon.org/event/intro-to-pelagic-fall-2023/
LOCATION:Zoom Link\, United States
CATEGORIES:Featured,Field Trip,Presentation/Lecture,Webinar,Zoom Talk
ATTACH;FMTTYPE=image/jpeg:https://nhaudubon.org/wp-content/uploads/Greater_Shearwater-Amanda-Boyd-USFWS-PD-e1712080077209.jpg
ORGANIZER;CN="Kimmie Whiteman":MAILTO:kwhiteman@nhaudubon.org
END:VEVENT
END:VCALENDAR