BEGIN:VCALENDAR
VERSION:2.0
PRODID:-//NH Audubon - ECPv6.15.11//NONSGML v1.0//EN
CALSCALE:GREGORIAN
METHOD:PUBLISH
X-WR-CALNAME:NH Audubon
X-ORIGINAL-URL:https://nhaudubon.org
X-WR-CALDESC:Events for NH Audubon
REFRESH-INTERVAL;VALUE=DURATION:PT1H
X-Robots-Tag:noindex
X-PUBLISHED-TTL:PT1H
BEGIN:VTIMEZONE
TZID:America/New_York
BEGIN:DAYLIGHT
TZOFFSETFROM:-0500
TZOFFSETTO:-0400
TZNAME:EDT
DTSTART:20220313T070000
END:DAYLIGHT
BEGIN:STANDARD
TZOFFSETFROM:-0400
TZOFFSETTO:-0500
TZNAME:EST
DTSTART:20221106T060000
END:STANDARD
BEGIN:DAYLIGHT
TZOFFSETFROM:-0500
TZOFFSETTO:-0400
TZNAME:EDT
DTSTART:20230312T070000
END:DAYLIGHT
BEGIN:STANDARD
TZOFFSETFROM:-0400
TZOFFSETTO:-0500
TZNAME:EST
DTSTART:20231105T060000
END:STANDARD
BEGIN:DAYLIGHT
TZOFFSETFROM:-0500
TZOFFSETTO:-0400
TZNAME:EDT
DTSTART:20240310T070000
END:DAYLIGHT
BEGIN:STANDARD
TZOFFSETFROM:-0400
TZOFFSETTO:-0500
TZNAME:EST
DTSTART:20241103T060000
END:STANDARD
END:VTIMEZONE
BEGIN:VEVENT
DTSTART;TZID=America/New_York:20230928T110000
DTEND;TZID=America/New_York:20230928T170000
DTSTAMP:20260421T175334
CREATED:20230921T162552Z
LAST-MODIFIED:20230921T163110Z
UID:10002193-1695898800-1695920400@nhaudubon.org
SUMMARY:The Balm for the Wounds We Bear Exhibit
DESCRIPTION:Visit the McLane Center to see “The Balm for the Wounds We Bear” exhibit by Kathleen H. Peters! Kathleen works with many mediums as an artist – such as pottery\, pastels\, paint\, cement\, wood\, metal\, and glass. This exhibit showcases her paintings and appreciation for the beauty of simple things. Kathleen shares that her technical background in engineering has lead to her understanding materials properties of the mediums she works with\, allowing her to be precise and produce high quality works of art. She believes this skill allows her to fulfill her “greatest desire: to enrich the lives of others.” This exhibit will be in Concord from September 20\, 2023 to December 20\, 2023. \nVisit Kathleen’s website for more information on her background and art. \nThe Rookery by Kathleen Peters.\n 
URL:https://nhaudubon.org/event/the-balm-for-the-wounds-we-bear-exhibit-september-28-2023/
LOCATION:McLane Center\, 84 Silk Farm Road\, Concord\, NH\, 03301\, United States
CATEGORIES:Art Exhibit
ORGANIZER;CN="Michelle Varga":MAILTO:mvarga@nhaudubon.org
END:VEVENT
BEGIN:VEVENT
DTSTART;TZID=America/New_York:20230928T170000
DTEND;TZID=America/New_York:20230928T183000
DTSTAMP:20260421T175334
CREATED:20230816T205431Z
LAST-MODIFIED:20230913T152514Z
UID:10002162-1695920400-1695925800@nhaudubon.org
SUMMARY:Composting for Home Gardeners Workshop
DESCRIPTION:Composting is the process of recycling organic debris into material that both reduces items in the waste stream and creates a useful garden product. Participants will gain information about the science of composting\, how to compost successfully and how to create and use their own compost system. \nThis workshop will include indoor and outdoor presentations and display the compost station at the Demonstration Garden. Dress for a short walk over grassy\, flat\, but uneven terrain. Bring garden gloves if you have them. \nPresenters: UNH Extension Advanced Master Gardener Ron Trexler and Master Gardener Tabor Browder will co-lead this workshop. \nCost:  \n$10 for NH Audubon members and UNH Extension Master Gardeners\n$15 for non-members (Join or renew your membership today! Not sure of your membership status? Email our member services department or call (603) 224-9909 x310.) \nRegister here. Registration required by September 26\, 2023 \nFor accessibility requests\, please contact Massabesic Center Director\, Kimmie Whiteman via email. \nThis program is brought to you through an ongoing partnership between New Hampshire Audubon and University of New Hampshire Extension’s Master Gardener Program. The Demonstration Gardens at NH Audubon’s Massabesic Center provide a place for sharing best practices in eco-friendly home and community gardening\, to benefit human health and well-being\, and wildlife habitat.
URL:https://nhaudubon.org/event/composting-workshop-9-28-2023/
LOCATION:Massabesic Center\, 26 Audubon Way\, Auburn\, NH\, United States
CATEGORIES:Demonstration Garden,Featured,Hands-on workshop,Presentation/Lecture
ATTACH;FMTTYPE=image/jpeg:https://nhaudubon.org/wp-content/uploads/3-bin-compost-unh-e1692217371621.jpg
ORGANIZER;CN="Kimmie Whiteman":MAILTO:kwhiteman@nhaudubon.org
END:VEVENT
END:VCALENDAR