BEGIN:VCALENDAR
VERSION:2.0
PRODID:-//NH Audubon - ECPv6.15.11//NONSGML v1.0//EN
CALSCALE:GREGORIAN
METHOD:PUBLISH
X-ORIGINAL-URL:https://nhaudubon.org
X-WR-CALDESC:Events for NH Audubon
REFRESH-INTERVAL;VALUE=DURATION:PT1H
X-Robots-Tag:noindex
X-PUBLISHED-TTL:PT1H
BEGIN:VTIMEZONE
TZID:America/New_York
BEGIN:DAYLIGHT
TZOFFSETFROM:-0500
TZOFFSETTO:-0400
TZNAME:EDT
DTSTART:20220313T070000
END:DAYLIGHT
BEGIN:STANDARD
TZOFFSETFROM:-0400
TZOFFSETTO:-0500
TZNAME:EST
DTSTART:20221106T060000
END:STANDARD
BEGIN:DAYLIGHT
TZOFFSETFROM:-0500
TZOFFSETTO:-0400
TZNAME:EDT
DTSTART:20230312T070000
END:DAYLIGHT
BEGIN:STANDARD
TZOFFSETFROM:-0400
TZOFFSETTO:-0500
TZNAME:EST
DTSTART:20231105T060000
END:STANDARD
BEGIN:DAYLIGHT
TZOFFSETFROM:-0500
TZOFFSETTO:-0400
TZNAME:EDT
DTSTART:20240310T070000
END:DAYLIGHT
BEGIN:STANDARD
TZOFFSETFROM:-0400
TZOFFSETTO:-0500
TZNAME:EST
DTSTART:20241103T060000
END:STANDARD
END:VTIMEZONE
BEGIN:VEVENT
DTSTART;TZID=America/New_York:20230916T100000
DTEND;TZID=America/New_York:20230916T160000
DTSTAMP:20260421T160855
CREATED:20230728T111358Z
LAST-MODIFIED:20230905T133311Z
UID:10001044-1694858400-1694880000@nhaudubon.org
SUMMARY:109th Member Celebration and Annual Meeting
DESCRIPTION:NH Audubon’s 109th Member Celebration and Annual Meeting will take place on Saturday\, September 16\, 2023 from 10am-4pm. \nThe meeting will be held at NH Audubon’s Massabesic Center in Auburn. **The Nature Shop will be open all day from 9:30am-4pm** \nRegister below\, and choose your activity for the morning. Visit the Member Celebration & Annual Meeting webpage for full details. \nRegistration deadline: September 5. \n  \nSpecial thanks to our Annual Meeting sponsors:         \nPhoto: President Doug Bechtel leads a nature walk during a past annual meeting at Massabesic Center (Dyanna Smith).
URL:https://nhaudubon.org/event/member-celebration-and-annual-meeting/
LOCATION:Massabesic Center\, 26 Audubon Way\, Auburn\, NH\, United States
CATEGORIES:Featured
ATTACH;FMTTYPE=image/jpeg:https://nhaudubon.org/wp-content/uploads/Dougs-walk-at-MAC-Annual-Mtg-2021-DSmith.jpg
ORGANIZER;CN="Anita Fernandez":MAILTO:afernandez@nhaudubon.org
END:VEVENT
END:VCALENDAR