BEGIN:VCALENDAR
VERSION:2.0
PRODID:-//NH Audubon - ECPv6.15.11//NONSGML v1.0//EN
CALSCALE:GREGORIAN
METHOD:PUBLISH
X-ORIGINAL-URL:https://nhaudubon.org
X-WR-CALDESC:Events for NH Audubon
REFRESH-INTERVAL;VALUE=DURATION:PT1H
X-Robots-Tag:noindex
X-PUBLISHED-TTL:PT1H
BEGIN:VTIMEZONE
TZID:America/New_York
BEGIN:DAYLIGHT
TZOFFSETFROM:-0500
TZOFFSETTO:-0400
TZNAME:EDT
DTSTART:20220313T070000
END:DAYLIGHT
BEGIN:STANDARD
TZOFFSETFROM:-0400
TZOFFSETTO:-0500
TZNAME:EST
DTSTART:20221106T060000
END:STANDARD
BEGIN:DAYLIGHT
TZOFFSETFROM:-0500
TZOFFSETTO:-0400
TZNAME:EDT
DTSTART:20230312T070000
END:DAYLIGHT
BEGIN:STANDARD
TZOFFSETFROM:-0400
TZOFFSETTO:-0500
TZNAME:EST
DTSTART:20231105T060000
END:STANDARD
BEGIN:DAYLIGHT
TZOFFSETFROM:-0500
TZOFFSETTO:-0400
TZNAME:EDT
DTSTART:20240310T070000
END:DAYLIGHT
BEGIN:STANDARD
TZOFFSETFROM:-0400
TZOFFSETTO:-0500
TZNAME:EST
DTSTART:20241103T060000
END:STANDARD
END:VTIMEZONE
BEGIN:VEVENT
DTSTART;VALUE=DATE:20230831
DTEND;VALUE=DATE:20230904
DTSTAMP:20260421T194524
CREATED:20230726T153624Z
LAST-MODIFIED:20230726T153624Z
UID:10002133-1693440000-1693785599@nhaudubon.org
SUMMARY:Isles of Shoals\, Birding Trip 2
DESCRIPTION:Trip 2: August 31-September 3 (3 nights) \nExperience the magic of the Isles of Shoals in early fall. Spending nights on Appledore Island will give us the opportunity to explore the diversity of the islands. Over 200 species of songbirds\, seabirds\, and waterfowl occur on Appledore as migrants – making it a perfect spot to observe fall movements. \nThe Appledore Island Migration Banding Station will be in operation and we will have the chance to observe songbird migrants up close. Neighboring White and Seavey Islands are home to a thriving Common\, Roseate\, and Arctic tern colony after restoration efforts were initiated by NH Audubon in 1997. Most of the terns will have started their southern journey\, but we will take a boat tour of the islands\, hear project details\, and land if possible. \nIn addition to all the spectacular birding that the islands have to offer\, we will take time to explore other aspects of Appledore\, Shoals Marine Laboratory\, and Celia Thaxter’s garden. Activities may include exploring the intertidal\, an island history walk\, or learning about SML’s innovative research programs focused on understanding and sustaining the marine environment. \nRegistration and details here.
URL:https://nhaudubon.org/event/isles-of-shoals-birding-trip-2-2023/
LOCATION:NH
ATTACH;FMTTYPE=image/jpeg:https://nhaudubon.org/wp-content/uploads/Isles-of-Shoals_DSmith-e1690383883315.jpg
END:VEVENT
BEGIN:VEVENT
DTSTART;TZID=America/New_York:20230903T130000
DTEND;TZID=America/New_York:20230903T150000
DTSTAMP:20260421T194524
CREATED:20230719T211954Z
LAST-MODIFIED:20230725T135814Z
UID:10002115-1693746000-1693753200@nhaudubon.org
SUMMARY:Weekly Sanctuary Explorers Program - September 3
DESCRIPTION:Sundays: July 23 – September 10\, 2023. \nLocation: Bear Mountain Wildlife Sanctuary\, please meet at Ash Cottage. \nDiscover the many charming trails around the three Newfound Audubon sanctuaries and conservation properties each week\, as a NH Audubon Naturalist leads intrepid families to summits with spectacular views and along streams and wetlands. RSVP is required (see below) as group size is limited to 15 to follow Leave No Trace practices. Participants should expect moderate to steep terrain. \nThis program will happen rain or shine (except in the case of thunderstorms).
URL:https://nhaudubon.org/event/weekly-sanctuary-explorers-program-09-03-2023/
LOCATION:Ash Cottage\, 50 North Shore Road\, Hebron\, NH\, 03241\, United States
ATTACH;FMTTYPE=image/jpeg:https://nhaudubon.org/wp-content/uploads/bear-mountain-e1690293486107.jpg
ORGANIZER;CN="Devin Guilfoyle":MAILTO:dguilfoyle@nhaudubon.org
END:VEVENT
END:VCALENDAR