BEGIN:VCALENDAR
VERSION:2.0
PRODID:-//NH Audubon - ECPv6.15.11//NONSGML v1.0//EN
CALSCALE:GREGORIAN
METHOD:PUBLISH
X-WR-CALNAME:NH Audubon
X-ORIGINAL-URL:https://nhaudubon.org
X-WR-CALDESC:Events for NH Audubon
REFRESH-INTERVAL;VALUE=DURATION:PT1H
X-Robots-Tag:noindex
X-PUBLISHED-TTL:PT1H
BEGIN:VTIMEZONE
TZID:America/New_York
BEGIN:DAYLIGHT
TZOFFSETFROM:-0500
TZOFFSETTO:-0400
TZNAME:EDT
DTSTART:20220313T070000
END:DAYLIGHT
BEGIN:STANDARD
TZOFFSETFROM:-0400
TZOFFSETTO:-0500
TZNAME:EST
DTSTART:20221106T060000
END:STANDARD
BEGIN:DAYLIGHT
TZOFFSETFROM:-0500
TZOFFSETTO:-0400
TZNAME:EDT
DTSTART:20230312T070000
END:DAYLIGHT
BEGIN:STANDARD
TZOFFSETFROM:-0400
TZOFFSETTO:-0500
TZNAME:EST
DTSTART:20231105T060000
END:STANDARD
BEGIN:DAYLIGHT
TZOFFSETFROM:-0500
TZOFFSETTO:-0400
TZNAME:EDT
DTSTART:20240310T070000
END:DAYLIGHT
BEGIN:STANDARD
TZOFFSETFROM:-0400
TZOFFSETTO:-0500
TZNAME:EST
DTSTART:20241103T060000
END:STANDARD
END:VTIMEZONE
BEGIN:VEVENT
DTSTART;VALUE=DATE:20230829
DTEND;VALUE=DATE:20230901
DTSTAMP:20260421T175307
CREATED:20230726T151455Z
LAST-MODIFIED:20230726T153739Z
UID:10002132-1693267200-1693526399@nhaudubon.org
SUMMARY:Isles of Shoals\, Birding Trip 1
DESCRIPTION:Trip 1: August 29-31 (2 nights) \nExperience the magic of the Isles of Shoals in early fall. Spending nights on Appledore Island will give us the opportunity to explore the diversity of the islands. Over 200 species of songbirds\, seabirds\, and waterfowl occur on Appledore as migrants – making it a perfect spot to observe fall movements. \nThe Appledore Island Migration Banding Station will be in operation and we will have the chance to observe songbird migrants up close. Neighboring White and Seavey Islands are home to a thriving Common\, Roseate\, and Arctic tern colony after restoration efforts were initiated by NH Audubon in 1997. Most of the terns will have started their southern journey\, but we will take a boat tour of the islands\, hear project details\, and land if possible. \nIn addition to all the spectacular birding that the islands have to offer\, we will take time to explore other aspects of Appledore\, Shoals Marine Laboratory\, and Celia Thaxter’s garden. Activities may include exploring the intertidal\, an island history walk\, or learning about SML’s innovative research programs focused on understanding and sustaining the marine environment. \nRegistration and details here.
URL:https://nhaudubon.org/event/isles-of-shoals-birding-trip-1-2023/
LOCATION:NH
ATTACH;FMTTYPE=image/jpeg:https://nhaudubon.org/wp-content/uploads/Isles-of-Shoals_DSmith-e1690383883315.jpg
END:VEVENT
BEGIN:VEVENT
DTSTART;TZID=America/New_York:20230830T110000
DTEND;TZID=America/New_York:20230830T170000
DTSTAMP:20260421T175307
CREATED:20230810T182957Z
LAST-MODIFIED:20230810T182957Z
UID:10002145-1693393200-1693414800@nhaudubon.org
SUMMARY:Portraits in Color Exhibit
DESCRIPTION:Erin Primiano has been painting since an early age but her passion firmly took hold after she discovered birdwatching. Her love of birds and painting merged naturally and continued to grow as inspiration appeared at every turn. Erin seeks to unite color and joy with portrait style techniques utilizing acrylic paint on canvas. \nErin resides in Hancock\, NH with her two dogs. She enjoys traveling\, hiking\, gardening and simply being in nature. Follow Erin on Instagram or visit her website for more details.
URL:https://nhaudubon.org/event/portraits-in-color-exhibit-8-30-23/
LOCATION:McLane Center\, 84 Silk Farm Road\, Concord\, NH\, 03301\, United States
CATEGORIES:Art Exhibit
ATTACH;FMTTYPE=image/jpeg:https://nhaudubon.org/wp-content/uploads/FB90866C-4DEE-4E31-8D5A-B68F6E710A54-e1691690971849.jpg
ORGANIZER;CN="Michelle Varga":MAILTO:mvarga@nhaudubon.org
END:VEVENT
BEGIN:VEVENT
DTSTART;TZID=America/New_York:20230830T160000
DTEND;TZID=America/New_York:20230830T180000
DTSTAMP:20260421T175307
CREATED:20221117T165605Z
LAST-MODIFIED:20230626T183032Z
UID:10001224-1693411200-1693418400@nhaudubon.org
SUMMARY:Professional Development - Back to School Gardening\, Part 2
DESCRIPTION:Join Richard Hodges from ReTreeUs for the last of a two-part workshop to discover a novel way to grow schoolyard gardens. In these workshops\, we’ll talk about sheet mulching techniques\, succession planting\, and building organic matter with an easy-to-do method. You’ll also learn the basic considerations and steps for planning and starting a schoolyard vegetable garden. UNH-Extension Master Gardeners will be on site to talk specifics about pollinator gardens\, as well. \nIn this session\, we will harvest the crops that were planted in the “Back to School Garden” that we established in the spring session. We’ll transplant lettuce\, spinach and kale seedlings for the fall. We will install row cover\, with mini hoops\, to extend the growing season and we’ll discuss various approaches to fall gardens. \nAfter the workshop\, we’ll see these methods and more in action while touring the successful Teaching and Demonstration Garden\, which is maintained through a partnership between NH Audubon and UNH-Extension\, and provides the public with research-based\, sustainable gardening information and skills that benefit our environment for wildlife and for people. \nThis program will take place outdoors rain or shine. In the event of severe thunderstorms\, we will postpone.  Dress for a short walk in grassy uneven terrain\, with the intention to get hands-on with soil and plants. Please bring gloves; we will have some available on site if you need to borrow a pair. \nCost: $10 for NH Audubon members $15 for non-members (Join or renew your membership today! Not sure of your membership status? Email our member services department or call (603) 224-9909 x310.)  \nAdvance registration required for Part 2 by August 27th. \nAll ticket purchases will generate a printable ticket with a QR code. In-person check-in is done via sign-up list; please keep the printable ticket with QR code for your records.   \nPayPal Disclaimer:  \nOur ticket system utilizes NH Audubon’s PayPal account to facilitate sales. Registrants are not required to make a PayPal account to check out; a “guest” option is available. \nFor accessibility requests\, please contact Massabesic Center Director\, Kimmie Whiteman\, at kwhiteman@nhaudubon.org. \nDon’t miss Part 1\, taking place virtually on July 10th\, 3:00pm – 4:00pm! \nAll participants who register for Part 2 before July 10th\, will receive free access to the live webinar. Participants who register after July 10th will be provided with free access to the webinar recording.  Please don’t pay twice! \nPhoto: Image from ReTreeUs showing a healthy garden grown with sheet-mulching techniques.
URL:https://nhaudubon.org/event/school-gardening2-aug30-2023/
LOCATION:Massabesic Center\, 26 Audubon Way\, Auburn\, NH\, United States
CATEGORIES:Demonstration Garden,Featured,Hands-on workshop,Pollinators,Presentation/Lecture
ATTACH;FMTTYPE=image/jpeg:https://nhaudubon.org/wp-content/uploads/ReTreeUs-1-e1682785146935.jpeg
ORGANIZER;CN="Kimmie Whiteman":MAILTO:kwhiteman@nhaudubon.org
END:VEVENT
END:VCALENDAR