BEGIN:VCALENDAR
VERSION:2.0
PRODID:-//NH Audubon - ECPv6.15.11//NONSGML v1.0//EN
CALSCALE:GREGORIAN
METHOD:PUBLISH
X-WR-CALNAME:NH Audubon
X-ORIGINAL-URL:https://nhaudubon.org
X-WR-CALDESC:Events for NH Audubon
REFRESH-INTERVAL;VALUE=DURATION:PT1H
X-Robots-Tag:noindex
X-PUBLISHED-TTL:PT1H
BEGIN:VTIMEZONE
TZID:America/New_York
BEGIN:DAYLIGHT
TZOFFSETFROM:-0500
TZOFFSETTO:-0400
TZNAME:EDT
DTSTART:20220313T070000
END:DAYLIGHT
BEGIN:STANDARD
TZOFFSETFROM:-0400
TZOFFSETTO:-0500
TZNAME:EST
DTSTART:20221106T060000
END:STANDARD
BEGIN:DAYLIGHT
TZOFFSETFROM:-0500
TZOFFSETTO:-0400
TZNAME:EDT
DTSTART:20230312T070000
END:DAYLIGHT
BEGIN:STANDARD
TZOFFSETFROM:-0400
TZOFFSETTO:-0500
TZNAME:EST
DTSTART:20231105T060000
END:STANDARD
BEGIN:DAYLIGHT
TZOFFSETFROM:-0500
TZOFFSETTO:-0400
TZNAME:EDT
DTSTART:20240310T070000
END:DAYLIGHT
BEGIN:STANDARD
TZOFFSETFROM:-0400
TZOFFSETTO:-0500
TZNAME:EST
DTSTART:20241103T060000
END:STANDARD
END:VTIMEZONE
BEGIN:VEVENT
DTSTART;TZID=America/New_York:20230821T090000
DTEND;TZID=America/New_York:20230821T130000
DTSTAMP:20260421T175308
CREATED:20230724T190615Z
LAST-MODIFIED:20230726T154847Z
UID:10002127-1692608400-1692622800@nhaudubon.org
SUMMARY:Volunteer Work Day - Community Garden Installation Special Project
DESCRIPTION:We are installing a pollinator garden at the Beech Street Elementary school to be enjoyed by students\, faculty\, and the general public. The future goal is to have curriculum developed for the school as well as on-site materials to enhance visitor experience. Volunteers will help prep the site by removing pre-existing plants and shrubs\, leveling\, and filling in holes. This is a short-term volunteer project that will run from August – September 2023. Please visit here to sign up for this project\, or email volunteers@nhaudubon.org with any questions. \nAugust 21-24: Pre-existing plant and shrub removal\, site prep\, leveling\, and filling in holes. (Rain date August 25.)
URL:https://nhaudubon.org/event/volunteer-work-day-community-garden-installation-special-project-08-21-2023/
LOCATION:Beech Street Elementary School\, 333 Beech Street\, Manchester\, NH\, 03103\, United States
CATEGORIES:Volunteering
ATTACH;FMTTYPE=image/jpeg:https://nhaudubon.org/wp-content/uploads/garden-volunteers-e1690223864905.jpg
ORGANIZER;CN="Anita Fernandez":MAILTO:afernandez@nhaudubon.org
END:VEVENT
BEGIN:VEVENT
DTSTART;TZID=America/New_York:20230821T100000
DTEND;TZID=America/New_York:20230821T130000
DTSTAMP:20260421T175308
CREATED:20230719T213556Z
LAST-MODIFIED:20230725T134450Z
UID:10002121-1692612000-1692622800@nhaudubon.org
SUMMARY:Weekly Naturally Curious Family Program\, Nature Art - August 21
DESCRIPTION:Mondays: July 24 – September 4\, 2023. (Drop in any time 10am-1pm.) \nLocation: Paradise Point Nature Center. \nCome create a fun piece of nature art in or around the Paradise Point Nature Center. Creativity is encouraged as we use arts and crafts to explore themes and concepts in nature. Suitable for all ages but geared towards 3–7-year-olds. \nRSVP recommended (see below). \nThis event will happen rain or shine.
URL:https://nhaudubon.org/event/weekly-naturally-curious-family-program-08-21-2023/
LOCATION:Paradise Point Nature Center\, 290 Northshore Road\, Hebron\, 03241\, United States
ATTACH;FMTTYPE=image/jpeg:https://nhaudubon.org/wp-content/uploads/Angie-Krysiak-craft-pic.jpg
ORGANIZER;CN="Devin Guilfoyle":MAILTO:dguilfoyle@nhaudubon.org
END:VEVENT
END:VCALENDAR